BEGIN:VCALENDAR
VERSION:2.0
PRODID:-//Núria Cadenes - ECPv6.15.20//NONSGML v1.0//EN
CALSCALE:GREGORIAN
METHOD:PUBLISH
X-WR-CALNAME:Núria Cadenes
X-ORIGINAL-URL:https://nuriacadenes.cat
X-WR-CALDESC:Esdeveniments per Núria Cadenes
REFRESH-INTERVAL;VALUE=DURATION:PT1H
X-Robots-Tag:noindex
X-PUBLISHED-TTL:PT1H
BEGIN:VTIMEZONE
TZID:UTC
BEGIN:STANDARD
TZOFFSETFROM:+0000
TZOFFSETTO:+0000
TZNAME:UTC
DTSTART:20230101T000000
END:STANDARD
END:VTIMEZONE
BEGIN:VEVENT
DTSTART;TZID=UTC:20250402T190000
DTEND;TZID=UTC:20250402T203000
DTSTAMP:20260422T100008
CREATED:20250320T194720Z
LAST-MODIFIED:20250320T194720Z
UID:11256-1743620400-1743625800@nuriacadenes.cat
SUMMARY:'En carn i ossos' a València
DESCRIPTION:Amb l’actriu Pilar Almeria\, que ens en llegirà algun fragment\, i amb una conversa entre l’editor d’Ara Llibres\, Joan Carles Girbés\, i l’autora\, Núria Cadenes\, presentarem En carn i ossos a València. \nA la Fan Set\, és clar.
URL:https://nuriacadenes.cat/esdeveniment/en-carn-i-ossos-a-valencia/
LOCATION:llibreria Fan Set\, C/ de Sant Ferran\, 12\, València\, 46001
CATEGORIES:presentació
END:VEVENT
BEGIN:VEVENT
DTSTART;TZID=UTC:20250325T190000
DTEND;TZID=UTC:20250325T210000
DTSTAMP:20260422T100008
CREATED:20250320T195930Z
LAST-MODIFIED:20250320T195930Z
UID:11259-1742929200-1742936400@nuriacadenes.cat
SUMMARY:A Catarroja\, homenatge a Ramon Guillem
DESCRIPTION:“Tantes vegades m’has estimat” és un acte d’homenatge pòstum al poeta\, narrador\, assagista i dinamitzador cultural Ramon Guillem. \nAmb les paraules de benvinguda de Verònica Cantó\, presidenta de l’AVL\, i de Dolors Jimeno\, regidora de Cultura de Catarroja; amb un diàleg entre Jaume Pérez Montaner\, Carles Duarte\, Núria Cadenes i Marc Senabre; i amb una lectura de poemes a càrrec de Mercè Claramunt\, Marina Guillén\, Raimon Guillén\, Isabel Robles i Mercè Viana.
URL:https://nuriacadenes.cat/esdeveniment/a-catarroja-homenatge-a-ramon-guillem/
LOCATION:Saló de plens de l’Ajuntament de Catarroja\, Camí Reial\, 22\, Catarroja\, 46470
CATEGORIES:trobada
END:VEVENT
BEGIN:VEVENT
DTSTART;TZID=UTC:20250322T170000
DTEND;TZID=UTC:20250322T180000
DTSTAMP:20260422T100008
CREATED:20250311T082927Z
LAST-MODIFIED:20250311T083000Z
UID:11238-1742662800-1742666400@nuriacadenes.cat
SUMMARY:Alandes\, Aliaga\, Cadenes: junts al festival El Vi Fa Sang
DESCRIPTION:La taula rodona es titula “Sang fresca. El boom de la novel·la criminal en català al País Valencià”: dins del programa de la nova edició del festival El Vi Fa Sang (sí! torna!)\, taula rodona amb Juli Alandes\, Xavier Aliaga i Núria Cadenes\, conduïts pel (també negrot) Sebastià Bennasar.
URL:https://nuriacadenes.cat/esdeveniment/alandes-aliaga-cadenes-junts-al-festival-el-vi-fa-sang/
LOCATION:Sala Maria Font del Museu Terra\, Carretera de Montblanc\, 35\, L'Espluga de Francolí\, 43440
CATEGORIES:taula rodona
END:VEVENT
BEGIN:VEVENT
DTSTART;TZID=UTC:20250316T140000
DTEND;TZID=UTC:20250316T170000
DTSTAMP:20260422T100008
CREATED:20250227T083926Z
LAST-MODIFIED:20250227T090539Z
UID:11182-1742133600-1742144400@nuriacadenes.cat
SUMMARY:Banquet literari romà al Molí de l'Escala
DESCRIPTION:El cuiner Jordi Jacas\, al capdavant del Molí de l’Escala\, prepara un fastuós banquet romà: un dinar literari que tindrà sobretaula amb l’arqueòleg del MAC Empúries\, Quim Tremoleda\, i amb Núria Cadenes i el seu Tiberi Cèsar. \nUn esdeveniment presentat per Camil Ros. \nCarpe diem! \n(preu: 65 € – més informació i reserves: 972 77 47 27)
URL:https://nuriacadenes.cat/esdeveniment/banquet-literari-cuina-romana-al-moli-de-lescala/
LOCATION:Molí de l’Escala\, Camí Vell a les Corts\, s/n\, L'Escala\, 17130
CATEGORIES:trobada
END:VEVENT
BEGIN:VEVENT
DTSTART;TZID=UTC:20250315T173000
DTEND;TZID=UTC:20250315T183000
DTSTAMP:20260422T100008
CREATED:20250311T081450Z
LAST-MODIFIED:20250311T081450Z
UID:11231-1742059800-1742063400@nuriacadenes.cat
SUMMARY:A l'Escala\, els llibres de la meva vida
DESCRIPTION:Tantes Romes com hi ha dins de la Roma inacabable! La setena edició de la Vila del Llibre a l’Escala du per lema “De Roma a Empúries; d’Itàlia a l’Escala” i és plena d’activitats. \nDissabte a la tarda\, conversa amb Núria Cadenes conduïda per Sebastià Bennasar: “Els llibres de la meva vida”.
URL:https://nuriacadenes.cat/esdeveniment/a-lescala-els-llibres-de-la-meva-vida/
LOCATION:Alfolí de la Sal\, C/ de l'Alfolí\, 6\, L'Escala\, 17130
CATEGORIES:taula rodona
END:VEVENT
BEGIN:VEVENT
DTSTART;TZID=UTC:20250313T190000
DTEND;TZID=UTC:20250313T203000
DTSTAMP:20260422T100008
CREATED:20250311T075616Z
LAST-MODIFIED:20250311T080328Z
UID:11224-1741892400-1741897800@nuriacadenes.cat
SUMMARY:Ovidi ferotge\, a Canet
DESCRIPTION:Per commemorar els trenta anys que fa que vivim sense l’Ovidi Montllor\, per cantar-lo i homenatjar-lo i continuar celebrant tant com ens ha regalat\, la Plataforma per la Llengua ha organitzat aquesta festa a Canet de Mar. \nAmb Miquel Pujadó i Pau Parra i Albert Dotras i Núria Cadenes i l’Escola de Música de Canet de Mar.
URL:https://nuriacadenes.cat/esdeveniment/ovidi-ferotge-a-canet/
LOCATION:Sala Centru\, C/ d'Eusebi Golart\, 16-18\, Canet de Mar\, 08360
CATEGORIES:trobada
END:VEVENT
BEGIN:VEVENT
DTSTART;TZID=UTC:20250312T190000
DTEND;TZID=UTC:20250312T203000
DTSTAMP:20260422T100008
CREATED:20250227T092900Z
LAST-MODIFIED:20250305T115603Z
UID:11191-1741806000-1741811400@nuriacadenes.cat
SUMMARY:'En carn i ossos'\, primera presentació: Barcelona
DESCRIPTION:Alguns dels relats que formen En carn i ossos (AraLlibres) es van forjar a Sanià\, la residència literària Finestres. I per això fa tanta alegria que la primera presentació sigui precisament a la llibreria Finestres de Barcelona: com un tornar a casa per poder començar el viatge. \nSi\, a sobre\, tens la sort de la conversa amb l’escriptor i periodista Joan Safont\, l’emoció ja és total. \n(més informació i reserves\, aquí: https://www.llibreriafinestres.com/evento/nuria-cadenes/)
URL:https://nuriacadenes.cat/esdeveniment/en-carn-i-ossos-primera-presentacio-barcelona/
LOCATION:Llibreria Finestres\, C/ de la Diputació\, 249\, Barcelona\, 08007
CATEGORIES:presentació
END:VEVENT
BEGIN:VEVENT
DTSTART;TZID=UTC:20250228T190000
DTEND;TZID=UTC:20250228T203000
DTSTAMP:20260422T100008
CREATED:20250124T101801Z
LAST-MODIFIED:20250124T101801Z
UID:11153-1740769200-1740774600@nuriacadenes.cat
SUMMARY:'Tiberi Cèsar' a la Floresta
DESCRIPTION:Les àligues de Tiberi Cèsar sobrevolen la Floresta (Vallès Occidental) i hi aterraran a final de febrer. \nAdrià Mor acompanyarà Núria Cadenes en aquesta presentació de la novel·la.
URL:https://nuriacadenes.cat/esdeveniment/tiberi-cesar-a-la-floresta/
LOCATION:Centre Social i Sanitari\, C/ de Pearson\, 36\, la Floresta\, 08198
CATEGORIES:presentació
END:VEVENT
BEGIN:VEVENT
DTSTART;TZID=UTC:20250220T163000
DTEND;TZID=UTC:20250220T203000
DTSTAMP:20260422T100008
CREATED:20250120T184733Z
LAST-MODIFIED:20250120T184733Z
UID:11124-1740069000-1740083400@nuriacadenes.cat
SUMMARY:II Seminari de Poesia
DESCRIPTION:“Quotidianitat i estranyesa en la creació poètica” és el títol del II Seminari de poesia que organitza l’Associació d’Escriptors en Llengua Catalana. \nA les 16.30\, conferència inaugural a càrrec de Susanna Lliberós\, presentada per Maria Bravo: “El miracle de la quotidianitat. La vida dins del poema” \na les 17.30\, conversa amb Enric Casasses\, conduïda per Núria Cadenes \nA les 18.30\, Taula rodona amb Joaquim Cano\, Xènia Dyakonova\, Maria Josep Escrivà i Pau Vadell\, moderats per Victòria E. Cremades Gonzàlez: “Quotidianitat i estranyesa: distància o proximitat?”
URL:https://nuriacadenes.cat/esdeveniment/ii-seminari-de-poesia/
LOCATION:OctubreCCC\, C/ de Sant Ferran\, 12\, València\, 46001
CATEGORIES:trobada
END:VEVENT
BEGIN:VEVENT
DTSTART;TZID=UTC:20250130T190000
DTEND;TZID=UTC:20250130T203000
DTSTAMP:20260422T100008
CREATED:20250119T105737Z
LAST-MODIFIED:20250119T105737Z
UID:11119-1738263600-1738269000@nuriacadenes.cat
SUMMARY:A Torrent\, 'Renàixer del fang'
DESCRIPTION:Doble presentació a Torrent (Horta Sud): Núria Cadenes i Ricard Chulià\, dos dels autors que han participat en aquest llibre col·lectiu\, parlaran de Renàixer del fang (Ara Llibres). \nA més a més\, Chulià també hi presentarà el seu Pla sud: eixida d’emergència en cas de riuada (Afers). \nEls acompanyarà el músic i cantant torrentí Pau Alabajos.
URL:https://nuriacadenes.cat/esdeveniment/a-torrent-renaixer-del-fang/
LOCATION:Nova Llibres\, C/ del Pare Méndez\, 83\, Torrent\, 46900
CATEGORIES:presentació
END:VEVENT
BEGIN:VEVENT
DTSTART;TZID=UTC:20250129T180000
DTEND;TZID=UTC:20250129T193000
DTSTAMP:20260422T100008
CREATED:20250102T091013Z
LAST-MODIFIED:20250102T091013Z
UID:10625-1738173600-1738179000@nuriacadenes.cat
SUMMARY:Cicle premis Nobel: Han Kang
DESCRIPTION:Com cada any\, quan arriba gener\, l’Espai Ciència de l’OctubreCCC organitza el Cicle Premis Nobel. \nPer parlar del Nobel de Literatura 2024\, atorgat a l’escriptora sud-coreana Han Kang\, comptarem amb Hèctor López Bofill i Hye Young Yu\, que l’han traduïda al català. Acte presentat i moderat per Núria Cadenes.
URL:https://nuriacadenes.cat/esdeveniment/cicle-premis-nobel-han-kang/
LOCATION:OctubreCCC\, C/ de Sant Ferran\, 12\, València\, 46001
CATEGORIES:taula rodona
END:VEVENT
BEGIN:VEVENT
DTSTART;TZID=UTC:20250122T190000
DTEND;TZID=UTC:20250122T193000
DTSTAMP:20260422T100008
CREATED:20250120T192237Z
LAST-MODIFIED:20250120T192237Z
UID:11127-1737572400-1737574200@nuriacadenes.cat
SUMMARY:Mirar amb ulls de ficció
DESCRIPTION:Als Diàlegs en Línia de l’Associació Col·legial d’Escriptors de Catalunya\, “Mirar amb ulls de ficció”: Núria Cadenes conversa amb Ada Castells sobre el llibre de relats En carn i ossos (Ara Llibres). \nAls canals de l’ACEC: a Facebook i Youtube.
URL:https://nuriacadenes.cat/esdeveniment/mirar-amb-ulls-de-ficcio/
END:VEVENT
BEGIN:VEVENT
DTSTART;TZID=UTC:20241219T183000
DTEND;TZID=UTC:20241219T200000
DTSTAMP:20260422T100008
CREATED:20241218T105907Z
LAST-MODIFIED:20241218T105907Z
UID:10605-1734633000-1734638400@nuriacadenes.cat
SUMMARY:A l'Ateneu Barcelonès\, "I després de la DANA\, què?"
DESCRIPTION:És un acte en solidaritat amb la cultura als municipis afectats per la DANA al País Valencià. \nAmb intervencions de Jan Brurgueras\, Núria Cadenes\, Joan Carles Girbés\, Anric Morera\, Vicent Partal i Emma Zafón. Amb vídeos de Vicent Olmos i les llibreteres de La Muixeranga. I amb música d’Enric Peidró Quartet. \nEls donatius\, amb el concepte DANA\, es poden fer durant tota la setmana al següent enllaç: https://ateneubcn.cat/donatiu-per-la-reconstruccio-del-sector-cultural-del-pais-valencia/ \n 
URL:https://nuriacadenes.cat/esdeveniment/a-lateneu-barcelones-i-despres-de-la-dana-que/
LOCATION:Ateneu Barcelonès\, C/ de la Canuda\, 6\, Barcelona\, 08002
CATEGORIES:taula rodona
END:VEVENT
BEGIN:VEVENT
DTSTART;TZID=UTC:20241128T183000
DTEND;TZID=UTC:20241128T200000
DTSTAMP:20260422T100008
CREATED:20241122T094551Z
LAST-MODIFIED:20241128T092808Z
UID:10574-1732818600-1732824000@nuriacadenes.cat
SUMMARY:A La Repartidora\, 'En encesa espera'
DESCRIPTION:És la crònica de l’anomenada”Operació Garzón” i la desgrana impecablement l’advocat Benet Salellas. \nPresentació a València del llibre En encesa espera (Tigre de Paper)\, amb l’autor i amb l’escriptora Núria Cadenes\, que n’ha escrit l’epíleg.
URL:https://nuriacadenes.cat/esdeveniment/a-la-repartidora-en-encesa-espera/
LOCATION:La Repartidora\, C/ del Reverend Rafael Tramoyeres\, 8\, València\, 46020
CATEGORIES:presentació
END:VEVENT
BEGIN:VEVENT
DTSTART;TZID=UTC:20241024T193000
DTEND;TZID=UTC:20241024T210000
DTSTAMP:20260422T100008
CREATED:20241022T152814Z
LAST-MODIFIED:20241022T152814Z
UID:10545-1729798200-1729803600@nuriacadenes.cat
SUMMARY:Club de lectura a Portocolom - 'Tiberi Cèsar'
DESCRIPTION:Continua el clicle Lletres Compartides: club de lectura sobre Tiberi Cèsar\, amb Núria Cadenes.
URL:https://nuriacadenes.cat/esdeveniment/club-de-lectura-a-portocolom-tiberi-cesar/
LOCATION:Biblioteca de Portocolom\, C/ d'En Cristòfor Colom\, 52\, Portocolom\, 07670
CATEGORIES:club de lectura
END:VEVENT
BEGIN:VEVENT
DTSTART;TZID=UTC:20241023T193000
DTEND;TZID=UTC:20241023T210000
DTSTAMP:20260422T100008
CREATED:20241022T151932Z
LAST-MODIFIED:20241022T151932Z
UID:10540-1729711800-1729717200@nuriacadenes.cat
SUMMARY:Club de lectura a Sa Pobla - 'Tiberi Cèsar'
DESCRIPTION:En el marc del cicle Lletres Compartides\, club de lectura sobre Tiberi Cèsar\, amb Núria Cadenes.
URL:https://nuriacadenes.cat/esdeveniment/club-de-lectura-a-sa-pobla-tiberi-cesar/
LOCATION:Biblioteca de Sa Pobla – Centre Cultural Es Rafal\, C/ Assalto\, 14\, Sa Pobla\, 07420
CATEGORIES:club de lectura
END:VEVENT
BEGIN:VEVENT
DTSTART;TZID=UTC:20241022T190000
DTEND;TZID=UTC:20241022T203000
DTSTAMP:20260422T100008
CREATED:20241007T122336Z
LAST-MODIFIED:20241007T122409Z
UID:10516-1729623600-1729629000@nuriacadenes.cat
SUMMARY:Conversa\, a Palma\, amb Cati Moyà
DESCRIPTION:“Converses” és un cicle de baules\, de genealogies\, una mirada “a la narrativa més actual per conversar amb algunes de les dones que protagonitzen aquest moment d’auge”. \nLa propera cita és a Embat Llibres\, una conversa entre l’escriptora Núria Cadenes i la periodista Cati Moyà a propòsit de Tiberi Cèsar.
URL:https://nuriacadenes.cat/esdeveniment/conversa-a-palma-amb-cati-moya/
LOCATION:Embat Llibres\, Passatge Particular Joan XXIII\, s/n\, Palma\, 07002
CATEGORIES:trobada
END:VEVENT
BEGIN:VEVENT
DTSTART;TZID=UTC:20241018T193000
DTEND;TZID=UTC:20241018T213000
DTSTAMP:20260422T100008
CREATED:20241015T191651Z
LAST-MODIFIED:20241015T191651Z
UID:10524-1729279800-1729287000@nuriacadenes.cat
SUMMARY:Què seríem sense València
DESCRIPTION:Dins del marc de les Jornades de Pensament Nacional Repensem-nos\, tercera sessió per parlar del sud del país\, i del conjunt que formem\, amb l’escriptora Núria Cadenes\, el filòleg Gerard Furest i el periodista Vicent Sanchis: “Què seríem sense València?”
URL:https://nuriacadenes.cat/esdeveniment/que-seriem-sense-valencia/
LOCATION:Fòrum Berger Balaguer\, Rambla de Nostra Senyora\, 6\, Vilafranca del Penedès\, 08720
CATEGORIES:taula rodona
END:VEVENT
BEGIN:VEVENT
DTSTART;TZID=UTC:20241017T193000
DTEND;TZID=UTC:20241017T210000
DTSTAMP:20260422T100008
CREATED:20241007T114158Z
LAST-MODIFIED:20241016T192712Z
UID:10505-1729193400-1729198800@nuriacadenes.cat
SUMMARY:Trobada literària a Vilafranca
DESCRIPTION:Els llibres que són\, els que seran\, els referents: tertúlia literària del Centre Artístic del Penedès L’Agrícol: Núria Cadenes conversarà amb Judit Jansà\, Jaume Marfany i Aina Soler.
URL:https://nuriacadenes.cat/esdeveniment/trobada-literaria-a-vilafranca/
LOCATION:L’Agrícol\, Passatge d'Alcover\, 2\, Vilafranca del Penedès\, 08720
CATEGORIES:trobada
END:VEVENT
BEGIN:VEVENT
DTSTART;TZID=UTC:20241017T120000
DTEND;TZID=UTC:20241017T133000
DTSTAMP:20260422T100008
CREATED:20240924T093946Z
LAST-MODIFIED:20241016T210306Z
UID:10475-1729166400-1729171800@nuriacadenes.cat
SUMMARY:Història novel·lada a Lleida
DESCRIPTION:Primera edició d’Horitzons història\, un esdeveniment biennal per compartir la passió per la divulgació històrica. Hi haurà una jornada dedicada als historiadors (el 14 d’octubre)\, una d’homenatge a Joan B. Culla (el 16)\, i\, el 17 d’octubre\, centrada en la divulgació. \nDes de les 10 del matí\, taules rodones per a la ràdio\, la premsa o les xarxes socials. A les 12 en punt serà l’hora de la literatura: Pep Coll\, Núria Cadenes i Tània Juste hi parlaran d'”Història novel·lada” amb la moderació d’Enric Calpena. \nAquí\, tota la informació: Jornada de divulgació de la història. \n 
URL:https://nuriacadenes.cat/esdeveniment/historia-novellada-a-lleida/
LOCATION:Universitat de Lleida\, Plaça de Víctor Siurana\, 1\, Lleida\, 25003
CATEGORIES:taula rodona
END:VEVENT
BEGIN:VEVENT
DTSTART;TZID=UTC:20241010T200000
DTEND;TZID=UTC:20241010T213000
DTSTAMP:20260422T100008
CREATED:20241003T082431Z
LAST-MODIFIED:20241007T112834Z
UID:10495-1728590400-1728595800@nuriacadenes.cat
SUMMARY:Per Guillem Agulló\, a Cocentaina
DESCRIPTION:Les activitats al voltant del 9 d’Octubre\, a Cocentaina\, són intenses i variades i inclouen una conversa a propòsit de la novel·la Guillem (Amsterdam): amb Guillem Agulló pare\, l’activista David Fernàndez i l’escriptora Núria Cadenes; ho moderarà la regidora de Cultura\, Berta Íñiguez.
URL:https://nuriacadenes.cat/esdeveniment/per-guillem-agullo-a-cocentaina/
LOCATION:Casa de la Joventut\, Pla de la Font\, 10\, Cocentaina\, 03820
CATEGORIES:taula rodona
END:VEVENT
BEGIN:VEVENT
DTSTART;TZID=UTC:20241005T120000
DTEND;TZID=UTC:20241005T133000
DTSTAMP:20260422T100008
CREATED:20240924T090146Z
LAST-MODIFIED:20240924T090146Z
UID:10469-1728129600-1728135000@nuriacadenes.cat
SUMMARY:A Ontinyent\, diàleg amb Carlos Zanón
DESCRIPTION:Un diàleg sobre literatura\, la passió pel gènere negre\, la determinació d’escriure amb llibertat. \nDel braç de la gent d’Ontinyent Negre\, Carlos Zanón\, amb Love song (Salamandra)\, la seva novel·la de rockers crepusculars\, i Núria Cadenes\, amb Tiberi Cèsar (Proa)\, el viatge literari a la crueltat i la poesia de la Roma clàssica\, conversaran sobre els quès i els coms literaris\, i les dissidències\, i les afinitats.
URL:https://nuriacadenes.cat/esdeveniment/a-ontinyent-dialeg-zanon-cadenes/
LOCATION:Museu Tèxtil\, C/ del Músic Úbeda\, 6\, Ontinyent\, 46870
CATEGORIES:taula rodona
END:VEVENT
BEGIN:VEVENT
DTSTART;TZID=UTC:20241003T190000
DTEND;TZID=UTC:20241003T203000
DTSTAMP:20260422T100008
CREATED:20240714T103709Z
LAST-MODIFIED:20240714T103709Z
UID:10396-1727982000-1727987400@nuriacadenes.cat
SUMMARY:La biografia de Josep Pla\, a València
DESCRIPTION:La publicació d’aquesta intensa biografia del gran homenot de les lletres és tot un esdeveniment. I que arribi a València\, també. \nPresentació del llibre Un cor furtiu. Vida de Josep Pla (Destino)\, de Xavier Pla\, en conversa amb l’escriptora Núria Cadenes.
URL:https://nuriacadenes.cat/esdeveniment/la-biografia-de-josep-pla-a-valencia/
LOCATION:llibreria Fan Set\, C/ de Sant Ferran\, 12\, València\, 46001
CATEGORIES:presentació
END:VEVENT
BEGIN:VEVENT
DTSTART;TZID=UTC:20240919T193000
DTEND;TZID=UTC:20240919T220000
DTSTAMP:20260422T100008
CREATED:20240905T104922Z
LAST-MODIFIED:20240905T104922Z
UID:10427-1726774200-1726783200@nuriacadenes.cat
SUMMARY:Tiberi\, al Sopar Estellés de Palamós
DESCRIPTION:Celebració de la paraula al Sopar Estellés de Palamós: \nConversa sobre Tiberi Cèsar (Proa) amb la seva autora\, Núria Cadenes (19.30 h.); recital de Vicent Andrés Estellés a càrrec de Gespateatre (20.10 h.); show cooking de cuina marinera amb peix de la llotja de Palamós (20.40 h.) i\, a les 21.20\, Josep Tero canta Salvat-Papasseit. \n(Les places són limitades\, i els tiquets es poden aconseguir aquí: ja.cat/estelles)
URL:https://nuriacadenes.cat/esdeveniment/tiberi-al-sopar-estelles-de-palamos/
LOCATION:Espai del Peix\, Moll Pesquer\, s/n\, Palamós\, 17230
CATEGORIES:presentació
END:VEVENT
BEGIN:VEVENT
DTSTART;TZID=UTC:20240918T193000
DTEND;TZID=UTC:20240918T210000
DTSTAMP:20260422T100008
CREATED:20240916T153021Z
LAST-MODIFIED:20240916T153021Z
UID:10459-1726687800-1726693200@nuriacadenes.cat
SUMMARY:'En encesa espera'\, de Benet Salellas\, a Palamós
DESCRIPTION:És un relat precís sobre la ràtzia olímpica contra l’independentisme català. Precís i poètic i punyent i documentat i ben escrit. Imprescindible. \nL’ha escrit l’advocat Benet Salellas a partir de la documentació que guardava el seu pare\, Sebastià Salellas\, que va assistir els independentistes durant el seu processament i també després\, quan van denunciar l’estat espanyol per les tortures que els havien infligit. \nEn encesa espera (Tigre de Paper) es presentarà a Palamós en un axcte que comptarà amb la presència de l’autor\, acompanyat per Núria Cadenes. \n(Hi haurà punt de venda de llibres a càrrec de Can Romero)
URL:https://nuriacadenes.cat/esdeveniment/en-encesa-espera-de-benet-salellas-a-palamos/
LOCATION:Biblioteca Lluís Barceló i Bou\, Passeig dels Països Catalans\, 1\, Palamós\, 17230
CATEGORIES:presentació
END:VEVENT
BEGIN:VEVENT
DTSTART;TZID=UTC:20240912T190000
DTEND;TZID=UTC:20240912T203000
DTSTAMP:20260422T100008
CREATED:20240905T103257Z
LAST-MODIFIED:20240905T103257Z
UID:10423-1726167600-1726173000@nuriacadenes.cat
SUMMARY:Verdcel\, Arbre Vital
DESCRIPTION:És la presentació del conjunt que formen Petricor i ReSàmara\, dos treballs de Verdcel i a l’estil de Verdcel (amb cançons i novel·la gràfica i textos d’altres autors i olors i tant) que han titulat Arbre Vital. \nAmb l’il·lustrador Daniel Olmo i el músic i escriptor Alfons Olmo\, Verdcel\, acompanyats de l’escriptora Núria Cadenes.
URL:https://nuriacadenes.cat/esdeveniment/verdcel-arbre-vital/
LOCATION:llibreria Fan Set\, C/ de Sant Ferran\, 12\, València\, 46001
CATEGORIES:presentació
END:VEVENT
BEGIN:VEVENT
DTSTART;TZID=UTC:20240823T190000
DTEND;TZID=UTC:20240823T203000
DTSTAMP:20260422T100008
CREATED:20240626T181804Z
LAST-MODIFIED:20240626T181804Z
UID:10369-1724439600-1724445000@nuriacadenes.cat
SUMMARY:A l'Escala\, Tiberi amb barca
DESCRIPTION:A la llibreria Vitel·la organitzen coses tan precioses com aquest cicle que puja la literatura dalt d’una barca: “Una mar de lletres” són capvespres literaris per veure pondre’s el sol dalt de la barca i parlar de literatura. \nTiberi Cèsar hi navegarà de gust. \n(telèfons de reserves: 972 77 37 97 i 656527354)
URL:https://nuriacadenes.cat/esdeveniment/a-lescala-tiberi-amb-barca/
LOCATION:port de l’Escala\, C/ Port de la Clota\, 20\, L'Escala\, 17130
CATEGORIES:presentació
END:VEVENT
BEGIN:VEVENT
DTSTART;TZID=UTC:20240709T200000
DTEND;TZID=UTC:20240709T210000
DTSTAMP:20260422T100008
CREATED:20240702T085328Z
LAST-MODIFIED:20240702T085328Z
UID:10378-1720555200-1720558800@nuriacadenes.cat
SUMMARY:'Guillem' a la Setmana Negra de Xixón
DESCRIPTION:La traducció de Guillem a l’asturià arriba també a la Setmana Negra de Xixón. \nUna trobada amb l’autora\, Núria Cadenes; el traductor\, Miguel Sánchez Canella; i l’editor de la col·lecció Calume (Trabe)\, Rafael R. Valdés. \nA la Carpa A Quemarropa.
URL:https://nuriacadenes.cat/esdeveniment/guillem-a-la-setmana-negra-de-xixon/
LOCATION:Setmana Negra de Xixón\, Astilleros Naval - C/ de Mariano Pola\, 36\, Xixón\, 33212
CATEGORIES:presentació
END:VEVENT
BEGIN:VEVENT
DTSTART;TZID=UTC:20240703T200000
DTEND;TZID=UTC:20240703T210000
DTSTAMP:20260422T100009
CREATED:20240619T072807Z
LAST-MODIFIED:20240702T184414Z
UID:10357-1720036800-1720040400@nuriacadenes.cat
SUMMARY:'Tiberi Cèsar' a la Universitat Santjustenca d'Estiu
DESCRIPTION:Del 26 de juny\, amb Jaume C. Pons Alorda\, fins el 24 de juliol\, amb Xavier Casals\, la llibreria Cal Llibreter organitza la Universitat Santjustenca d’Estiu. \nEl 3 de juliol\, “Vida i pors de Tiberi Cèsar\, l’emperador a l’ombra”. \nDavant de la llibreria\, història i literatura a la fresca.
URL:https://nuriacadenes.cat/esdeveniment/tiberi-cesar-a-la-universitat-santjustenca-destiu/
LOCATION:Cal Llibreter\, C/ de Bonavista\, 81\, Sant Just Desvern\, 08960
CATEGORIES:presentació
END:VEVENT
BEGIN:VEVENT
DTSTART;TZID=UTC:20240523T190000
DTEND;TZID=UTC:20240523T194500
DTSTAMP:20260422T100009
CREATED:20240426T101210Z
LAST-MODIFIED:20240426T101210Z
UID:10284-1716490800-1716493500@nuriacadenes.cat
SUMMARY:'Tiberi Cèsar'\, a la Tarraco Viva
DESCRIPTION:El el festival de la romanitat per excel·lència\, i les àligues de Tiberi Cèsar no hi podien faltar. \nDel bracet de la llibreria Adserà\, presentació de la novel·la i col·loqui amb l’autora.
URL:https://nuriacadenes.cat/esdeveniment/tiberi-cesar-a-la-tarraco-viva/
LOCATION:llibreria Adserà\, Rambla Nova\, 94\, Tarragona\, 43001
CATEGORIES:presentació
END:VEVENT
END:VCALENDAR