BEGIN:VCALENDAR
VERSION:2.0
PRODID:-//Núria Cadenes - ECPv6.15.20//NONSGML v1.0//EN
CALSCALE:GREGORIAN
METHOD:PUBLISH
X-ORIGINAL-URL:https://nuriacadenes.cat
X-WR-CALDESC:Esdeveniments per Núria Cadenes
REFRESH-INTERVAL;VALUE=DURATION:PT1H
X-Robots-Tag:noindex
X-PUBLISHED-TTL:PT1H
BEGIN:VTIMEZONE
TZID:UTC
BEGIN:STANDARD
TZOFFSETFROM:+0000
TZOFFSETTO:+0000
TZNAME:UTC
DTSTART:20170101T000000
END:STANDARD
END:VTIMEZONE
BEGIN:VEVENT
DTSTART;TZID=UTC:20200926T190000
DTEND;TZID=UTC:20200926T203000
DTSTAMP:20260424T152422
CREATED:20200918T080620Z
LAST-MODIFIED:20200925T100042Z
UID:7518-1601146800-1601152200@nuriacadenes.cat
SUMMARY:'Guillem' a Vilanova i la Geltrú
DESCRIPTION:  \nPresentació de Guillem a Vilanova i la Geltrú (Garraf). \nAmb les intervencions de Marcel Meya\, cocap de colla dels Bordegassos\, Jordi Arnal i Núria Cadenes. \nCapacitat del local limitada. Per a assistir-hi\, cal lliurer l’entrada gratuïta que es pot recollir a: llibreria la Mulassa\, Ateneu\, bar Itàlia\, local social dels Bordegassos\, la Sala. \n  \n 
URL:https://nuriacadenes.cat/esdeveniment/guillem-a-vilanova-i-la-geltru/
LOCATION:Centre d’Art Contemporani la Sala\, C/ de Joaquim Mir\, 12\, Vilanova i la Geltrú\, 08800
CATEGORIES:presentació
END:VEVENT
BEGIN:VEVENT
DTSTART;TZID=UTC:20200919T120000
DTEND;TZID=UTC:20200919T133000
DTSTAMP:20260424T152422
CREATED:20200916T100702Z
LAST-MODIFIED:20200918T080842Z
UID:7509-1600516800-1600522200@nuriacadenes.cat
SUMMARY:'Guillem' a l'Espluga de Francolí
DESCRIPTION:Presentació de Guillem a l’Espluga de Francolí (Conca de Barberà). \nNúria Cadenes i el periodista Òscar Palau. \nAmb Òmnium Cultural. \nHi cal inscripció prèvia: https://form.jotformeu.com/202581406008346 \n 
URL:https://nuriacadenes.cat/esdeveniment/guillem-a-lespluga-de-francoli/
LOCATION:Jardins dels Francolins\, Plaça de Montserrat Canals\, L'Espluga de Francolí\, 43440
CATEGORIES:presentació
END:VEVENT
BEGIN:VEVENT
DTSTART;TZID=UTC:20200912T193000
DTEND;TZID=UTC:20200912T203000
DTSTAMP:20260424T152422
CREATED:20200907T092538Z
LAST-MODIFIED:20200907T092538Z
UID:7489-1599939000-1599942600@nuriacadenes.cat
SUMMARY:Signatura a La Setmana
DESCRIPTION:  \n  \nA La Setmana del Llibre en Català\, signatura d’exemplars de la novel·la-documental Guillem (Amsterdam). \nA l’Espai Signatura 3. \n 
URL:https://nuriacadenes.cat/esdeveniment/signatura-a-la-setmana/
LOCATION:Moll de la Fusta\, Barcelona\, 08002
CATEGORIES:signatura
END:VEVENT
BEGIN:VEVENT
DTSTART;TZID=UTC:20200911T213000
DTEND;TZID=UTC:20200911T233000
DTSTAMP:20260424T152422
CREATED:20200905T182948Z
LAST-MODIFIED:20200905T183108Z
UID:7465-1599859800-1599867000@nuriacadenes.cat
SUMMARY:Amb l'Ovidi\, a Sant Pol
DESCRIPTION:  \nCelebració de l’Any Ovidi a Sant Pol de Mar (Maresme). \nXerrada amb Núria Cadenes\, autora del llibre L’Ovidi\, i amb Quirze Planet\, activista cultural. \nConcert amb Arturo Gaya\, Sergi Trenzano i Kike Pellicer. \nTaquilla inversa. Aforament limitat. Assistència amb inscipcions prèvies a partir del dia 7 de setembre a la web santpoldemar.cup.cat.
URL:https://nuriacadenes.cat/esdeveniment/amb-lovidi-a-sant-pol/
LOCATION:Plaça de l’Hotel\, Sant Pol de Mar\, 08395
CATEGORIES:taula rodona
END:VEVENT
BEGIN:VEVENT
DTSTART;TZID=UTC:20200326T193000
DTEND;TZID=UTC:20200326T203000
DTSTAMP:20260424T152422
CREATED:20200302T091508Z
LAST-MODIFIED:20200317T182144Z
UID:7161-1585251000-1585254600@nuriacadenes.cat
SUMMARY:(ajornada) Presentació a La Tribu - Barcelona
DESCRIPTION:  \n  \nUna conversa amb el periodista Antonio Baños. \nPer presentar-hi Guillem (Amsterdam) i parlar de la memòria\, la literatura\, la vida
URL:https://nuriacadenes.cat/esdeveniment/presentacio-a-latribu-barcelona/
LOCATION:La Tribu llibreria\, C/ de Pons i Gallarza\, 30\, Barcelona\, 08030
CATEGORIES:presentació
END:VEVENT
BEGIN:VEVENT
DTSTART;TZID=UTC:20200319T123000
DTEND;TZID=UTC:20200319T133000
DTSTAMP:20260424T152422
CREATED:20200302T092347Z
LAST-MODIFIED:20200317T182341Z
UID:7167-1584621000-1584624600@nuriacadenes.cat
SUMMARY:(ajornada) 'Guillem' a Cal Llibreter - Sant Just Desvern
DESCRIPTION:  \n  \nPresentació de Guillem (Amsterdam). \n 
URL:https://nuriacadenes.cat/esdeveniment/guillem-a-cal-llibreter-sant-just-desvern/
LOCATION:Cal Llibreter\, C/ de Bonavista\, 81\, Sant Just Desvern\, 08960
CATEGORIES:presentació
END:VEVENT
BEGIN:VEVENT
DTSTART;TZID=UTC:20200304T190000
DTEND;TZID=UTC:20200304T203000
DTSTAMP:20260424T152422
CREATED:20200302T085738Z
LAST-MODIFIED:20200302T085935Z
UID:7154-1583348400-1583353800@nuriacadenes.cat
SUMMARY:Presentació de 'Guillem' a València
DESCRIPTION:Presentarem el llibre Guillem (Amsterdam) i celebrarem la vida. \nAmb Guillem Agulló\, pare de Guillem\, i amb Betlem Agulló\, germana. I amb Miquel Ramos\, periodista\, i Rafa Molés\, productor del film La mort de Guillem. \nMemòria i homenatge al cicle Debats per la vida.
URL:https://nuriacadenes.cat/esdeveniment/guillem-valencia/
LOCATION:OctubreCCC\, C/ de Sant Ferran\, 12\, València\, 46001
CATEGORIES:presentació
END:VEVENT
BEGIN:VEVENT
DTSTART;TZID=UTC:20200301T103000
DTEND;TZID=UTC:20200301T120000
DTSTAMP:20260424T152422
CREATED:20200228T100427Z
LAST-MODIFIED:20200228T100427Z
UID:7142-1583058600-1583064000@nuriacadenes.cat
SUMMARY:Cafè negre a Ontinyent
DESCRIPTION:  \nTertúlia sobre literatura negra tot prenent un cafè negre a la Setmana Negra d’Ontinyent. \nNegror absoluta. \nAmb Xavier Aliaga i Núria Cadenes: collita negra del setanta.
URL:https://nuriacadenes.cat/esdeveniment/cafe-negre-a-ontinyent/
LOCATION:Hotel Kazar\, C/ del Dos de maig\, 117\, Ontinyent\, 46870
CATEGORIES:taula rodona
END:VEVENT
BEGIN:VEVENT
DTSTART;TZID=UTC:20200207T160000
DTEND;TZID=UTC:20200207T173000
DTSTAMP:20260424T152422
CREATED:20200126T190355Z
LAST-MODIFIED:20200207T085340Z
UID:7042-1581091200-1581096600@nuriacadenes.cat
SUMMARY:Amb Vian\, a la BCNegra
DESCRIPTION:Ara fa cent anys naixia Boris Vian\, enginyer\, novel·lista\, poeta i músic de jazz. El festival BCNegra ho commemora\, també\, amb la taula rodona “L’horta de Boris Vian“. \nAmb Raynald Colom\, trompetista i compositor; Alfred Crespo\, codirector de la revista especialitzada en música i cultura popular Ruta 66; i Núria Cadenes\, escriptora. I amb l’escriptor i periodista musical Manuel López Poy\, que ho moderarà. \nTota la informació\, aquí: L’horta de Boris Vian \nI\, aquí\, el programa sencer: BCNegra
URL:https://nuriacadenes.cat/esdeveniment/boris-vian-cadenes-bcnegra/
LOCATION:Aribau Multicines\, C/ d'Aribau\, 5\, Barcelona\, 08011
CATEGORIES:taula rodona
END:VEVENT
BEGIN:VEVENT
DTSTART;VALUE=DATE:20191017
DTEND;VALUE=DATE:20191021
DTSTAMP:20260424T152422
CREATED:20191008T105827Z
LAST-MODIFIED:20191008T110441Z
UID:6886-1571270400-1571615999@nuriacadenes.cat
SUMMARY:Priorat en persona
DESCRIPTION:Quatre dies per conèixer el Priorat i la seva gent. Sis escriptors\, quatre adalils\, una comarca: la terra\, el vi i la literatura. \nAl viatge d’anada\, Núria Cadenes\, Teresa Ibars\, Jordi Lara\, Núria Martínez-Vernis\, Pep Molist i Sebastià Perelló. Amb els adalils Josep Borrell\, Anaïs Estrems\, Josep Palet i Gemma Sentís. \nL’acte de cloenda serà a Cabacés\, el 20 d’octubre\, a les 11.30 h. Hi haurà taula rodona i lectura dramatitzada i vermut i tast d’oli. \nTota la informació i una mica més\, aquí: http://www.prioratenpersona.cat/
URL:https://nuriacadenes.cat/esdeveniment/priorat-en-persona/
LOCATION:Escola el Castell\, C/ Major\, 78\, Cabacés\, 43373
CATEGORIES:trobada
END:VEVENT
BEGIN:VEVENT
DTSTART;TZID=UTC:20191003T190000
DTEND;TZID=UTC:20191003T203000
DTSTAMP:20260424T152422
CREATED:20190925T180610Z
LAST-MODIFIED:20190925T180610Z
UID:6863-1570129200-1570134600@nuriacadenes.cat
SUMMARY:El nou de Ferran Torrent
DESCRIPTION:Que és un nou lliurament de la sèrie ‘El segon sistema’. \nQue hi ha atracadors i traques i diàlegs antològics. \nQue es presentarà a València\, a la Fan Set\, el 3 d’octubre. \nI que tindré el goig de fer-li els honors\, en conversa amb l’autor. \nQue és en Ferran Torrent. \nQue el llibre es diu Poder contar-ho. \nI que visca!
URL:https://nuriacadenes.cat/esdeveniment/el-nou-de-ferran-torrent/
LOCATION:llibreria Fan Set\, C/ de Sant Ferran\, 12\, València\, 46001
CATEGORIES:presentació
END:VEVENT
BEGIN:VEVENT
DTSTART;TZID=UTC:20191002T190000
DTEND;TZID=UTC:20191002T210000
DTSTAMP:20260424T152422
CREATED:20190925T182713Z
LAST-MODIFIED:20220216T105411Z
UID:6868-1570042800-1570050000@nuriacadenes.cat
SUMMARY:Amb Vilaweb al CCCB
DESCRIPTION:Convocatòria exclusiva per a subscriptors de VilaWeb. Un dia després de l’aniversari del referèndum d’autodeterminació volem debatre sobre com la repressió contra l’independentisme no és una excepció sinó una constant en les nostres vides. \nPer això comptarem amb la presència de l’escriptora Núria Cadenes\, l’activista Tamara Carrasco i el president de l’Associació Memòria contra la Tortura Ramon Piqué. \nL’acte serà conduït pel director de VilaWeb Vicent Partal. \n(Per assistir-hi\, cal enviar un correu a l’adreça inscripcions@vilaweb.cat amb el nom del subscriptor/a que vol reservar la plaça\, que pot venir-hi amb un acompanyant. En aquest cas caldrà especificar-ho en el correu. Confirmarem les places per ordre de recepció dels correus fins a omplir l’aforament màxim de la sala que hem reservat.)
URL:https://nuriacadenes.cat/esdeveniment/amb-vilaweb-al-cccb/
LOCATION:Centre de Cultura Contemporània de Barcelona\, C/ de Montalegre\, 5\, Barcelona\, 08001
CATEGORIES:taula rodona
END:VEVENT
BEGIN:VEVENT
DTSTART;TZID=UTC:20190518T120000
DTEND;TZID=UTC:20190518T173000
DTSTAMP:20260424T152422
CREATED:20190319T193838Z
LAST-MODIFIED:20190507T105859Z
UID:6536-1558180800-1558200600@nuriacadenes.cat
SUMMARY:Fira del Llibre d'Ares del Maestrat
DESCRIPTION:Doble participació a la 6a Fira del Llibre d’Ares del Maestrat: \na les 12 del migdia\, taula rodona ‘Dones i literatura’\, junt amb l’editora Matilde Martínez i la traductora Carme Geronès. \na les 16.30 h.\, presentació de Secundaris.
URL:https://nuriacadenes.cat/esdeveniment/fira-del-llibre-dares-del-maestrat/
LOCATION:Ajuntament d’Ares del Maestrat\, Plaça de l'Església\, 1\, Ares del Maestrat\, 12165
CATEGORIES:trobada
END:VEVENT
BEGIN:VEVENT
DTSTART;TZID=UTC:20190515T190000
DTEND;TZID=UTC:20190515T200000
DTSTAMP:20260424T152422
CREATED:20190402T133500Z
LAST-MODIFIED:20190402T133500Z
UID:6585-1557946800-1557950400@nuriacadenes.cat
SUMMARY:VLC Negra
DESCRIPTION:Dins dels actes de la València Negra\, club de lectura amb Secundaris a la Biblioteca Eduard Escalante – Abastos.
URL:https://nuriacadenes.cat/esdeveniment/vlc-negra/
LOCATION:Biblioteca Eduard Escalante – Abastos\, C/ d'Alberic\, 18\, València\, 46008
CATEGORIES:trobada
END:VEVENT
BEGIN:VEVENT
DTSTART;TZID=UTC:20190403T190000
DTEND;TZID=UTC:20190403T203000
DTSTAMP:20260424T152422
CREATED:20190402T134427Z
LAST-MODIFIED:20220216T110731Z
UID:6590-1554318000-1554323400@nuriacadenes.cat
SUMMARY:#JOACUSO - Tarragona
DESCRIPTION:Debat sobre el judici a la democràcia organitzat per Òmnium Cultural.\nAmb Marcel Mauri de los Rios\, vicepresident d’Òmnium Cultural\, Magda Oranich\, advocada\, David Fernàndez\, periodista i activista social\, i Núria Cadenes\, escriptora.
URL:https://nuriacadenes.cat/esdeveniment/joacuso-tarragona/
LOCATION:Rambla Nova\, Rambla Nova\, 3\, Tarragona\, 43003
CATEGORIES:taula rodona
END:VEVENT
BEGIN:VEVENT
DTSTART;TZID=UTC:20190322T183000
DTEND;TZID=UTC:20190322T200000
DTSTAMP:20260424T152422
CREATED:20190319T190406Z
LAST-MODIFIED:20190319T192054Z
UID:6529-1553279400-1553284800@nuriacadenes.cat
SUMMARY:Matar el monstre a la biblioteca
DESCRIPTION:Quan l’editorial Comanegra va decidir d’iniciar la seva línia de ficció\, es va plantejar de fer-ho des d’alguna cosa insòlita\, atrevida i que provoqués la creativitat d’autors i lectors. I va néixer ‘Matar el monstre’\, un calidoscopi de Barcelona\, un homenatge al Frankenstein de la Mary Shelley\, un projecte únic del qual parlarem a la Biblioteca del Clot – Josep Benet. \nDels set autors\, n’hi haurà quatre: Mar Bosch\, Núria Cadenes\, Ada Castells i Miquel de Palol. \nJunt amb l’editor\, Jordi Puig\, i el crític\, Francesco Ardolino.
URL:https://nuriacadenes.cat/esdeveniment/matar-el-monstre-a-la-biblioteca/
LOCATION:Biblioteca El Clot – Josep Benet\, Plaça de les Glòries Catalanes\, 37-38\, Barcelona
CATEGORIES:taula rodona
END:VEVENT
BEGIN:VEVENT
DTSTART;TZID=UTC:20190227T190000
DTEND;TZID=UTC:20190227T203000
DTSTAMP:20260424T152422
CREATED:20190127T202935Z
LAST-MODIFIED:20190225T104445Z
UID:6441-1551294000-1551299400@nuriacadenes.cat
SUMMARY:Cafè literari a Barcelona
DESCRIPTION:Els Cafès Literaris de la Casa Orlandai organitzen el cicle ‘Amb veu de dona’. \nI\, al febrer\, el 27\, hi parlarem de Secundaris.
URL:https://nuriacadenes.cat/esdeveniment/cafe-literari/
LOCATION:Casa Orlandai\, C/ de Jaume Piquet\, 23\, Barcelona\, 08017
CATEGORIES:presentació
END:VEVENT
BEGIN:VEVENT
DTSTART;TZID=UTC:20190212T201500
DTEND;TZID=UTC:20190212T230000
DTSTAMP:20260424T152422
CREATED:20190128T110806Z
LAST-MODIFIED:20190128T110806Z
UID:6453-1550002500-1550012400@nuriacadenes.cat
SUMMARY:A la Nit de les Lletres Catalanes
DESCRIPTION:Per sentir\, en dos minuts\, com els escriptors presenten la seva novetat. I per compartir-hi Secundaris\, també. \nTot sopant. \nI xalant. \nÉs la Nit de les Lletres Catalanes; una tradició\, a València.
URL:https://nuriacadenes.cat/esdeveniment/a-la-nit-de-les-lletres-catalanes/
LOCATION:Societat Coral el Micalet\, C/ Guillem de Castro\, 73\, Valencia\, 46008
CATEGORIES:trobada
END:VEVENT
BEGIN:VEVENT
DTSTART;TZID=UTC:20190201T171500
DTEND;TZID=UTC:20190201T180000
DTSTAMP:20260424T152422
CREATED:20190127T201340Z
LAST-MODIFIED:20190127T203202Z
UID:6433-1549041300-1549044000@nuriacadenes.cat
SUMMARY:BCNegra - Port València
DESCRIPTION:Port València \nTaula rodona a la BCNegra: Núria Cadenes\, Jordi Juan i Ferran Torrent per establir què té València que s’hi mata (literàriament) tan bé. \nModeradora – conductora: Ada Castells.
URL:https://nuriacadenes.cat/esdeveniment/bcnegra-port-valencia/
LOCATION:Aribau Multicines\, C/ d'Aribau\, 5\, Barcelona\, 08011
CATEGORIES:taula rodona
END:VEVENT
BEGIN:VEVENT
DTSTART;TZID=UTC:20181127T123000
DTEND;TZID=UTC:20181127T133000
DTSTAMP:20260424T152422
CREATED:20181118T143931Z
LAST-MODIFIED:20181118T151007Z
UID:6274-1543321800-1543325400@nuriacadenes.cat
SUMMARY:Jornada Centenari Manuel de Pedrolo
DESCRIPTION:Hi ha una completa jornada per commemorar el centenari de Manuel de Pedrolo\, a la Facultat de Filologia de la Universitat de València: \nA les 10 h.\, inauguració: amb Joan-Elies Adell\, Anna Maria Villalonga\, Jesús Jiménez. \nA les 10.30 h.\, conferència: Ramon X. Rosselló : “Nova aproximació a l’escriptura dramàtica de Manuel de Pedrolo” \nA les 11.15 h.\, conferència: Elisabet Armengol: “La narrativa de gènere eròtic en Manuel de Pedrolo: una força alliberadora” \nA les 12 h.\, pausa i cafè. \nA les 12.30 h.\, taula rodona “El llegat de Manuel de Pedrolo”\, amb Núria Cadenes\, Joanjo Garcia i Gemma Pasqual.
URL:https://nuriacadenes.cat/esdeveniment/jornada-centenari-manuel-de-pedrolo/
LOCATION:Saló de Graus Enric Valor – Facultat de Filologia – Universitat de València\, Av. de Blasco Ibàñez\, 32\, València\, 46010
CATEGORIES:taula rodona
END:VEVENT
BEGIN:VEVENT
DTSTART;TZID=UTC:20181124T190000
DTEND;TZID=UTC:20181124T203000
DTSTAMP:20260424T152422
CREATED:20181118T150704Z
LAST-MODIFIED:20181118T150704Z
UID:6287-1543086000-1543091400@nuriacadenes.cat
SUMMARY:'Secundaris' a Vinaròs
DESCRIPTION:Serà una de les Píndoles Literàries que organitza l’Espai Mariola Nos. \nPresentació de Secundaris\, junt amb Mariola Nos. \nA la Biblioteca Municipal.
URL:https://nuriacadenes.cat/esdeveniment/secundaris-a-vinaros/
LOCATION:Biblioteca Municipal de Vinaròs\, C/ de la Mare de Déu del Pilar\, 26\, Vinaròs\, 12500
CATEGORIES:presentació
END:VEVENT
BEGIN:VEVENT
DTSTART;TZID=UTC:20181121T190000
DTEND;TZID=UTC:20181121T203000
DTSTAMP:20260424T152422
CREATED:20181112T102737Z
LAST-MODIFIED:20181112T102921Z
UID:6266-1542826800-1542832200@nuriacadenes.cat
SUMMARY:Presentació de 'Secundaris' a València
DESCRIPTION:I\, per fi\, a València! \nA la cafeteria de l’OctubreCCC no hi haurà fum\, ni aquell ambient de bar Manolo que es descriu a Secundaris. A canvi\, hi tindreu llibres i\, qui ho vulgui\, carajillos de regal. \nConversa amb Francesco Ardolino i Gemma Pasqual. \nLectura de textos a càrrec de Francesc Anyó. \nAl costat de la llibreria Fan Set. \nAra aviat\, el 21 de novembre
URL:https://nuriacadenes.cat/esdeveniment/presentacio-de-secundaris-a-barcelona-2/
LOCATION:llibreria Fan Set\, C/ de Sant Ferran\, 12\, València\, 46001
CATEGORIES:presentació
END:VEVENT
BEGIN:VEVENT
DTSTART;TZID=UTC:20180927T193000
DTEND;TZID=UTC:20180927T203000
DTSTAMP:20260424T152422
CREATED:20180914T222920Z
LAST-MODIFIED:20180921T084114Z
UID:6134-1538076600-1538080200@nuriacadenes.cat
SUMMARY:Presentació de 'Secundaris' a Barcelona
DESCRIPTION:Serà\, pròpiament dita\, l’estrena mundial de Secundaris. \nI serà una xalamenta perquè\, a més a més\, arribarà amb la novel·la de Julià de Jòdar\, Els vulnerables. \nDes del 1929 al 1992\, dues Barcelones en perifèria\, dues parts de la col·lecció ‘Matar el monstre’. \nAmb l’inventor de la criatura\, l’editor de Comanegra\, Jordi Puig. \nA la llibreria La Inexplicable. \nAra aviat\, el 27 de setembre. Brrrrrr… emoció!
URL:https://nuriacadenes.cat/esdeveniment/presentacio-de-secundaris-a-barcelona/
LOCATION:Llibreria La Inexplicable\, C/ de Galileu\, 78\, Barcelona\, 08028
CATEGORIES:presentació
END:VEVENT
BEGIN:VEVENT
DTSTART;TZID=UTC:20180915T200000
DTEND;TZID=UTC:20180915T210000
DTSTAMP:20260424T152422
CREATED:20180912T160330Z
LAST-MODIFIED:20180912T160330Z
UID:6121-1537041600-1537045200@nuriacadenes.cat
SUMMARY:A la Setmana del Llibre en Català
DESCRIPTION:Primer acte públic de Secundaris! Junt amb la Mar Bosch Oliveras\, i el seu Vindràs amb mi després del diluvi\, que és el següent volum de la col·lecció Matar el monstre\, de Comanegra. \nXerrarem a ‘Monstres al bicentenari: Frankenstein\, Mary Shelley i la nit de Diodati’\, al costat de Dolors Garcia\, Bel Olid i Ricard Ruiz Garzón.
URL:https://nuriacadenes.cat/esdeveniment/a-la-setmana-del-llibre-en-catala/
LOCATION:Setmana del Llibre en Català\, Av. de la Catedral\, Barcelona
CATEGORIES:taula rodona
END:VEVENT
BEGIN:VEVENT
DTSTART;TZID=UTC:20180531T120000
DTEND;TZID=UTC:20180531T170000
DTSTAMP:20260424T152422
CREATED:20180527T170647Z
LAST-MODIFIED:20180527T170647Z
UID:6017-1527768000-1527786000@nuriacadenes.cat
SUMMARY:La lluita per la llibertat
DESCRIPTION:Participació a la taula rodona “La lluita per la llibertat”\, dins del cicle “Llibertats i repressió” que organitza la Càtedra Ferrater Mora de la Universitat de Girona. \nJunt amb la darrera consellera del Govern català\, actualment exiliada\, Clara Ponsatí\, el vice-president d’Òmnium Cultural\, Marcel Mauri\, i l’escriptor Josep Maria Fonalleras. \nDesprés hi haurà dinar groc en benefici de l’Associació Catalana pels Drets Civils\, que aplega familiars dels presos polítics i exiliats.
URL:https://nuriacadenes.cat/esdeveniment/la-lluita-per-la-llibertat/
LOCATION:Sala de Graus – Facultat de Lletres – Universitat de Girona\, Plaça de Josep Ferrater i Mora\, 1\, Girona\, 17001
CATEGORIES:taula rodona
END:VEVENT
BEGIN:VEVENT
DTSTART;TZID=UTC:20180501T173000
DTEND;TZID=UTC:20180501T200000
DTSTAMP:20260424T152422
CREATED:20180411T144114Z
LAST-MODIFIED:20220216T110627Z
UID:5918-1525195800-1525204800@nuriacadenes.cat
SUMMARY:Amb les Improbables\, a la Fira
DESCRIPTION:Signatura de La improbable vida de Joan Fuster\, a la Fira del Llibre de València. Junt amb Raquel Ricart\, Lliris Picó\, Carme Manuel\, Mercè Climent\, Esperança Camps\, Elvira Cambrils\, Teresa Broseta i Maria Jesús Bolta.
URL:https://nuriacadenes.cat/esdeveniment/les-improbables-a-la-fira/
LOCATION:Fira del Llibre\, Jardins dels Vivers\, València
CATEGORIES:signatura
END:VEVENT
BEGIN:VEVENT
DTSTART;TZID=UTC:20180423T193000
DTEND;TZID=UTC:20180423T210000
DTSTAMP:20260424T152422
CREATED:20180411T154647Z
LAST-MODIFIED:20220216T110509Z
UID:5931-1524511800-1524517200@nuriacadenes.cat
SUMMARY:Sant Jordi a València
DESCRIPTION:Celebrarem Sant Jordi amb l’AELC: lectura pública i múltiple de les obres dels escriptors valencians. Homenatge a Manel Marí\, amb Pau Sif i Eduard Ramírez.
URL:https://nuriacadenes.cat/esdeveniment/sant-jordi-a-valencia/
LOCATION:OctubreCCC\, C/ de Sant Ferran\, 12\, València\, 46001
CATEGORIES:trobada
END:VEVENT
BEGIN:VEVENT
DTSTART;TZID=UTC:20180421T113000
DTEND;TZID=UTC:20180421T200000
DTSTAMP:20260424T152422
CREATED:20180417T092434Z
LAST-MODIFIED:20220216T110357Z
UID:5948-1524310200-1524340800@nuriacadenes.cat
SUMMARY:Cultura contra la repressió
DESCRIPTION:És l’aniversari d’en Jordi Cuixart\, president d’Òmnium Cultural i actualment tancat en una presó espanyola. Familiars i amics\, juntament amb Òmnium Cultural\, han organitzat un gran acte d’homenatge per reclamar-ne la llibertat i la de tots els presos polítics. \nHi haurà música\, parlaments\, gent de lletres i de cultura sumant esforços per la llibertat. També hi col·laboraré. A les 12.45h. Els actes se succeiran durant tot el dia i els beneficis que hi hagi seran per a la Caixa de Solidaritat.
URL:https://nuriacadenes.cat/esdeveniment/cultura-contra-la-repressio/
LOCATION:Parc de la Ribera\, Santa Perpètua de Mogoda\, Vallès Occidental
CATEGORIES:trobada
END:VEVENT
BEGIN:VEVENT
DTSTART;TZID=UTC:20180414T193000
DTEND;TZID=UTC:20180414T203000
DTSTAMP:20260424T152422
CREATED:20180411T151514Z
LAST-MODIFIED:20220216T105737Z
UID:5925-1523734200-1523737800@nuriacadenes.cat
SUMMARY:Premi de poesia Senyoriu d'Ausiàs March
DESCRIPTION:Mantenidora de l’acte de lliurament del 38è Premi de Poesia Senyoriu d’Ausiàs March.
URL:https://nuriacadenes.cat/esdeveniment/premi-de-poesia-senyoriu-dausias-march/
LOCATION:Auditori Municipal de Beniarjó\, Plaça del 3 d'abril\, Beniarjó\, 46722
CATEGORIES:conferència
END:VEVENT
BEGIN:VEVENT
DTSTART;TZID=UTC:20180314T200000
DTEND;TZID=UTC:20180314T230000
DTSTAMP:20260424T152422
CREATED:20180311T205250Z
LAST-MODIFIED:20220216T105527Z
UID:5748-1521057600-1521068400@nuriacadenes.cat
SUMMARY:Lletra Lila
DESCRIPTION:L’Associació d’Escriptors en Llengua Catalana lliura la Lletra Lila a l’escriptora i pedagoga Mercè Viana. Amb l’actuació de Montse Castellà.
URL:https://nuriacadenes.cat/esdeveniment/lletra-lila/
LOCATION:OctubreCCC\, C/ de Sant Ferran\, 12\, València\, 46001
CATEGORIES:trobada
END:VEVENT
END:VCALENDAR