BEGIN:VCALENDAR
VERSION:2.0
PRODID:-//Núria Cadenes - ECPv6.15.20//NONSGML v1.0//EN
CALSCALE:GREGORIAN
METHOD:PUBLISH
X-ORIGINAL-URL:https://nuriacadenes.cat
X-WR-CALDESC:Esdeveniments per Núria Cadenes
REFRESH-INTERVAL;VALUE=DURATION:PT1H
X-Robots-Tag:noindex
X-PUBLISHED-TTL:PT1H
BEGIN:VTIMEZONE
TZID:UTC
BEGIN:STANDARD
TZOFFSETFROM:+0000
TZOFFSETTO:+0000
TZNAME:UTC
DTSTART:20190101T000000
END:STANDARD
END:VTIMEZONE
BEGIN:VEVENT
DTSTART;TZID=UTC:20210323T113000
DTEND;TZID=UTC:20210323T130000
DTSTAMP:20260424T065025
CREATED:20210321T191634Z
LAST-MODIFIED:20210321T192828Z
UID:7959-1616499000-1616504400@nuriacadenes.cat
SUMMARY:II Giornate Internazionali 'Cultura catalana: spazio europeo'
DESCRIPTION:Participació a la sessió matinal de les II Jornades Internacionals ‘Cultura catalana\, spazio europeo’ que organitza la Universitat de Siena per a Estrangers. \n«Questioni di narrativa catalana contemporanea. Il luogo del delitto»\n11.30-12.00h Anna Maria Villalonga: «La novel·la criminal sense fronteres»\n12.00-12.30h Núria Cadenes: «Per què t’atrauen tant els dolents?»\n12.30-13.00h Sebastià Bennassar: «Del botxí solitari a la manada de lleons. Els darrers vint anys\nde la novel·la negra en català»\nHo moderaran: Francesco Ardolino i Cèlia Nadal Pasqual. \n(La participació a les jornades és oberta i gratuïta. Tan sols cal aconseguir un enllaç d’accés a l’aula virtual\, aquí: https://forms.gle/6vikCq4WFR6Eu1f58)
URL:https://nuriacadenes.cat/esdeveniment/cultura-catalana-spazio-europeo-villalonga-cadenes-bennassar-ardolino-nadal/
CATEGORIES:taula rodona
END:VEVENT
BEGIN:VEVENT
DTSTART;TZID=UTC:20210322T190000
DTEND;TZID=UTC:20210322T203000
DTSTAMP:20260424T065025
CREATED:20210321T184617Z
LAST-MODIFIED:20210321T185316Z
UID:7956-1616439600-1616445000@nuriacadenes.cat
SUMMARY:Presentació del dietari del president Quim Torra
DESCRIPTION:És un dietari escrit des de la sinceritat. Ben escrit des de la sinceritat. El MH president Quim Torra presenta a València la primera part del seu Dietari de Canonges\, que duu per títol Les hores greus (Símbol Editors). \nAnna Oliver\, presidenta d’ACPV\, es farà càrrec de la benvinguda\, i Núria Cadenes\, de la presentació.
URL:https://nuriacadenes.cat/esdeveniment/les-hores-greus-quim-torra-anna-oliver-nuria-cadenes/
LOCATION:OctubreCCC\, C/ de Sant Ferran\, 12\, València\, 46001
CATEGORIES:presentació
END:VEVENT
BEGIN:VEVENT
DTSTART;TZID=UTC:20210130T180000
DTEND;TZID=UTC:20210130T190000
DTSTAMP:20260424T065025
CREATED:20210125T112351Z
LAST-MODIFIED:20210125T112351Z
UID:7894-1612029600-1612033200@nuriacadenes.cat
SUMMARY:A la BCNegra\, Highsmith\, l'alegre dona de les cavernes
DESCRIPTION:El Festival BCNegra se suma a la celebració del centenari de la gran escriptora de les suplantacions i els caragols assassins\, amb una taula rodona que duu per títol “Highsmith\, l’alegre dona de les cavernes” \nAmb les escriptores Marta Alòs\, Núria Cadenes\, Montse Sanjuan i Anna Maria Villalonga. L’acte serà conduït per Txell Bonet\, que\, a més a més\, llegirà algun conte de Patricia Highsmith. \nPer les coses de la grmxtrfrggrrrcovid\, no hi podrà haver públic\, però es transmetrà via streaming des d’aquí: \nhttps://www.barcelona.cat/barcelonacultura/ca/streaming
URL:https://nuriacadenes.cat/esdeveniment/bcnegra-highsmith-cadenes/
CATEGORIES:taula rodona
END:VEVENT
BEGIN:VEVENT
DTSTART;TZID=UTC:20210113T190000
DTEND;TZID=UTC:20210113T203000
DTSTAMP:20260424T065025
CREATED:20201215T091026Z
LAST-MODIFIED:20201215T091026Z
UID:7845-1610564400-1610569800@nuriacadenes.cat
SUMMARY:Per Louise Glück\, amb Núria Busquet
DESCRIPTION:“per la seua inconfusible veu poètica que amb una bellesa austera fa universal l’existència individual” \nAl cicle dels premis Nobel\, el de literatura: conferència en línia sobre Louise Glück\, a càrrec de l’escriptora i traductora literària Núria Busquet\, traductora al català de Glück (un esplèndid Nit fidel i virtuosa editat per Buc). \nActe presentat i moderat per l’escriptora Núria Cadenes. \n(Conferència en línia. L’enllaç s’oferirà des de la web www.octubre.cat)
URL:https://nuriacadenes.cat/esdeveniment/nobel-literatura-valencia-gluck-busquet-cadenes/
CATEGORIES:taula rodona
END:VEVENT
BEGIN:VEVENT
DTSTART;TZID=UTC:20201216T194500
DTEND;TZID=UTC:20201216T210000
DTSTAMP:20260424T065025
CREATED:20201204T183118Z
LAST-MODIFIED:20201204T183118Z
UID:7823-1608147900-1608152400@nuriacadenes.cat
SUMMARY:Priorat en Persona i en una taula rodona
DESCRIPTION:De la trobada d’escriptors del 2019\, Priorat en Persona\, i com que de moment no ens podem aplegar en carn\, en farem\, aquest trasbalsat 2020\, una taula rodona virtual. \nAmb Núria Cadenes\, Teresa Ibars\, Jordi Lara\, Núria Martínez-Vernis\, Pep Molist i Sebastià Perelló. Ho moderarà la periodista cultural i editora Montse Serra.
URL:https://nuriacadenes.cat/esdeveniment/priorat-en-persona-i-en-una-taula-rodona/
CATEGORIES:taula rodona
END:VEVENT
BEGIN:VEVENT
DTSTART;TZID=UTC:20201211T190000
DTEND;TZID=UTC:20201211T203000
DTSTAMP:20260424T065025
CREATED:20201204T181453Z
LAST-MODIFIED:20201204T181453Z
UID:7819-1607713200-1607718600@nuriacadenes.cat
SUMMARY:Martí Monterde presenta 'L'home manuscrit'
DESCRIPTION:Presentació del llibre L’home impacient (diaris 1996-1998) (Bullent)\, d’Antoni Martí Monterde. \nAcompanyaran l’autor\, Núria Cadenes\, escriptora\, Isabel Robles\, poeta\, i Núria Sendra\, editora.
URL:https://nuriacadenes.cat/esdeveniment/marti-monterde-l-home-manuscrit-fanset/
LOCATION:llibreria Fan Set\, C/ de Sant Ferran\, 12\, València\, 46001
CATEGORIES:presentació
END:VEVENT
BEGIN:VEVENT
DTSTART;TZID=UTC:20201206T190000
DTEND;TZID=UTC:20201206T200000
DTSTAMP:20260424T065025
CREATED:20201204T173209Z
LAST-MODIFIED:20201204T175232Z
UID:7813-1607281200-1607284800@nuriacadenes.cat
SUMMARY:'Guillem' al Vilassar de Noir en línia
DESCRIPTION:El Festival de literatura i cinema negres Vilassar de Noir ha passat\, enguany i per força\, a les xarxes. Però ha mantingut el programa. Virtual\, però l’ha mantingut. I això farem\, entre el 4 i el 6 de desembre\, assistir-hi. \nHi seran Marc Moreno i Salvador Balcells i Anna Maria Villalonga i Margarida Aritzeta i Sebastià Bennassar i Emili Bayo i Mina Fuster i Sherlock Holmes i tothom\, de carn i ossos o de paper anirà passant ordenadament pel canal de youtube del festival. Des d’aquest enllaç: https://t.co/Ra6oalVfxc \nEl 6 de desembre\, diumenge\, a les 19 h.\, Núria Cadenes\, juntament amb Álvaro Colomer\, hi parlaran de Guillem.
URL:https://nuriacadenes.cat/esdeveniment/guillem-en-linia-al-vilassar-de-noir/
LOCATION:Vilassar de Noir a youtube\, https://www.youtube.com/channel/UC_CVsI0pC5dUTPiCDEReTKQ
CATEGORIES:presentació
END:VEVENT
BEGIN:VEVENT
DTSTART;TZID=UTC:20201202T190000
DTEND;TZID=UTC:20201202T203000
DTSTAMP:20260424T065025
CREATED:20201125T205453Z
LAST-MODIFIED:20201125T205654Z
UID:7795-1606935600-1606941000@nuriacadenes.cat
SUMMARY:Barnils + Fuster + Vinader\, a Barcelona
DESCRIPTION:Un senyor esdeveniment. Edicions Tres i Quatre presenta tres volums de periodisme imprescindible: \nContra el nacionalisme espanyol\, de Ramon Barnils (pròleg del M.H. Carles Puigdemont\, epíleg de Núria Cadenes) \nEscrits de combat\, de Joan Fuster (pròleg de Josep-Lluís Carod-Rovira\, epíleg de Ferran Garcia-Oliver) \nConfidencial\, de Xavier Vinader (pròleg de David Fernández\, epíleg de Francesc Viadel) \nA més de prologuistes i epiloguistes\, hi intervindran: Àngels Ponsa\, consellera de Cultura; Eliseu Climent\, editor; i el M. H. Quim Torra\, president de la Generalitat. \nA causa de la grmxtrffcovid\, l’acte serà tancat però es podrà seguir per streaming des d’un enllaç que es farà públic el mateix dia 2.
URL:https://nuriacadenes.cat/esdeveniment/barnils-fuster-vinader-barcelona/
LOCATION:Auditori del Palau de la Generalitat\, plaça de Sant Jaume\, Barcelona\, 08002
CATEGORIES:presentació
END:VEVENT
BEGIN:VEVENT
DTSTART;TZID=UTC:20201128T100000
DTEND;TZID=UTC:20201128T110000
DTSTAMP:20260424T065025
CREATED:20201117T085142Z
LAST-MODIFIED:20201117T085142Z
UID:7756-1606557600-1606561200@nuriacadenes.cat
SUMMARY:'Guillem' en línia al seminari Blanquerna
DESCRIPTION:Presentació en línia de Guillem al Seminari Blanquerna: “Guillem Agulló\, una història d’impunitats i de resiliència”. \nLa inscripció per a aquesta edició mixta\, presencial/virtual\, és en aquest formulari. \nTambé es podrà seguir en directe aquí\, al canal de youtube de l’Obra Cultural Balear.
URL:https://nuriacadenes.cat/esdeveniment/guillem-al-seminari-blanquerna/
LOCATION:Can Alcover\, C/ Sant Alonso\, 24\, Palma\, 07001
CATEGORIES:presentació
END:VEVENT
BEGIN:VEVENT
DTSTART;TZID=UTC:20201127T193000
DTEND;TZID=UTC:20201127T210000
DTSTAMP:20260424T065025
CREATED:20201120T105154Z
LAST-MODIFIED:20201120T105154Z
UID:7780-1606505400-1606510800@nuriacadenes.cat
SUMMARY:'Guillem' a Solsona
DESCRIPTION:Presentació de Guillem en conversa amb Rosa Cases i Marta Vizcarro.
URL:https://nuriacadenes.cat/esdeveniment/presentacio-guillem-a-solsona/
LOCATION:Sala Polivalent\, Plaça de l'1 d'Octubre\, núm. 2\, Solsona\, 25280
CATEGORIES:presentació
END:VEVENT
BEGIN:VEVENT
DTSTART;TZID=UTC:20201126T190000
DTEND;TZID=UTC:20201126T200000
DTSTAMP:20260424T065025
CREATED:20201123T094616Z
LAST-MODIFIED:20201123T094616Z
UID:7786-1606417200-1606420800@nuriacadenes.cat
SUMMARY:'Guillem' a Manresa
DESCRIPTION:Presentació de Guillem a la llibreria Parcir. \nPer les coses de la grmxtrffgrcovid\, és recomanable de reservar plaça a activitats@parcir.com
URL:https://nuriacadenes.cat/esdeveniment/guillem-a-manresa-parcir/
LOCATION:Llibreria Parcir\, C/ d'Àngel Guimerà\, 74\, Manresa\, 08241
CATEGORIES:presentació
END:VEVENT
BEGIN:VEVENT
DTSTART;TZID=UTC:20201125T200000
DTEND;TZID=UTC:20201125T210000
DTSTAMP:20260424T065025
CREATED:20201116T110146Z
LAST-MODIFIED:20201116T110146Z
UID:7755-1606334400-1606338000@nuriacadenes.cat
SUMMARY:'Tota la veritat' a l'Alcúdia
DESCRIPTION:Trobada amb el Grup de Lectura del Bloc Jaume I de l’Alcúdia per a parlar-hi de Tota la veritat. \nPer les coses de la grmxtrfcovid\, la trobada serà virtual\, via Meet. Mitja hora abans de començar-la\, s’enviarà l’enllaç.
URL:https://nuriacadenes.cat/esdeveniment/tota-la-veritat-cadenes-grup-lectura-l-alcudia/
LOCATION:Bloc Jaume I de l’Alcúdia
CATEGORIES:trobada
END:VEVENT
BEGIN:VEVENT
DTSTART;TZID=UTC:20201118T183000
DTEND;TZID=UTC:20201118T200000
DTSTAMP:20260424T065025
CREATED:20201115T192551Z
LAST-MODIFIED:20201115T192551Z
UID:7750-1605724200-1605729600@nuriacadenes.cat
SUMMARY:'Guillem' a Benimaclet
DESCRIPTION:Presentació de Guillem al CS Bar Terra de Benimaclet. \nAmb Betlem Agulló i amb Mercè Martínez i Natxo Calatayud. \nPer les coses de la grmxtrfcovid\, és recomanable inscripció prèvia: larepartidora@larepartidora.org.
URL:https://nuriacadenes.cat/esdeveniment/guillem-a-benimaclet/
LOCATION:CS Bar Terra\, C/ del Baró de Sant Petrillo\, 9\, València\, 46020
CATEGORIES:presentació
END:VEVENT
BEGIN:VEVENT
DTSTART;TZID=UTC:20201114T130000
DTEND;TZID=UTC:20201114T140000
DTSTAMP:20260424T065025
CREATED:20201107T172215Z
LAST-MODIFIED:20201107T172725Z
UID:7714-1605358800-1605362400@nuriacadenes.cat
SUMMARY:Alcem la veu a la VLCNegra
DESCRIPTION:“Hi ha històries que són més fosques que negres\, perquè les coses que compten són coses que voldríem oblidar\, però que necessiten veus que les donen a conèixer. Les autores representades en aquest acte han dedicat la seua carrera a alçar la veu i contar-les”. \nÀlex Martín\, editor de la novel·la La sarbatana (Crims.cat)\, obra de la recentment desapareguda Isabel-Clara Simó\, i Núria Cadenes\, autora de Guillem (Amsterdam)\, dues novel·les nominades als premis València Negra 2020. Conversa moderada per Bernardo Carrión. \nPer les coses de la grmxtrfrcovid\, cal reservar entrada. Es pot fer aquí en un parell de clics: https://valencianegra.com/events/alcem-veu?lang=ca&var=ri-0.l-L2
URL:https://nuriacadenes.cat/esdeveniment/alcem-la-veu-a-la-vlcnegra/
LOCATION:Fnac Sant Agustí\, C/ de Guillem de Castro\, 9-11\, València\, 46007
CATEGORIES:taula rodona
END:VEVENT
BEGIN:VEVENT
DTSTART;TZID=UTC:20201112T200000
DTEND;TZID=UTC:20201112T210000
DTSTAMP:20260424T065025
CREATED:20201107T170608Z
LAST-MODIFIED:20201107T170710Z
UID:7708-1605211200-1605214800@nuriacadenes.cat
SUMMARY:'Guillem' a Alcoi
DESCRIPTION:Presentació de Guillem en al Casal ACPV Alcoi – Centre Cultural Ovidi Montllor. \nPer les coses de la grmxtrfcovid\, és recomanable inscripció prèvia: alcoi@avpv.cat i 965 52 01 48.
URL:https://nuriacadenes.cat/esdeveniment/guillem-a-alcoi/
LOCATION:Casal ACPV Alcoi – Centre Cultural Ovidi Montllor\, C/ de Vistabella\, 8\, Alcoi\, 03802
CATEGORIES:presentació
END:VEVENT
BEGIN:VEVENT
DTSTART;TZID=UTC:20201111T183000
DTEND;TZID=UTC:20201111T193000
DTSTAMP:20260424T065025
CREATED:20201107T161433Z
LAST-MODIFIED:20201107T161433Z
UID:7705-1605119400-1605123000@nuriacadenes.cat
SUMMARY:Club de lectura VLCNegra - 'Secundaris'
DESCRIPTION:Club de lectura amb Secundaris\, la novel·la sobre l’altra cara de la Barcelona’92\, dins dels actes de la València Negra. \n(localitats exhauries) \n 
URL:https://nuriacadenes.cat/esdeveniment/nuria-cadenes-secundaris-valencia-negra/
LOCATION:Biblioteca Municipal Casa de la Reina\, C/ de la Reina\, 85\, València\, 46011
CATEGORIES:trobada
END:VEVENT
BEGIN:VEVENT
DTSTART;TZID=UTC:20201110T193000
DTEND;TZID=UTC:20201110T203000
DTSTAMP:20260424T065025
CREATED:20201107T133231Z
LAST-MODIFIED:20201110T150150Z
UID:7700-1605036600-1605040200@nuriacadenes.cat
SUMMARY:'Guillem' a Reus en línia
DESCRIPTION:Presentació de Guillem en línia\, amb el Centre de Lectura de Reus i Òmnium Cultural Baix Camp. \nHavia de ser presencial\, no ha estat possible per la grmxtrfrcovid\, però ho farem via xarxes: per mitjà d’aquest enllaç\, http://meet.google.com/zdp-tswu-rcz\, o bé aquí: https://youtube.com/c/CentredeLecturaReus \n 
URL:https://nuriacadenes.cat/esdeveniment/guillem-a-reus-en-linia/
LOCATION:Centre de Lectura de Reus
CATEGORIES:presentació
END:VEVENT
BEGIN:VEVENT
DTSTART;TZID=UTC:20201106T200000
DTEND;TZID=UTC:20201106T213000
DTSTAMP:20260424T065025
CREATED:20201020T081259Z
LAST-MODIFIED:20201020T081259Z
UID:7656-1604692800-1604698200@nuriacadenes.cat
SUMMARY:'Guillem' a Pedreguer
DESCRIPTION:  \nPresentació de Guillem al Casal Cultural Jaume I de Pedreguer (Marina Alta). \n 
URL:https://nuriacadenes.cat/esdeveniment/guillem-a-pedreguer/
LOCATION:Casal Cultural Jaume I\, C/ de València\, 12\, Pedreguer\, 03750
CATEGORIES:presentació
END:VEVENT
BEGIN:VEVENT
DTSTART;TZID=UTC:20201105T193000
DTEND;TZID=UTC:20201105T210000
DTSTAMP:20260424T065025
CREATED:20201103T163316Z
LAST-MODIFIED:20201103T163316Z
UID:7682-1604604600-1604610000@nuriacadenes.cat
SUMMARY:'Guillem' a Elx
DESCRIPTION:Presentació de Guillem al Casal d’ACPV d’Elx (Baix Vinalopó). \nPer les coses de la grmxtrfrrcovid\, és convenient de reservar lloc. Ho podeu fer per correu-e: elx@acpv.cat \n 
URL:https://nuriacadenes.cat/esdeveniment/guillem-a-elx/
LOCATION:Casal d’ACPV d’Elx\, C/ de Sant Jordi\, 2\, Elx\, 03203
CATEGORIES:presentació
END:VEVENT
BEGIN:VEVENT
DTSTART;TZID=UTC:20201031T190000
DTEND;TZID=UTC:20201031T200000
DTSTAMP:20260424T065025
CREATED:20201027T151222Z
LAST-MODIFIED:20201027T151222Z
UID:7668-1604170800-1604174400@nuriacadenes.cat
SUMMARY:Conversa a la Plaça del Llibre
DESCRIPTION:Conversa amb Germà Capdevila sobre la novel·la Guillem. \nA l’aire lliure i amb la revista Esguard. \n 
URL:https://nuriacadenes.cat/esdeveniment/conversa-a-la-placa-del-llibre/
LOCATION:Plaça del Llibre de València\, Plaça de l'Ajuntament\, València\, 46002
CATEGORIES:taula rodona
END:VEVENT
BEGIN:VEVENT
DTSTART;TZID=UTC:20201030T193000
DTEND;TZID=UTC:20201030T210000
DTSTAMP:20260424T065025
CREATED:20201017T102305Z
LAST-MODIFIED:20201020T081508Z
UID:7625-1604086200-1604091600@nuriacadenes.cat
SUMMARY:'Guillem' a Llíria
DESCRIPTION:  \nPresentació de Guillem al Casal Jaume I del Camp de Túria. \nCapacitat del local limitada per qüestions de seguretat davant de la rmtxfrrrcovid. És recomanable de fer inscripció prèvia a campdeturia@acpv.cat. \n 
URL:https://nuriacadenes.cat/esdeveniment/guillem-a-lliria/
LOCATION:Casal Jaume I del Camp de Túria\, Avinguda dels Furs\, 17\, Llíria\, 46160
CATEGORIES:presentació
END:VEVENT
BEGIN:VEVENT
DTSTART;TZID=UTC:20201029T193000
DTEND;TZID=UTC:20201029T210000
DTSTAMP:20260424T065025
CREATED:20201016T183839Z
LAST-MODIFIED:20201016T184431Z
UID:7620-1603999800-1604005200@nuriacadenes.cat
SUMMARY:'Guillem' a Alacant
DESCRIPTION:  \nPresentació de Guillem a Alacant. \nAmb l’escriptora i periodista Llum Quiñonero. \nCapacitat del local limitada per qüestions de seguretat davant de la rmtxfrrrcovid. És recomanable de fer inscripció prèvia a alacant@acpv.cat o bé\, de dilluns a divendres de 9 a 13 h.\, al telèfon 609617547. \n 
URL:https://nuriacadenes.cat/esdeveniment/guillem-a-alacant/
LOCATION:Llibreria Pynchon&Co\, C/ de Segura\, 22\, Alacant\, 03004
CATEGORIES:presentació
END:VEVENT
BEGIN:VEVENT
DTSTART;TZID=UTC:20201025T184500
DTEND;TZID=UTC:20201025T210000
DTSTAMP:20260424T065025
CREATED:20201018T171240Z
LAST-MODIFIED:20201020T081617Z
UID:7629-1603651500-1603659600@nuriacadenes.cat
SUMMARY:Guillem Agulló\, literatura i cinema a Sant Feliu de Llobregat
DESCRIPTION:Projecció del film La mort de Guillem\, de Carlos Marques-Marcet. \nDebat amb el director i amb Núria Cadenes\, autora de Guillem. \nEntrada gratuïta i retransmissió de l’acte en directe a www.cinebaix.cat \n  \n 
URL:https://nuriacadenes.cat/esdeveniment/guillem-agullo-literatura-i-cinema/
LOCATION:CineBaix\, C/ de Joan Batllori\, 21\, Sant Feliu de Llobregat\, 08980
CATEGORIES:taula rodona
END:VEVENT
BEGIN:VEVENT
DTSTART;TZID=UTC:20201022T190000
DTEND;TZID=UTC:20201022T203000
DTSTAMP:20260424T065025
CREATED:20201018T175536Z
LAST-MODIFIED:20201018T175536Z
UID:7644-1603393200-1603398600@nuriacadenes.cat
SUMMARY:'Guillem' a Castelló de la Plana
DESCRIPTION:  \nPresentació de Guillem a la llibreria Babel\, de Castelló de la Plana. \nCapacitat del local limitada per qüestions de seguretat davant de la rmtxfrrrcovid. És recomanable de fer inscripció prèvia a castello@acpv.cat. \n 
URL:https://nuriacadenes.cat/esdeveniment/guillem-a-castello-de-la-plana/
LOCATION:Llibreria Babel\, C/ del Guitarrista Tàrrega\, 20\, Castelló de la Plana\, 12003
CATEGORIES:presentació
END:VEVENT
BEGIN:VEVENT
DTSTART;TZID=UTC:20201021T190000
DTEND;TZID=UTC:20201021T203000
DTSTAMP:20260424T065025
CREATED:20201016T104248Z
LAST-MODIFIED:20201018T171903Z
UID:7617-1603306800-1603312200@nuriacadenes.cat
SUMMARY:'Tots els camins'\, de Joan Francesc Mira
DESCRIPTION:Presentació a València del llibre Tots els camins (Proa)\, de Joan Francesc Mira. \nNúria Cadenes acompanyarà l’autor \nCapacitat del local limitada. Cal inscripció prèvia aquí.
URL:https://nuriacadenes.cat/esdeveniment/tots-els-camins-de-joan-francesc-mira/
LOCATION:llibreria Fan Set\, C/ de Sant Ferran\, 12\, València\, 46001
CATEGORIES:presentació
END:VEVENT
BEGIN:VEVENT
DTSTART;TZID=UTC:20201020T190000
DTEND;TZID=UTC:20201020T203000
DTSTAMP:20260424T065025
CREATED:20201016T103523Z
LAST-MODIFIED:20201018T171826Z
UID:7612-1603220400-1603225800@nuriacadenes.cat
SUMMARY:'Pel meu país'\, d'Antoni Royo
DESCRIPTION:Presentació a València del llibre Pel meu país (Onada)\, les memòries d’Antoni Royo. \nNúria Cadenes acompanyarà l’autor \nCapacitat del local limitada. Cal inscripció prèvia aquí.
URL:https://nuriacadenes.cat/esdeveniment/pel-meu-pais-dantoni-royo/
LOCATION:llibreria Fan Set\, C/ de Sant Ferran\, 12\, València\, 46001
CATEGORIES:presentació
END:VEVENT
BEGIN:VEVENT
DTSTART;TZID=UTC:20201017T190000
DTEND;TZID=UTC:20201017T203000
DTSTAMP:20260424T065025
CREATED:20201013T102244Z
LAST-MODIFIED:20201016T103711Z
UID:7594-1602961200-1602966600@nuriacadenes.cat
SUMMARY:'Guillem' a Gandia
DESCRIPTION:  \nPresentació de Guillem a Gandia. Al Casal Fundació Jaume I ACPV Safor-Valldigna\, i en col·laboració amb Gavina Llibres. \nCapacitat del local limitada. Cal inscripció prèvia a safor@acpv.cat. \n 
URL:https://nuriacadenes.cat/esdeveniment/guillem-a-gandia/
LOCATION:Fundació Casal Jaume I Safor-Valldigna\, C/ de Dona Teresa\, 2\, Gandia\, 46701
CATEGORIES:presentació
END:VEVENT
BEGIN:VEVENT
DTSTART;TZID=UTC:20201015T173000
DTEND;TZID=UTC:20201015T183000
DTSTAMP:20260424T065025
CREATED:20201013T100957Z
LAST-MODIFIED:20201015T110146Z
UID:7589-1602783000-1602786600@nuriacadenes.cat
SUMMARY:Escriure al sud i publicar des del nord
DESCRIPTION:“Escriptors valencians editats a Catalunya” és el títol de la taula rodona que hi haurà a la Plaça del Llibre. \nAmb Manuel Baixauli\, Joan Benesiu i Núria Cadenes. Ho moderarà Octavi Monsonís.
URL:https://nuriacadenes.cat/esdeveniment/escriure-al-sud-i-publicar-des-del-nord/
LOCATION:Plaça del Llibre de Castelló\, Plaça de Santa Clara\, Castelló de la Plana\, 12001
CATEGORIES:taula rodona
END:VEVENT
BEGIN:VEVENT
DTSTART;TZID=UTC:20201010T123000
DTEND;TZID=UTC:20201010T140000
DTSTAMP:20260424T065025
CREATED:20201005T171437Z
LAST-MODIFIED:20201005T171705Z
UID:7574-1602333000-1602338400@nuriacadenes.cat
SUMMARY:Presentació - vermut a Lleida
DESCRIPTION:Presentació de Guillem a Lleida. \nA l’hora del vermut. Amb vermut. \nConversa amb Antonieta Jarne\, doctora en Història Contemporània de la UdL. \nCom que la capacitat de l’espai s’ha de limitar per la grmxtrcovid\, cal reservar plaça omplint aquest formulari.
URL:https://nuriacadenes.cat/esdeveniment/presentacio-vermut-a-lleida/
LOCATION:La Baula\, C/ del Nord\, 4\, Lleida\, 25007
CATEGORIES:presentació
END:VEVENT
BEGIN:VEVENT
DTSTART;TZID=UTC:20201001T190000
DTEND;TZID=UTC:20201001T200000
DTSTAMP:20260424T065025
CREATED:20200920T175315Z
LAST-MODIFIED:20200920T175315Z
UID:7533-1601578800-1601582400@nuriacadenes.cat
SUMMARY:#TrobadesEntreLínies\, amb 'Guillem'
DESCRIPTION:  \n  \nDins del cicle #TrobadesEntreLínies de la Fundació Bromera\, conversa sobre Guillem conduïda per Irene Rodrigo. \nEn directe i simultàniament\, al canal de YouTube i al Facebook de la Fundació Bromera. \n  \n 
URL:https://nuriacadenes.cat/esdeveniment/trobadesentrelinies-amb-guillem/
CATEGORIES:trobada
END:VEVENT
END:VCALENDAR