BEGIN:VCALENDAR
VERSION:2.0
PRODID:-//Núria Cadenes - ECPv6.15.20//NONSGML v1.0//EN
CALSCALE:GREGORIAN
METHOD:PUBLISH
X-ORIGINAL-URL:https://nuriacadenes.cat
X-WR-CALDESC:Esdeveniments per Núria Cadenes
REFRESH-INTERVAL;VALUE=DURATION:PT1H
X-Robots-Tag:noindex
X-PUBLISHED-TTL:PT1H
BEGIN:VTIMEZONE
TZID:UTC
BEGIN:STANDARD
TZOFFSETFROM:+0000
TZOFFSETTO:+0000
TZNAME:UTC
DTSTART:20200101T000000
END:STANDARD
END:VTIMEZONE
BEGIN:VEVENT
DTSTART;TZID=UTC:20220210T230000
DTEND;TZID=UTC:20220211T000000
DTSTAMP:20260423T221619
CREATED:20220208T202446Z
LAST-MODIFIED:20220208T202446Z
UID:8522-1644534000-1644537600@nuriacadenes.cat
SUMMARY:Causa general\, en línia
DESCRIPTION:Presentació en línia del llibre Causa general (Angle)\, de Jordi Panyella. Amb Núria Cadenes i Josep Cruanyes. \nA les 23 h. (hora catalana) o les 17 h. (hora equatoriana). \nAquí: https://us02web.zoom.us/webinar/register/3216440165374/WN_lAgg5SIlRRujcbi6k27bCQ \nI aquí també: https://www.youtube.com/watch?v=6iEbEQUJeOA \n  \n 
URL:https://nuriacadenes.cat/esdeveniment/causa-general-cadenes-panyella-cruanyes/
CATEGORIES:taula rodona
END:VEVENT
BEGIN:VEVENT
DTSTART;TZID=UTC:20220204T193000
DTEND;TZID=UTC:20220204T213000
DTSTAMP:20260423T221619
CREATED:20220124T181333Z
LAST-MODIFIED:20220124T181816Z
UID:8492-1644003000-1644010200@nuriacadenes.cat
SUMMARY:'El banquer'\, a Caldes
DESCRIPTION:  \nClub de lectura amb la gent de la Biblioteca Francesc Ferrer i Guàrdia. \nAmb El banquer (Edicions de 1984). \nI amb Núria Cadenes\, autora de la novel·la.
URL:https://nuriacadenes.cat/esdeveniment/el-banquer-a-caldes/
LOCATION:Biblioteca Francesc Ferrer i Guàrdia\, C/ de la Llibertat\, 6\, Caldes de Malavella\, 17455
CATEGORIES:club de lectura
END:VEVENT
BEGIN:VEVENT
DTSTART;TZID=UTC:20220128T200000
DTEND;TZID=UTC:20220128T210000
DTSTAMP:20260423T221619
CREATED:20220124T191355Z
LAST-MODIFIED:20220213T175250Z
UID:8503-1643400000-1643403600@nuriacadenes.cat
SUMMARY:A Gata\, 'Guillem'
DESCRIPTION:És això que diu el cartell: que a Gata de Gorgos hi ha un edifici municipal que duu el nom de Guillem Agulló. \nI que serà allà\, precisament\, on hi presentarem la novel·la Guillem (Amsterdam). Amb Núria Cadenes.
URL:https://nuriacadenes.cat/esdeveniment/a-gata-guillem/
LOCATION:Edifici Polivalent Guillem Agulló\, C/ Grup Escolar\, 35\, Gata de Gorgos\, 03740
CATEGORIES:presentació
END:VEVENT
BEGIN:VEVENT
DTSTART;TZID=UTC:20220128T200000
DTEND;TZID=UTC:20220128T210000
DTSTAMP:20260423T221619
CREATED:20220124T190935Z
LAST-MODIFIED:20220919T072142Z
UID:8499-1643400000-1643403600@nuriacadenes.cat
SUMMARY:'Guillem' a Gata
DESCRIPTION:Això que diu el cartell: que a Gata hi ha presentació de Guillem (Amsterdam). \nAmb l’autora\, Núria Cadenes.
URL:https://nuriacadenes.cat/esdeveniment/guillem-a-gata/
LOCATION:Edifici Polivalent Guillem Agulló\, C/ Grup Escolar\, 35\, Gata de Gorgos\, 03740
CATEGORIES:presentació
END:VEVENT
BEGIN:VEVENT
DTSTART;TZID=UTC:20220127T190000
DTEND;TZID=UTC:20220127T203000
DTSTAMP:20260423T221619
CREATED:20220113T082409Z
LAST-MODIFIED:20220121T110341Z
UID:8464-1643310000-1643315400@nuriacadenes.cat
SUMMARY:A Barcelona\, 'Causa general'
DESCRIPTION:Presentació de Causa general. La repressió de l’Estat espanyol contra el moviment per la independència de Catalunya (2009-2021) (Angle Editorial)\, de Jordi Panyella. \nAmb Núria Cadenes\, Josep Cruanyes i l’autor. \n(Cal confirmar l’assistència a reserves@onallibres.cat)
URL:https://nuriacadenes.cat/esdeveniment/a-barcelona-causa-general/
LOCATION:Ona Llibres\, C/ de Pau Claris\, 94\, Barcelona\, 08010
CATEGORIES:presentació
END:VEVENT
BEGIN:VEVENT
DTSTART;TZID=UTC:20220119T190000
DTEND;TZID=UTC:20220119T203000
DTSTAMP:20260423T221619
CREATED:20220115T114402Z
LAST-MODIFIED:20220115T114423Z
UID:8469-1642618800-1642624200@nuriacadenes.cat
SUMMARY:Abdulrazak Gurnah: parlem del Nobel a València
DESCRIPTION:Dins del Cicle Premis Nobel 2021 que organitza l’Espai Ciència de l’OctubreCCC\, parlarem del darrer Nobel de literatura\, Abdulrazak Gurnah. \nAmb Esther Pujolràs Noguer\, professora de literatura postcolonial de la Universitat de Lleida. Presentació a càrrec de l’escriptora Núria Cadenes.
URL:https://nuriacadenes.cat/esdeveniment/abdulrazak-gurnah-parlem-del-nobel-a-valencia/
LOCATION:llibreria Fan Set\, C/ de Sant Ferran\, 12\, València\, 46001
CATEGORIES:conferència
END:VEVENT
BEGIN:VEVENT
DTSTART;TZID=UTC:20211215T190000
DTEND;TZID=UTC:20211215T203000
DTSTAMP:20260423T221619
CREATED:20211212T191053Z
LAST-MODIFIED:20211212T191053Z
UID:8426-1639594800-1639600200@nuriacadenes.cat
SUMMARY:'No tinguis èxit' a Alcoi
DESCRIPTION:Presentació del llibre d’articles de la Isabel-Clara Simó No tinguis èxit. Cultura\, feminisme i nació (1968-2019) (Comanegra). \nAmb Núria Cadenes\, que n’ha fet selecció i pròleg\, i Carles Cortés\, catedràtic de la Universitat d’Alacant.
URL:https://nuriacadenes.cat/esdeveniment/no-tinguis-exit-a-alcoi/
LOCATION:Casal ACPV Alcoi – Centre Cultural Ovidi Montllor\, C/ de Vistabella\, 8\, Alcoi\, 03802
CATEGORIES:presentació
END:VEVENT
BEGIN:VEVENT
DTSTART;TZID=UTC:20211120T103000
DTEND;TZID=UTC:20211120T223000
DTSTAMP:20260423T221619
CREATED:20211018T115109Z
LAST-MODIFIED:20211018T115525Z
UID:8305-1637404200-1637447400@nuriacadenes.cat
SUMMARY:Escola de Formació Guillem Agulló
DESCRIPTION:Òmnium Cultural ha organitzat aquesta primera sessió de l’Escola de Formació Guillem Agulló. \nÉs una Jornada sobre noviolència i activisme social i polític. Amb un programa que comptarà amb la participació\, entre d’altres\, de Jordi Armadans\,  Thais Bonilla\, Jordi Borràs\, Núria Cadenes\, David Fernàndez\, Gabriela Serra o Ignasi Termes. Cloenda a càrrec de Jordi Cuixart. \nEntrada gratuïta amb inscripció prèvia aquí.
URL:https://nuriacadenes.cat/esdeveniment/escola-de-formacio-guillem-agullo/
LOCATION:Campus de la Ciutadella de la Universitat Pompeu Fabra\, C/ de Ramon Trias Fargas\, 25-27\, Barcelona\, 08005
CATEGORIES:taula rodona
END:VEVENT
BEGIN:VEVENT
DTSTART;TZID=UTC:20211118T190000
DTEND;TZID=UTC:20211118T203000
DTSTAMP:20260423T221619
CREATED:20211103T193325Z
LAST-MODIFIED:20211103T193325Z
UID:8352-1637262000-1637267400@nuriacadenes.cat
SUMMARY:'Secundaris' a BiblioExtraradi
DESCRIPTION:Dins del cicle BiblioExtraradi\, “Escriure en català”. \nUna conversa al voltant de la novel·la Secundaris (Comanegra)\, de Núria Cadenes. \nActe conduït per Montserrat Vallès.
URL:https://nuriacadenes.cat/esdeveniment/secundaris-a-biblioextraradi/
LOCATION:Biblioteca Montserrat Roig (Sala Joana Raspall)\, C/ Verge de Montserrat\, 1-3\, Sant Feliu de Llobregat\, 08980
CATEGORIES:club de lectura
END:VEVENT
BEGIN:VEVENT
DTSTART;TZID=UTC:20211114T120000
DTEND;TZID=UTC:20211114T140000
DTSTAMP:20260423T221619
CREATED:20211114T084032Z
LAST-MODIFIED:20211114T085148Z
UID:8365-1636891200-1636898400@nuriacadenes.cat
SUMMARY:Diumenge al pati del CCCB: com s'escriu una vida?
DESCRIPTION:Com s’escriu una vida? Com s’organitza la informació? On se situa la veu narradora? Què és l’autoria quan es narra la vida d’una altra persona? Joan Todó i Núria Cadenes\, amb estratègies molt diferents\, han excel·lit a l’hora d’escriure vides alienes. \nNúria Cadenes ha publicat Guillem (Amsterdam\, 2020) sobre l’assassinat de Guillem Agulló. Joan Todó ha publicat La verda és porta (Godall\, 2021) sobre la vida i l’obra de Joaquim Soler i Ferret (1940-1993). \nInscripció\, aquí.
URL:https://nuriacadenes.cat/esdeveniment/diumenge-al-pati-del-cccb-com-sescriu-una-vida/
LOCATION:CCCB\, C/ de Montalegre\, 5\, Barcelona\, 08001
CATEGORIES:taula rodona
END:VEVENT
BEGIN:VEVENT
DTSTART;TZID=UTC:20211113T180000
DTEND;TZID=UTC:20211113T210000
DTSTAMP:20260423T221619
CREATED:20211102T110203Z
LAST-MODIFIED:20211102T110934Z
UID:8335-1636826400-1636837200@nuriacadenes.cat
SUMMARY:Premis Nacionals Joan Coromines
DESCRIPTION:Lliurament dels XIX Premis Nacionals Joan Coromines que atorga la CAL\,  Coordinadora d’Associacions per la Llengua. \nRebran els guardons d’enguany la llibreria Quera\, el Diari de la Llengua\, Núria Cadenes\, Cesk Freixas i Dàmaris Gelabert. \nA més a més\, es retrà homenatge a Mercè Giralt. \nAmb actuacions de la Polifònica Joia d’Alella i el grup Kirias.https://www.cal.cat/projecte/premis-joan-coromines/ \nActe conduït pel periodista Albert Manyà. \nEntrada gratuïta amb inscripció prèvia escrivint a corominesalella@cal.cat o bé telefonant al 93 415 90 02.
URL:https://nuriacadenes.cat/esdeveniment/premis-joan-coromines-2021-cal-cadenes/
LOCATION:Espai d’Arts Escèniques Casal d’Alella\, C/ de Santa Teresa\, 9\, Alella\, 08328
CATEGORIES:trobada
END:VEVENT
BEGIN:VEVENT
DTSTART;TZID=UTC:20211112T190000
DTEND;TZID=UTC:20211112T203000
DTSTAMP:20260423T221619
CREATED:20211103T191416Z
LAST-MODIFIED:20211103T191416Z
UID:8347-1636743600-1636749000@nuriacadenes.cat
SUMMARY:Isabel-Clara Simó\, la veu lliure
DESCRIPTION:Celebració del Correllengua 2021 a Alella: “Isabel-Clara Simó\, la veu lliure”\, conversa amb Núria Cadenes. \nEs pot condensar la vida i l’obra d’una escriptora com la Isabel-Clara Simó en una estona de conversa\, de xerrada\, d’enumeració? No\, és impossible. Ni en una estona ni en una setmana. Sempre hi ha matisos\, un article\, aquell llibre que ens va trasbalsar\, la vegada que la vam sentir explicar-se\, la passió i la raó i la vehemència i el compromís en el gest i en el somriure. La Isabel-Clara Simó és inabastable\, i d’això parlarem\, precisament\, al Correllengua: de la vida intensa i la creativitat literària i la defensa de la llibertat.
URL:https://nuriacadenes.cat/esdeveniment/isabel-clara-simo-la-veu-lliure/
LOCATION:Centre Cultural de Can Lleonart\, Pl. dels Germans Lleonart\, 1\, Alella\, 08328
CATEGORIES:trobada
END:VEVENT
BEGIN:VEVENT
DTSTART;TZID=UTC:20211105T193000
DTEND;TZID=UTC:20211105T210000
DTSTAMP:20260423T221619
CREATED:20211103T190246Z
LAST-MODIFIED:20211103T191601Z
UID:8342-1636140600-1636146000@nuriacadenes.cat
SUMMARY:Guillem Agulló i Miquel Grau\, a Crevillent
DESCRIPTION:Presentació conjunta dels llibres Guillem (Amsterdam)\, de Núria Cadenes\, i Miquel Grau 53/1977 (Pruna)\, de Llum Quiñonero.
URL:https://nuriacadenes.cat/esdeveniment/guillem-agullo-i-miquel-grau-a-crevillent/
LOCATION:Centre Jove Crevillent\, Av. de Madrid\, 13 A\, Crevillent\, 03330
CATEGORIES:presentació
END:VEVENT
BEGIN:VEVENT
DTSTART;TZID=UTC:20211024T130000
DTEND;TZID=UTC:20211024T140000
DTSTAMP:20260423T221619
CREATED:20211011T173039Z
LAST-MODIFIED:20211011T173039Z
UID:8279-1635080400-1635084000@nuriacadenes.cat
SUMMARY:Signatura a la Fira
DESCRIPTION:A la caseta de la llibreria Fan Set\, que és la número 46\, Núria Cadenes hi signarà exemplars de Guillem. \nPer exemple.
URL:https://nuriacadenes.cat/esdeveniment/signatura-a-la-fira/
LOCATION:Fan Set – Casetes 33-34 Fira del Llibre\, Jardins de Vivers\, València\, 46010
CATEGORIES:signatura
END:VEVENT
BEGIN:VEVENT
DTSTART;TZID=UTC:20211022T191500
DTEND;TZID=UTC:20211022T200000
DTSTAMP:20260423T221619
CREATED:20211011T180804Z
LAST-MODIFIED:20211011T180804Z
UID:8282-1634930100-1634932800@nuriacadenes.cat
SUMMARY:Isabel-Clara Simó + Joan Fuster
DESCRIPTION:Serà un cara a cara literari. Assagístic. D’afinitats. Una presentació de dos llibres d’assaig curt\, articles\, periodisme de fondària i capacitat incisiva. L’editorial Comanegra presenta els dos darrers títols de la col·lecció Autories\, i hi ha el No tinguis èxit. Cultura\, feminisme i nació (1 \n968-2019)\, d \ne la Isabel-Clara Simó\, i\, del bracet\, Figura d’assaig. Literatura\, crítica\, cultuta (1948-1992)\, de Joan Fuster. \nEns els presentaran Núria Cadenes i Antoni Martí Monterde\, que han fet selecció i pròleg de l’un i de l’altre. \nA la Sala Museu 3.
URL:https://nuriacadenes.cat/esdeveniment/isabel-clara-simo-joan-fuster/
LOCATION:Fira del Llibre\, Jardins dels Vivers\, València
CATEGORIES:presentació
END:VEVENT
BEGIN:VEVENT
DTSTART;TZID=UTC:20211022T180000
DTEND;TZID=UTC:20211022T183000
DTSTAMP:20260423T221619
CREATED:20211008T090424Z
LAST-MODIFIED:20211008T090546Z
UID:8262-1634925600-1634927400@nuriacadenes.cat
SUMMARY:El llibre de l'Aliaga
DESCRIPTION:Ja estem morts\, amor (Angle Editorial) és una senyora novel·la i es presentarà a la Fira del Llibre de València. Ambl’autor\, Xavier Aliaga\, acompanyat de Núria Cadenes. \n(A l’Espai Obert 2)
URL:https://nuriacadenes.cat/esdeveniment/el-llibre-de-laliaga/
LOCATION:Fira del Llibre\, Jardins dels Vivers\, València
CATEGORIES:presentació
END:VEVENT
BEGIN:VEVENT
DTSTART;TZID=UTC:20211020T190000
DTEND;TZID=UTC:20211020T203000
DTSTAMP:20260423T221619
CREATED:20211008T085346Z
LAST-MODIFIED:20211008T090648Z
UID:8258-1634756400-1634761800@nuriacadenes.cat
SUMMARY:Baules a Barcelona
DESCRIPTION:La Marta Nadal ha confegit aquest intens llibre d’entrevistes literàries\, i la presentació a Barcelona té l’aire d’esdeveniment. \nAmb les escriptores Maria Barbal\, Núria Cadenes\, Isabel Granya\, Mercè Ibarz\, Dolors Miquel\, Marta Pessarrodona\, Eva Piquer i Cèlia Sànchez-Mústich\, la periodista Gemma Ventura Farré\, l’editor de Comanegra\, Jordi Puig\, i l’autora. \nReserva de seients: reserves@onallibres.cat
URL:https://nuriacadenes.cat/esdeveniment/baules-a-barcelona/
LOCATION:Ona Llibres\, C/ de Pau Claris\, 94\, Barcelona\, 08010
CATEGORIES:presentació
END:VEVENT
BEGIN:VEVENT
DTSTART;TZID=UTC:20211006T183000
DTEND;TZID=UTC:20211006T193000
DTSTAMP:20260423T221619
CREATED:20211001T094914Z
LAST-MODIFIED:20211001T095646Z
UID:8238-1633545000-1633548600@nuriacadenes.cat
SUMMARY:Club de lectura\, 'Guillem'
DESCRIPTION:Trobada amb el club de lectura de la Biblioteca Arrancapins-Escalante\, per a parlar-hi de Guillem.
URL:https://nuriacadenes.cat/esdeveniment/club-de-lectura-guillem/
LOCATION:Biblioteca Arrancapins – Eduard Escalante\, C/ d'Alberic\, 18\, València\, 46008
CATEGORIES:club de lectura
END:VEVENT
BEGIN:VEVENT
DTSTART;TZID=UTC:20211002T090000
DTEND;TZID=UTC:20211002T190000
DTSTAMP:20260423T221619
CREATED:20210930T180717Z
LAST-MODIFIED:20211001T095553Z
UID:8227-1633165200-1633201200@nuriacadenes.cat
SUMMARY:A Cervera\, 'La lluita continua'
DESCRIPTION:‘La lluita continua’\, jornada sobre la implicació del jovent en política. \n9 h. Benvinguda institucional\n9.45 h. Projecció del curtmetratge Ni oblit ni perdó de Jordi Boquet Claramunt\n10 h. Taula rodona “El llegat de Guillem Agulló” a càrrec de Jordi Boquet Claramunt (director de cinema)\, Núria Cadenes (escriptora\, autora del llibre Guillem) i de Josep Nadal (músic i diputat a les Corts Valencianes)\n11.30 h. Pausa\n12.15 h. Taula rodona “Els joves actuals tenen interès per la política?” a càrrec de Maria Fajardo (portaveu de Compromís a l’Ajuntament de Vila-real) i representants de les organitzacions juvenils locals de La Forja\, Jovent Republicà i de la Joventut Nacionalista de Catalunya.\n13.30 h. Dinar al Casal de Cervera (Plaça Santa Anna)\n17 h. Ponència i posterior debat sobre “L’evolució i estat actual de l’ultradreta a Catalunya i l’estat espanyol” a càrrec d’Adam Majó (director general de la Promoció i Defensa dels Drets Humans de la Generalitat de Catalunya) i Marià Llop (vicepresident del Consell Nacional de la Joventut de Catalunya). \n(Inscripcions\, clicant aquí i omplint el formulari)
URL:https://nuriacadenes.cat/esdeveniment/a-cervera-la-lluita-continua/
LOCATION:Gran Teatre de la Passió\, passeig de Balmes\, 4\, Cervera\, 25200
CATEGORIES:trobada
END:VEVENT
BEGIN:VEVENT
DTSTART;TZID=UTC:20210715T183000
DTEND;TZID=UTC:20210715T193000
DTSTAMP:20260423T221619
CREATED:20210713T103028Z
LAST-MODIFIED:20210713T105231Z
UID:8133-1626373800-1626377400@nuriacadenes.cat
SUMMARY:Guillem\, al club de lectura CatalansUK
DESCRIPTION:4t Club de Lectura de CatalansUK \nEl Casal català de Londres organitza aquest club de lectura en línia sobre la novel·la Guillem\, de Núria Cadenes. \nLa inscripció prèvia es pot fer des d’aquí: https://www.eventbrite.co.uk/e/4rta-sessio-del-club-de-lectura-catalansuk-tickets-159541108751 \n  \n 
URL:https://nuriacadenes.cat/esdeveniment/guillem-cadenes-catalansuk/
CATEGORIES:club de lectura
END:VEVENT
BEGIN:VEVENT
DTSTART;TZID=UTC:20210612T100000
DTEND;TZID=UTC:20210612T140000
DTSTAMP:20260423T221619
CREATED:20210609T184041Z
LAST-MODIFIED:20210609T184041Z
UID:8104-1623492000-1623506400@nuriacadenes.cat
SUMMARY:Barcelona a la postguerra: visions literàries
DESCRIPTION:XIII Seminari Literatura i Ciutat \nBarcelona en postguerra: visions literàries \nAmb Marina Porras\, “El Pijoaparte i Cecilia Cé” (10.15 h.); Mireia Sopena\, “El camp editorial català a la Barcelona de postguerra” (11 h.); Joan Safont\, “Sabotatges contra Franco” (12 h.); Núria Cadenes\, “La llarga postguerra: projeccions del franquisme” (12.45 h.). \nAssistència gratuïta. Places limitades. \n 
URL:https://nuriacadenes.cat/esdeveniment/barcelona-postguerra/
LOCATION:MUHBa Vil·la Joana\, Ctra de l'Església\, 104\, Vallvidrera\, 08017
CATEGORIES:taula rodona
END:VEVENT
BEGIN:VEVENT
DTSTART;TZID=UTC:20210513T194500
DTEND;TZID=UTC:20210513T210000
DTSTAMP:20260423T221619
CREATED:20210504T075359Z
LAST-MODIFIED:20210504T075359Z
UID:8074-1620935100-1620939600@nuriacadenes.cat
SUMMARY:'Guillem' a Elx
DESCRIPTION:Presentació de Guillem: \nNúria Cadenes serà al Casal d’ACPV d’Elx per a presentar-hi la novel·la del cas Guillem Agulló. \nPer les coses de la grmxtrfcovid\, cal inscripció prèvia: elx@acpv.cat \n 
URL:https://nuriacadenes.cat/esdeveniment/guillem-a-elx-2/
LOCATION:Casal d’ACPV d’Elx\, C/ de Sant Jordi\, 2\, Elx\, 03203
CATEGORIES:presentació
END:VEVENT
BEGIN:VEVENT
DTSTART;TZID=UTC:20210506T190000
DTEND;TZID=UTC:20210506T203000
DTSTAMP:20260423T221619
CREATED:20210408T153959Z
LAST-MODIFIED:20210408T154329Z
UID:8007-1620327600-1620333000@nuriacadenes.cat
SUMMARY:Isabel-Clara Simó\, presentació a València
DESCRIPTION:Presentació de la biografia Isabel-Clara Simó\, una veu lliure i compromesa (Ara Llibres)\, de Jordi Tormo. \nMaria Josep Amigó\, Núria Cadenes\, Joan Carles Girbés acompanyaran l’autor. \n(cal fer-hi reserva prèvia: activitats.magnanim@dival.es)
URL:https://nuriacadenes.cat/esdeveniment/presentacio-a-valencia-biografia-isabel-clara-simo/
LOCATION:Centre Cultural la Beneficència\, C/ de la Corona\, 36\, València\, 46003
CATEGORIES:presentació
END:VEVENT
BEGIN:VEVENT
DTSTART;TZID=UTC:20210422T183000
DTEND;TZID=UTC:20210422T200000
DTSTAMP:20260423T221619
CREATED:20210416T180110Z
LAST-MODIFIED:20210416T180110Z
UID:8033-1619116200-1619121600@nuriacadenes.cat
SUMMARY:'Guillem' a Taradell
DESCRIPTION:Presentació de Guillem: Núria Cadenes conversa amb Jordi Bancells\, Txevi Rovira i Guillem Casadesús. \n 
URL:https://nuriacadenes.cat/esdeveniment/guillem-presentacio-taradell-nuria-cadenes/
LOCATION:Can Costa i Font\, Carretera de Balenyà\, 101\, Taradell\, 08552
CATEGORIES:presentació
END:VEVENT
BEGIN:VEVENT
DTSTART;TZID=UTC:20210421T180000
DTEND;TZID=UTC:20210421T200000
DTSTAMP:20260423T221619
CREATED:20210416T165940Z
LAST-MODIFIED:20210416T165940Z
UID:8025-1619028000-1619035200@nuriacadenes.cat
SUMMARY:Sant Jordi a la Fan Set
DESCRIPTION:Signatures a la llibreria Fan Set\, a l’OctubreCCC: \nManel Rodríguez-Castelló\, amb Farem un pensament (Lletra Impresa); Pau Alabajos\, amb Hotel Fontana (Bromera); Núria Cadenes\, amb Guillem (Amsterdam).
URL:https://nuriacadenes.cat/esdeveniment/sant-jordi-octubreccc-fanset-alabajos-cadenes-rodriguezcastello/
LOCATION:llibreria Fan Set\, C/ de Sant Ferran\, 12\, València\, 46001
CATEGORIES:signatura
END:VEVENT
BEGIN:VEVENT
DTSTART;TZID=UTC:20210420T190000
DTEND;TZID=UTC:20210420T200000
DTSTAMP:20260423T221619
CREATED:20210419T190402Z
LAST-MODIFIED:20210419T192219Z
UID:8045-1618945200-1618948800@nuriacadenes.cat
SUMMARY:'Guillem' als Dimarts Negres d'Amnistia Internacional
DESCRIPTION:11a edició dels Dimarts Negres d’Amnistia Internacional\, per a parlar-hi de la novel·la Guillem\, de Núria Cadenes: \n“Núria Cadenes dóna a questa història la forma de novel·la\, però sense un bri de ficció. No es tracta d’una novel·la basada en fets reals. Són els fets reals contats en forma literària. La literatura és una forma de narrar molt poderosa. Pot anar més enllà dels fets sense eixir de la realitat. I això és el que fa Núria Cadenes\, narra els fets\, els ambients\, la societat\, l’actuació de la justícia\, els personatges\, les famílies\, els amics\, i sobretot les emocions i els sentiments a través d’una determinada estructura i d’un ús del llenguatge que aconsegueix que els lectors formem part del relat\, que participem dels sentiments i les emocions que allà s’hi descriuen.”
URL:https://nuriacadenes.cat/esdeveniment/guillem-amnistia-internacional/
LOCATION:Sporting Club de Russafa\, C/ de Sevilla\, 5\, València\, 46004
CATEGORIES:presentació
END:VEVENT
BEGIN:VEVENT
DTSTART;TZID=UTC:20210417T170000
DTEND;TZID=UTC:20210417T193000
DTSTAMP:20260423T221619
CREATED:20210416T160540Z
LAST-MODIFIED:20210416T160540Z
UID:8020-1618678800-1618687800@nuriacadenes.cat
SUMMARY:I Jornades de Formació 'Guillem Agulló'
DESCRIPTION:Primeres Jornades de Formació “Guillem Agulló” a l’Horta Nord. \nAmb José A. España\, doctorand en història contemporània; Núria Cadenes\, escriptora; Jordi Sebastià\, periodista i ex-batlle de Burjassot; i Adrián Vives\, membre de València Acull. \n(cal fer-hi reserva prèvia bo i omplint aquest formulari)
URL:https://nuriacadenes.cat/esdeveniment/jornades-formacio-guillem-agullo-joves-pv-compromis/
LOCATION:Casa de la Cultura de Foios\, Plaça d'Espanya\, s/n\, Foios\, 46134
CATEGORIES:taula rodona
END:VEVENT
BEGIN:VEVENT
DTSTART;TZID=UTC:20210411T103000
DTEND;TZID=UTC:20210411T133000
DTSTAMP:20260423T221619
CREATED:20210407T185731Z
LAST-MODIFIED:20210407T185731Z
UID:7994-1618137000-1618147800@nuriacadenes.cat
SUMMARY:Manresa homenatja Guillem Agulló
DESCRIPTION:28 anys amb Guillem Agulló\, en homenatge \nAmb Núria Cadenes\, escriptora i autora de Guillem\, Pere Fernández\, Unitat Contra el Feixisme i el Racisme\, i Jordi Masdeu\, CUP Manresa. \nDesprés\, vermut amb DJ Rutxo.
URL:https://nuriacadenes.cat/esdeveniment/guillem-agullo-manresa-11-abril/
LOCATION:Plaça de la Reforma\, Manresa\, 08240
CATEGORIES:presentació
END:VEVENT
BEGIN:VEVENT
DTSTART;TZID=UTC:20210326T190000
DTEND;TZID=UTC:20210326T203000
DTSTAMP:20260423T221619
CREATED:20210324T195010Z
LAST-MODIFIED:20210324T195430Z
UID:7977-1616785200-1616790600@nuriacadenes.cat
SUMMARY:Guillem a Ontinyent
DESCRIPTION:Presentació de la novel·la Guillem a Ontinyent. \nAmb Núria Cadenes i amb Jorge Mancebo\, membre de la Crida Contra el Racisme i el Feixisme. \n(Per les coses de la grmxtrfcovid\, la capacitat del local és limitada)
URL:https://nuriacadenes.cat/esdeveniment/guillem-a-ontinyent-cadenes/
LOCATION:Casa de Cultura – Palau dels Barons de Santa Bàrbara\, C/ de Maians\, 26\, Ontinyent\, 46870
CATEGORIES:presentació
END:VEVENT
BEGIN:VEVENT
DTSTART;TZID=UTC:20210325T190000
DTEND;TZID=UTC:20210325T200000
DTSTAMP:20260423T221619
CREATED:20210324T193721Z
LAST-MODIFIED:20210324T195250Z
UID:7973-1616698800-1616702400@nuriacadenes.cat
SUMMARY:Club de lectura virtual - Biblioteques de Barcelona
DESCRIPTION:Videoconferència final al Club de Lectura Virtual de les Biblioteques de Barcelona per a parlar-hi de Guillem. \nLa trobada serà conduïda per l’escriptora Anna Ballbona. \nHi cal inscripció prèvia. \nTota la informació\, en aquest enllaç: https://ajuntament.barcelona.cat/biblioteques/ca/content/clubs-de-lectura-virtuals
URL:https://nuriacadenes.cat/esdeveniment/guillem-biblioteques-barcelona-cadenes-ballbona/
CATEGORIES:trobada
END:VEVENT
END:VCALENDAR