BEGIN:VCALENDAR
VERSION:2.0
PRODID:-//Núria Cadenes - ECPv6.15.20//NONSGML v1.0//EN
CALSCALE:GREGORIAN
METHOD:PUBLISH
X-ORIGINAL-URL:https://nuriacadenes.cat
X-WR-CALDESC:Esdeveniments per Núria Cadenes
REFRESH-INTERVAL;VALUE=DURATION:PT1H
X-Robots-Tag:noindex
X-PUBLISHED-TTL:PT1H
BEGIN:VTIMEZONE
TZID:UTC
BEGIN:STANDARD
TZOFFSETFROM:+0000
TZOFFSETTO:+0000
TZNAME:UTC
DTSTART:20200101T000000
END:STANDARD
END:VTIMEZONE
BEGIN:VEVENT
DTSTART;TZID=UTC:20220625T193000
DTEND;TZID=UTC:20220625T203000
DTSTAMP:20260423T171756
CREATED:20220608T063558Z
LAST-MODIFIED:20220608T064140Z
UID:8811-1656185400-1656189000@nuriacadenes.cat
SUMMARY:El temps que pensa Gustau Muñoz
DESCRIPTION:Arriba la II Fira de l’Edició Independent i al plató Veles e Vents s’hi presenta el darrer llibre de Gustau Muñoz\, El temps que vius. Elements per a una crítica del present (Lletra Impresa). \nAmb l’autor i amb l’escriptora Núria Cadenes.
URL:https://nuriacadenes.cat/esdeveniment/el-temps-que-pensa-gustau-munoz/
LOCATION:Fira de l’Edició Independent\, Esplanada Veles e Vents\, València\, 46024
CATEGORIES:presentació
END:VEVENT
BEGIN:VEVENT
DTSTART;TZID=UTC:20220622T190000
DTEND;TZID=UTC:20220622T203000
DTSTAMP:20260423T171756
CREATED:20220613T152352Z
LAST-MODIFIED:20220613T153146Z
UID:8838-1655924400-1655929800@nuriacadenes.cat
SUMMARY:Consells\, proverbis i insolències: una conversa
DESCRIPTION:Que hi ha el número de Sàpiens dedicat a Joan Fuster. I que hi ha el volum de Consells\, proverbis i insolències que ha editat Ara Llibres a cura de Jordi Muñoz. I que de tot això\, i del que s’escaigui\, en parlaran en conversa Núria Cadenes\, Joan Carles Girbés i Clàudia Pujol. \nCal inscriure-s’hi i es pot fer aquí.
URL:https://nuriacadenes.cat/esdeveniment/consells-proverbis-i-insolencies-una-conversa/
LOCATION:Abacus València\, C/ del Poeta Quintana\, 5\, València\, 46003
CATEGORIES:taula rodona
END:VEVENT
BEGIN:VEVENT
DTSTART;TZID=UTC:20220621T183000
DTEND;TZID=UTC:20220621T200000
DTSTAMP:20260423T171756
CREATED:20220530T184746Z
LAST-MODIFIED:20220530T184746Z
UID:8785-1655836200-1655841600@nuriacadenes.cat
SUMMARY:La idea de país de Joan Fuster
DESCRIPTION:Coincidint amb la data del 30è aniversari de la mort de Joan Fuster\, el 21 de juny\, la Biblioteca de Catalunya i la Institució de les Lletres Catalanes organitzen una jornada d’homenatge i estudi centrada en la idea i la construcció de país de Fuster. \nL’acte consistirà en dues taules rodones\, a la sala de la Caritat\, i un espectacle musical\, a la sala de Llevant. \nA la Sala de la Caritat\, des de les 17 h.\, \n“La idea de país de Joan Fuster“\, amb David Fernàndez\, Joan Manuel Tresserras\, Damià Pons i Josefina Salord. Moderats per Vicent Sanchís. \n“País i països\, una reflexió cívica“\, amb Gustau Muñoz\, Toni Mollà i Núria Cadenes. Moderats per Mònica Terribas. \nA la Sala de Llevant\, des de les 20.30 h.\, \nBorja Penalba acompanyat al piano d’Enric Murillo\, canta Fuster i altres poetes.
URL:https://nuriacadenes.cat/esdeveniment/la-idea-de-pais-de-joan-fuster/
LOCATION:Biblioteca de Catalunya\, C/ de l'Hospital\, 56\, Barcelona\, 08001
CATEGORIES:taula rodona
END:VEVENT
BEGIN:VEVENT
DTSTART;TZID=UTC:20220620T190000
DTEND;TZID=UTC:20220620T203000
DTSTAMP:20260423T171756
CREATED:20220527T091814Z
LAST-MODIFIED:20220527T091814Z
UID:8780-1655751600-1655757000@nuriacadenes.cat
SUMMARY:Fantàstic Josep Piera
DESCRIPTION:Presentació del llibre de Josep Piera\, Els fantàstics 70. 1969-1974 (Institució Alfons el Magnànim). \nAmb l’autor i amb Xavier Serra\, Martí Domínguez i Núria Cadenes.
URL:https://nuriacadenes.cat/esdeveniment/fantastic-josep-piera/
LOCATION:llibreria Fan Set\, C/ de Sant Ferran\, 12\, València\, 46001
CATEGORIES:presentació
END:VEVENT
BEGIN:VEVENT
DTSTART;TZID=UTC:20220611T110000
DTEND;TZID=UTC:20220611T200000
DTSTAMP:20260423T171756
CREATED:20220609T191628Z
LAST-MODIFIED:20220609T194101Z
UID:8826-1654945200-1654977600@nuriacadenes.cat
SUMMARY:Fira del Llibre Únic!
DESCRIPTION:És el festival literari que posa el llibre de fons al centre de totes les mirades\nLa Fira del Llibre Únic omple la Fàbrica Lehmann de llibres amb una única convicció: la qualitat per davant de l’actualitat. És un esdeveniment amb 11 editorials de referència\, 11 llibres únics i 11 activitats originals per reivindicar el llibre de fons. \nÉs una Fira de llibres fora de la roda de la novetat\, i el que s’hi compta\, al cap del dia\, són les històries que els 11 títols hauran desencadenat entre el públic i els editors. Per això\, totes onze editorials presentaran una activitat diferent relacionada amb la trama i l’esperit del llibre únic que hagin triat. \nNo hi haurà rànquings\, només relats provocats per la literatura viscuda d’una altra manera. \n  \n  \n 
URL:https://nuriacadenes.cat/esdeveniment/fira-del-llibre-unic/
LOCATION:Fàbrica Lehmann\, C/ del Consell de Cent\, 159\, Barcelona\, 08015
CATEGORIES:trobada
END:VEVENT
BEGIN:VEVENT
DTSTART;TZID=UTC:20220610T200000
DTEND;TZID=UTC:20220610T213000
DTSTAMP:20260423T171756
CREATED:20220527T090915Z
LAST-MODIFIED:20220527T090915Z
UID:8776-1654891200-1654896600@nuriacadenes.cat
SUMMARY:Fuster i Pedrolo al Correllengua de Tàrrega
DESCRIPTION:El Correllengua 2022 arriba a Tàrrega\, i obre activitats amb una conferència doble: “Fuster i Pedrolo. Literatura i política“. A càrrec de l’escriptora Núria Cadenes i de l’historiador Xavier Ferrer. Ho modera\, Jordi Muñoz\, director de l’Escola d’Escriptura de l’Ateneu Barcelonès.
URL:https://nuriacadenes.cat/esdeveniment/fuster-i-pedrolo-al-correllengua-de-tarrega/
LOCATION:Sala de Plens de l’Ajuntament de Tàrrega\, Plaça Major\, 1\, Tàrrega\, 25300
CATEGORIES:taula rodona
END:VEVENT
BEGIN:VEVENT
DTSTART;TZID=UTC:20220525T183000
DTEND;TZID=UTC:20220525T203000
DTSTAMP:20260423T171756
CREATED:20220502T173855Z
LAST-MODIFIED:20220527T091947Z
UID:8720-1653503400-1653510600@nuriacadenes.cat
SUMMARY:A Barcelona\, Correllengua i Joan Fuster
DESCRIPTION:Acte commemoratiu del centenari del naixement de Joan Fuster\, en el marc del Correllengua i del Pacte nacional per la Llengua: “Països Catalans: unitat lingüística i nacional”. \nAmb Teresa Cabré\, presidenta de l’Institut d’Estudis Catalans\, i Blanca Serra\, lingüista i política\, que llegirà el manifest del Correllengua. \nTaula rodona amb Núria Cadenes\, escriptora\, Bernat Joan\, escriptor i polític\, Joan Peytavi\, historiador\, Miquel Àngel Pradilla\, professor\, moderats per l’escriptor David Vila. \nCloenda a càrrec de Jaume Marfany\, president de la CAL. \n(CApacitat de la sala limitada. Cal confirmar assistència a cal@cal.cat o bé al telèfon 93 415 90 02)
URL:https://nuriacadenes.cat/esdeveniment/a-barcelona-correllengua-i-joan-fuster/
LOCATION:Institut d’Estudis Catalans – Sala Pere i Joan Coromines\, C/ del Carme\, 47\, Barcelona\, 08001
CATEGORIES:taula rodona
END:VEVENT
BEGIN:VEVENT
DTSTART;TZID=UTC:20220506T123000
DTEND;TZID=UTC:20220506T133000
DTSTAMP:20260423T171756
CREATED:20220502T180206Z
LAST-MODIFIED:20220502T180246Z
UID:8728-1651840200-1651843800@nuriacadenes.cat
SUMMARY:10 anys de Crims.cat\, a València
DESCRIPTION:Crims.cat ha fet deu anys i convoca roda de premsa de repàs i celebració i d’anuncis de futur també. \nAmb Àlex Martín\, director de la col·lecció\, i amb els escriptors Xavier Aliaga\, Silvestre Vilaplana\, Joan Carles Ventura\, Juli Alandes i Salvador Company. Moderats per l’escriptora Núria Cadenes. \n(Per a confirmar assistència: iperdigo@alreveseditorial.com)
URL:https://nuriacadenes.cat/esdeveniment/10-anys-decrims-cat-a-valencia/
LOCATION:Fira del LLibre – Sala Museu 2\, Jardins de Vivers\, València\, 46010
CATEGORIES:taula rodona
END:VEVENT
BEGIN:VEVENT
DTSTART;TZID=UTC:20220503T180000
DTEND;TZID=UTC:20220503T193000
DTSTAMP:20260423T171756
CREATED:20220502T171907Z
LAST-MODIFIED:20220502T171907Z
UID:8714-1651600800-1651606200@nuriacadenes.cat
SUMMARY:Joan Fuster: les cares del mestre
DESCRIPTION:Taula rodona sobre Joan Fuster: “Les cares del mestre”. \nAmb Núria Cadenes\, Carme Gregori i Xavier Serra.
URL:https://nuriacadenes.cat/esdeveniment/joan-fuster-les-cares-del-mestre/
LOCATION:Facultat de Filologia\, Traducció i Comunicació (UV)\, Av. de Blasco Ibàñez\, 32\, València\, 46010
CATEGORIES:taula rodona
END:VEVENT
BEGIN:VEVENT
DTSTART;TZID=UTC:20220424T110000
DTEND;TZID=UTC:20220424T130000
DTSTAMP:20260423T171756
CREATED:20220419T113541Z
LAST-MODIFIED:20220419T114836Z
UID:8693-1650798000-1650805200@nuriacadenes.cat
SUMMARY:Sant Jordi als cellers
DESCRIPTION:Un diumenge\, 24 cellers\, 24 escriptors\, 24 llibres\, places limitades. \nL’endemà de Sant Jordi\, els llibres passejaran entre vinyes en una bella iniciativa: al celler Agustí Torelló Mata hi haurà visita guiada i després\, sota els pins\, tallets de mona de Pasqua i trufes maridats amb dos caves Brut de Guarda Superior mentre s’hi presenta la nova edició de la novel·la Tota la veritat (La Magrana)\, de Núria Cadenes. \nAl celler Agustí Torelló Mata expliquen això: “Ens mantenim fidels a les varietats autòctones tradicionals\, úniques al mon: macabeu\, xarel·lo i parellada per als caves blancs\, i trepat per al rosat”. \nLes places són limitades i cal reservar-les a visites@agustitorellomata.com o bé al telèfon 93 891 11 73. L’activitat costa 15 €.
URL:https://nuriacadenes.cat/esdeveniment/sant-jordi-als-cellers-cadenes/
LOCATION:Celler Agustí Torelló Mata\, La Serra\, s/n\, Sant Sadurní d'Anoia\, 08770
CATEGORIES:presentació
END:VEVENT
BEGIN:VEVENT
DTSTART;TZID=UTC:20220408T190000
DTEND;TZID=UTC:20220408T203000
DTSTAMP:20260423T171757
CREATED:20220331T084401Z
LAST-MODIFIED:20220331T084704Z
UID:8663-1649444400-1649449800@nuriacadenes.cat
SUMMARY:Amb Jordi Borràs\, a Benimaclet
DESCRIPTION:“L’única mort que em preocupa és la de la memòria”: amb aquesta citació de Neus Català s’obre Tots els colors del negre (Ara)\, el llibre del periodista Jordi Borràs. \nÉs una potent investigació sobre els moviments d’extrema dreta a Catalunya i Europa que es presenta a València amb l’autor i l’escriptora Núria Cadenes.
URL:https://nuriacadenes.cat/esdeveniment/amb-jordi-borras-a-benimaclet/
LOCATION:La Repartidora\, C/ del Reverend Rafael Tramoyeres\, 8\, València\, 46020
CATEGORIES:presentació
END:VEVENT
BEGIN:VEVENT
DTSTART;TZID=UTC:20220401T193000
DTEND;TZID=UTC:20220401T210000
DTSTAMP:20260423T171757
CREATED:20220330T192732Z
LAST-MODIFIED:20220330T192732Z
UID:8657-1648841400-1648846800@nuriacadenes.cat
SUMMARY:'Guillem' a Folgueroles
DESCRIPTION:Club de lectura a la Sala Mirador del Centre Cultural de Folgueroles. L’acte és obert a tothom i hi parlarem de Guillem.
URL:https://nuriacadenes.cat/esdeveniment/guillem-a-folgueroles/
LOCATION:Centre Cultural\, Carrer Nou\, 15\, Folgueroles\, 08519
CATEGORIES:club de lectura
END:VEVENT
BEGIN:VEVENT
DTSTART;TZID=UTC:20220329T190000
DTEND;TZID=UTC:20220329T203000
DTSTAMP:20260423T171757
CREATED:20220322T085300Z
LAST-MODIFIED:20220322T085300Z
UID:8643-1648580400-1648585800@nuriacadenes.cat
SUMMARY:Les fronteres d'en Partal
DESCRIPTION:“Contra allò que sol pensar la gent\, i contra allò que els estats volen que pensem\, les fronteres són sempre una invenció humana i ni tan sols aquellesmés aparentment naturals no ho són\, de naturals” \nPresentació de Fronteres (Comanegra)\, el darrer llibre de Vicent Partal. En conversa amb Núria Cadenes.
URL:https://nuriacadenes.cat/esdeveniment/les-fronteres-den-partal/
LOCATION:llibreria Fan Set\, C/ de Sant Ferran\, 12\, València\, 46001
CATEGORIES:presentació
END:VEVENT
BEGIN:VEVENT
DTSTART;TZID=UTC:20220301T193000
DTEND;TZID=UTC:20220301T210000
DTSTAMP:20260423T171757
CREATED:20220228T092538Z
LAST-MODIFIED:20220228T092538Z
UID:8602-1646163000-1646168400@nuriacadenes.cat
SUMMARY:Fer País Valencià
DESCRIPTION:Presentació del llibre de Nèstor Novell i Josep Sorribes\, Notícia del País Valencià. Fer país\, 60 anys d’idees\, estudis\, converses i reflexions (Balandra). \nAmb els autors i amb Núria Cadenes\, Vicent Flor\, Àfrica Ramírez i Vicent Flor.
URL:https://nuriacadenes.cat/esdeveniment/fer-pais-valencia/
LOCATION:Casa de Cultura Marqués González de Quirós\, Passeig de les Germanies\, 11\, Gandia\, 46702
END:VEVENT
BEGIN:VEVENT
DTSTART;TZID=UTC:20220228T183000
DTEND;TZID=UTC:20220228T200000
DTSTAMP:20260423T171757
CREATED:20220228T090831Z
LAST-MODIFIED:20220228T090832Z
UID:8598-1646073000-1646078400@nuriacadenes.cat
SUMMARY:Simposi Internacional Joan Fuster
DESCRIPTION:Per tancar la primera jornada del Simposi Internacional Joan Fuster que organitza la Universitat de València\, taula rodona: “Joan Fuster encara i sempre: reflexions creuades sobre la seua recepció“. \nAmb Núria Cadenes\, Gustau Muñoz\, Marc Senabre i Lourdes Toledo. Ho moderarà Gonçal López-Pampló.
URL:https://nuriacadenes.cat/esdeveniment/simposi-internacional-joan-fuster/
LOCATION:Facultat de Filologia\, Traducció i Comunicació (UV)\, Av. de Blasco Ibàñez\, 32\, València\, 46010
CATEGORIES:taula rodona
END:VEVENT
BEGIN:VEVENT
DTSTART;TZID=UTC:20220224T180000
DTEND;TZID=UTC:20220224T193000
DTSTAMP:20260423T171757
CREATED:20220216T114716Z
LAST-MODIFIED:20220216T115031Z
UID:8578-1645725600-1645731000@nuriacadenes.cat
SUMMARY:Revistes culturals
DESCRIPTION:Taula rodona per a presentar i explicar èxits i dificultats i reptes de les revistes culturals fetes des del País Valencià. \nAmb Martí Domínguez\, director de Mètode; Laura Peris\, secretària tècnica de L’Espill; Begonya Pozo\, directora de Caràcters; i Violeta Tena\, redactora del setmanari El Temps. \nModeradora: Núria Cadenes. \nPer streaming\, des de culturaiei.cat
URL:https://nuriacadenes.cat/esdeveniment/revistes-culturals/
LOCATION:culturaiei.cat\, Lleida\, 25002
CATEGORIES:taula rodona
END:VEVENT
BEGIN:VEVENT
DTSTART;TZID=UTC:20220223T193000
DTEND;TZID=UTC:20220223T210000
DTSTAMP:20260423T171757
CREATED:20220216T111605Z
LAST-MODIFIED:20220216T111840Z
UID:8571-1645644600-1645650000@nuriacadenes.cat
SUMMARY:Amb l'Eulàlia Reguant
DESCRIPTION:La volen jutjar per haver-se negat a respondre els representants de la ultra ultra dreta que feien d’acusació contra els presos polítics independentistes al Tribunal Suprem espanyol. \nActe polític de suport a la diputada Eulàlia Reguant\, amb intervencions\, entre més\, d’Anna Gabriel\, Antonio Baños\, Norma Pedemonte\, Pau Juvillà\, Núria Cadenes i Laia Soldevila.
URL:https://nuriacadenes.cat/esdeveniment/amb-leulalia-reguant/
LOCATION:Calàbria 66 – Espai Veïnal\, C/ de Calàbria\, 66\, Barcelona\, 08015
CATEGORIES:trobada
END:VEVENT
BEGIN:VEVENT
DTSTART;TZID=UTC:20220217T190000
DTEND;TZID=UTC:20220217T203000
DTSTAMP:20260423T171757
CREATED:20220213T180236Z
LAST-MODIFIED:20220213T180236Z
UID:8533-1645124400-1645129800@nuriacadenes.cat
SUMMARY:El carrer de Baix\, a València
DESCRIPTION:Presentació de la novel·la de Vicent Flor\, El carrer de Baix (Edicions 62)\, guanyadora del darrer premi Joanot Martorell. \nEls escriptors Joan Benesiu i Núria Cadenes\, l’editora Pilar Beltran i la regidora de Gandia\, Liduvina Gil\, conversaran amb l’autor.
URL:https://nuriacadenes.cat/esdeveniment/el-carrer-de-baix-a-valencia/
LOCATION:llibreria Fan Set\, C/ de Sant Ferran\, 12\, València\, 46001
CATEGORIES:presentació
END:VEVENT
BEGIN:VEVENT
DTSTART;TZID=UTC:20220210T230000
DTEND;TZID=UTC:20220211T000000
DTSTAMP:20260423T171757
CREATED:20220208T202446Z
LAST-MODIFIED:20220208T202446Z
UID:8522-1644534000-1644537600@nuriacadenes.cat
SUMMARY:Causa general\, en línia
DESCRIPTION:Presentació en línia del llibre Causa general (Angle)\, de Jordi Panyella. Amb Núria Cadenes i Josep Cruanyes. \nA les 23 h. (hora catalana) o les 17 h. (hora equatoriana). \nAquí: https://us02web.zoom.us/webinar/register/3216440165374/WN_lAgg5SIlRRujcbi6k27bCQ \nI aquí també: https://www.youtube.com/watch?v=6iEbEQUJeOA \n  \n 
URL:https://nuriacadenes.cat/esdeveniment/causa-general-cadenes-panyella-cruanyes/
CATEGORIES:taula rodona
END:VEVENT
BEGIN:VEVENT
DTSTART;TZID=UTC:20220204T193000
DTEND;TZID=UTC:20220204T213000
DTSTAMP:20260423T171757
CREATED:20220124T181333Z
LAST-MODIFIED:20220124T181816Z
UID:8492-1644003000-1644010200@nuriacadenes.cat
SUMMARY:'El banquer'\, a Caldes
DESCRIPTION:  \nClub de lectura amb la gent de la Biblioteca Francesc Ferrer i Guàrdia. \nAmb El banquer (Edicions de 1984). \nI amb Núria Cadenes\, autora de la novel·la.
URL:https://nuriacadenes.cat/esdeveniment/el-banquer-a-caldes/
LOCATION:Biblioteca Francesc Ferrer i Guàrdia\, C/ de la Llibertat\, 6\, Caldes de Malavella\, 17455
CATEGORIES:club de lectura
END:VEVENT
BEGIN:VEVENT
DTSTART;TZID=UTC:20220128T200000
DTEND;TZID=UTC:20220128T210000
DTSTAMP:20260423T171757
CREATED:20220124T191355Z
LAST-MODIFIED:20220213T175250Z
UID:8503-1643400000-1643403600@nuriacadenes.cat
SUMMARY:A Gata\, 'Guillem'
DESCRIPTION:És això que diu el cartell: que a Gata de Gorgos hi ha un edifici municipal que duu el nom de Guillem Agulló. \nI que serà allà\, precisament\, on hi presentarem la novel·la Guillem (Amsterdam). Amb Núria Cadenes.
URL:https://nuriacadenes.cat/esdeveniment/a-gata-guillem/
LOCATION:Edifici Polivalent Guillem Agulló\, C/ Grup Escolar\, 35\, Gata de Gorgos\, 03740
CATEGORIES:presentació
END:VEVENT
BEGIN:VEVENT
DTSTART;TZID=UTC:20220128T200000
DTEND;TZID=UTC:20220128T210000
DTSTAMP:20260423T171757
CREATED:20220124T190935Z
LAST-MODIFIED:20220919T072142Z
UID:8499-1643400000-1643403600@nuriacadenes.cat
SUMMARY:'Guillem' a Gata
DESCRIPTION:Això que diu el cartell: que a Gata hi ha presentació de Guillem (Amsterdam). \nAmb l’autora\, Núria Cadenes.
URL:https://nuriacadenes.cat/esdeveniment/guillem-a-gata/
LOCATION:Edifici Polivalent Guillem Agulló\, C/ Grup Escolar\, 35\, Gata de Gorgos\, 03740
CATEGORIES:presentació
END:VEVENT
BEGIN:VEVENT
DTSTART;TZID=UTC:20220127T190000
DTEND;TZID=UTC:20220127T203000
DTSTAMP:20260423T171757
CREATED:20220113T082409Z
LAST-MODIFIED:20220121T110341Z
UID:8464-1643310000-1643315400@nuriacadenes.cat
SUMMARY:A Barcelona\, 'Causa general'
DESCRIPTION:Presentació de Causa general. La repressió de l’Estat espanyol contra el moviment per la independència de Catalunya (2009-2021) (Angle Editorial)\, de Jordi Panyella. \nAmb Núria Cadenes\, Josep Cruanyes i l’autor. \n(Cal confirmar l’assistència a reserves@onallibres.cat)
URL:https://nuriacadenes.cat/esdeveniment/a-barcelona-causa-general/
LOCATION:Ona Llibres\, C/ de Pau Claris\, 94\, Barcelona\, 08010
CATEGORIES:presentació
END:VEVENT
BEGIN:VEVENT
DTSTART;TZID=UTC:20220119T190000
DTEND;TZID=UTC:20220119T203000
DTSTAMP:20260423T171757
CREATED:20220115T114402Z
LAST-MODIFIED:20220115T114423Z
UID:8469-1642618800-1642624200@nuriacadenes.cat
SUMMARY:Abdulrazak Gurnah: parlem del Nobel a València
DESCRIPTION:Dins del Cicle Premis Nobel 2021 que organitza l’Espai Ciència de l’OctubreCCC\, parlarem del darrer Nobel de literatura\, Abdulrazak Gurnah. \nAmb Esther Pujolràs Noguer\, professora de literatura postcolonial de la Universitat de Lleida. Presentació a càrrec de l’escriptora Núria Cadenes.
URL:https://nuriacadenes.cat/esdeveniment/abdulrazak-gurnah-parlem-del-nobel-a-valencia/
LOCATION:llibreria Fan Set\, C/ de Sant Ferran\, 12\, València\, 46001
CATEGORIES:conferència
END:VEVENT
BEGIN:VEVENT
DTSTART;TZID=UTC:20211215T190000
DTEND;TZID=UTC:20211215T203000
DTSTAMP:20260423T171757
CREATED:20211212T191053Z
LAST-MODIFIED:20211212T191053Z
UID:8426-1639594800-1639600200@nuriacadenes.cat
SUMMARY:'No tinguis èxit' a Alcoi
DESCRIPTION:Presentació del llibre d’articles de la Isabel-Clara Simó No tinguis èxit. Cultura\, feminisme i nació (1968-2019) (Comanegra). \nAmb Núria Cadenes\, que n’ha fet selecció i pròleg\, i Carles Cortés\, catedràtic de la Universitat d’Alacant.
URL:https://nuriacadenes.cat/esdeveniment/no-tinguis-exit-a-alcoi/
LOCATION:Casal ACPV Alcoi – Centre Cultural Ovidi Montllor\, C/ de Vistabella\, 8\, Alcoi\, 03802
CATEGORIES:presentació
END:VEVENT
BEGIN:VEVENT
DTSTART;TZID=UTC:20211120T103000
DTEND;TZID=UTC:20211120T223000
DTSTAMP:20260423T171757
CREATED:20211018T115109Z
LAST-MODIFIED:20211018T115525Z
UID:8305-1637404200-1637447400@nuriacadenes.cat
SUMMARY:Escola de Formació Guillem Agulló
DESCRIPTION:Òmnium Cultural ha organitzat aquesta primera sessió de l’Escola de Formació Guillem Agulló. \nÉs una Jornada sobre noviolència i activisme social i polític. Amb un programa que comptarà amb la participació\, entre d’altres\, de Jordi Armadans\,  Thais Bonilla\, Jordi Borràs\, Núria Cadenes\, David Fernàndez\, Gabriela Serra o Ignasi Termes. Cloenda a càrrec de Jordi Cuixart. \nEntrada gratuïta amb inscripció prèvia aquí.
URL:https://nuriacadenes.cat/esdeveniment/escola-de-formacio-guillem-agullo/
LOCATION:Campus de la Ciutadella de la Universitat Pompeu Fabra\, C/ de Ramon Trias Fargas\, 25-27\, Barcelona\, 08005
CATEGORIES:taula rodona
END:VEVENT
BEGIN:VEVENT
DTSTART;TZID=UTC:20211118T190000
DTEND;TZID=UTC:20211118T203000
DTSTAMP:20260423T171757
CREATED:20211103T193325Z
LAST-MODIFIED:20211103T193325Z
UID:8352-1637262000-1637267400@nuriacadenes.cat
SUMMARY:'Secundaris' a BiblioExtraradi
DESCRIPTION:Dins del cicle BiblioExtraradi\, “Escriure en català”. \nUna conversa al voltant de la novel·la Secundaris (Comanegra)\, de Núria Cadenes. \nActe conduït per Montserrat Vallès.
URL:https://nuriacadenes.cat/esdeveniment/secundaris-a-biblioextraradi/
LOCATION:Biblioteca Montserrat Roig (Sala Joana Raspall)\, C/ Verge de Montserrat\, 1-3\, Sant Feliu de Llobregat\, 08980
CATEGORIES:club de lectura
END:VEVENT
BEGIN:VEVENT
DTSTART;TZID=UTC:20211114T120000
DTEND;TZID=UTC:20211114T140000
DTSTAMP:20260423T171757
CREATED:20211114T084032Z
LAST-MODIFIED:20211114T085148Z
UID:8365-1636891200-1636898400@nuriacadenes.cat
SUMMARY:Diumenge al pati del CCCB: com s'escriu una vida?
DESCRIPTION:Com s’escriu una vida? Com s’organitza la informació? On se situa la veu narradora? Què és l’autoria quan es narra la vida d’una altra persona? Joan Todó i Núria Cadenes\, amb estratègies molt diferents\, han excel·lit a l’hora d’escriure vides alienes. \nNúria Cadenes ha publicat Guillem (Amsterdam\, 2020) sobre l’assassinat de Guillem Agulló. Joan Todó ha publicat La verda és porta (Godall\, 2021) sobre la vida i l’obra de Joaquim Soler i Ferret (1940-1993). \nInscripció\, aquí.
URL:https://nuriacadenes.cat/esdeveniment/diumenge-al-pati-del-cccb-com-sescriu-una-vida/
LOCATION:CCCB\, C/ de Montalegre\, 5\, Barcelona\, 08001
CATEGORIES:taula rodona
END:VEVENT
BEGIN:VEVENT
DTSTART;TZID=UTC:20211113T180000
DTEND;TZID=UTC:20211113T210000
DTSTAMP:20260423T171757
CREATED:20211102T110203Z
LAST-MODIFIED:20211102T110934Z
UID:8335-1636826400-1636837200@nuriacadenes.cat
SUMMARY:Premis Nacionals Joan Coromines
DESCRIPTION:Lliurament dels XIX Premis Nacionals Joan Coromines que atorga la CAL\,  Coordinadora d’Associacions per la Llengua. \nRebran els guardons d’enguany la llibreria Quera\, el Diari de la Llengua\, Núria Cadenes\, Cesk Freixas i Dàmaris Gelabert. \nA més a més\, es retrà homenatge a Mercè Giralt. \nAmb actuacions de la Polifònica Joia d’Alella i el grup Kirias.https://www.cal.cat/projecte/premis-joan-coromines/ \nActe conduït pel periodista Albert Manyà. \nEntrada gratuïta amb inscripció prèvia escrivint a corominesalella@cal.cat o bé telefonant al 93 415 90 02.
URL:https://nuriacadenes.cat/esdeveniment/premis-joan-coromines-2021-cal-cadenes/
LOCATION:Espai d’Arts Escèniques Casal d’Alella\, C/ de Santa Teresa\, 9\, Alella\, 08328
CATEGORIES:trobada
END:VEVENT
BEGIN:VEVENT
DTSTART;TZID=UTC:20211112T190000
DTEND;TZID=UTC:20211112T203000
DTSTAMP:20260423T171757
CREATED:20211103T191416Z
LAST-MODIFIED:20211103T191416Z
UID:8347-1636743600-1636749000@nuriacadenes.cat
SUMMARY:Isabel-Clara Simó\, la veu lliure
DESCRIPTION:Celebració del Correllengua 2021 a Alella: “Isabel-Clara Simó\, la veu lliure”\, conversa amb Núria Cadenes. \nEs pot condensar la vida i l’obra d’una escriptora com la Isabel-Clara Simó en una estona de conversa\, de xerrada\, d’enumeració? No\, és impossible. Ni en una estona ni en una setmana. Sempre hi ha matisos\, un article\, aquell llibre que ens va trasbalsar\, la vegada que la vam sentir explicar-se\, la passió i la raó i la vehemència i el compromís en el gest i en el somriure. La Isabel-Clara Simó és inabastable\, i d’això parlarem\, precisament\, al Correllengua: de la vida intensa i la creativitat literària i la defensa de la llibertat.
URL:https://nuriacadenes.cat/esdeveniment/isabel-clara-simo-la-veu-lliure/
LOCATION:Centre Cultural de Can Lleonart\, Pl. dels Germans Lleonart\, 1\, Alella\, 08328
CATEGORIES:trobada
END:VEVENT
END:VCALENDAR