BEGIN:VCALENDAR
VERSION:2.0
PRODID:-//Núria Cadenes - ECPv6.15.20//NONSGML v1.0//EN
CALSCALE:GREGORIAN
METHOD:PUBLISH
X-ORIGINAL-URL:https://nuriacadenes.cat
X-WR-CALDESC:Esdeveniments per Núria Cadenes
REFRESH-INTERVAL;VALUE=DURATION:PT1H
X-Robots-Tag:noindex
X-PUBLISHED-TTL:PT1H
BEGIN:VTIMEZONE
TZID:UTC
BEGIN:STANDARD
TZOFFSETFROM:+0000
TZOFFSETTO:+0000
TZNAME:UTC
DTSTART:20210101T000000
END:STANDARD
END:VTIMEZONE
BEGIN:VEVENT
DTSTART;TZID=UTC:20221112T120000
DTEND;TZID=UTC:20221112T133000
DTSTAMP:20260423T104601
CREATED:20221106T120736Z
LAST-MODIFIED:20221106T121213Z
UID:9202-1668254400-1668259800@nuriacadenes.cat
SUMMARY:Temps Obert a l'Obaga de Barcelona
DESCRIPTION:Serà una conversa a moltes veus. \nPerquè hi haurà la Bea Porqueres\, que ha estat professora d’història\, i que propicia retrobaments; i en Jordi Puig\, l’editor-instigador de Comanegra; i en Joaquim Carbó\, mestre escriptor i company d’aventura pedroliana; i en Manuel de Pedrolo\, també\, perquè Temps Obert és idea i obra seva i perquè en la literatura perdura; i la Núria Cadenes\, que ha escrit La terra s’ho porta i No han donat la llum\, encara i que és el llibre que oficialment s’hi presentarà; i tothom que s’hi vulgui sumar\, perquè el 12 a les 12\, a l’Obaga\, obrirem el temps i la conversa i la literatura.
URL:https://nuriacadenes.cat/esdeveniment/temps-obert-a-lobaga-de-barcelona/
LOCATION:Obaga Llibreria\, C/ de Girona\, 179\, Barcelona\, 08037
CATEGORIES:presentació
END:VEVENT
BEGIN:VEVENT
DTSTART;TZID=UTC:20221111T183000
DTEND;TZID=UTC:20221111T200000
DTSTAMP:20260423T104601
CREATED:20221107T192727Z
LAST-MODIFIED:20221107T192727Z
UID:9215-1668191400-1668196800@nuriacadenes.cat
SUMMARY:'Cogito\, ergo sumus'. Què hi farem! - Esplugues
DESCRIPTION:Per què podem afirmar que al nostre país hi ha un abans i un després de Joan Fuster? Breu recorregut en dotze aforismes per la vida\, l’obra i la influència cívica de l’intel·lectual català més decisiu del segle XX. \nXerrada a càrrec de Núria Cadenes.
URL:https://nuriacadenes.cat/esdeveniment/cogito-ergo-sumus-que-hi-farem-esplugues/
LOCATION:Biblioteca Pare Miquel\, C/ d'Àngel Guimerà\, 106-108\, Esplugues de Llobregat\, 08950
CATEGORIES:conferència
END:VEVENT
BEGIN:VEVENT
DTSTART;TZID=UTC:20221110T190000
DTEND;TZID=UTC:20221110T203000
DTSTAMP:20260423T104601
CREATED:20221024T170256Z
LAST-MODIFIED:20221024T171019Z
UID:9173-1668106800-1668112200@nuriacadenes.cat
SUMMARY:'Cogito\, ergo sumus'. Què hi farem! - Olesa de Montserrat
DESCRIPTION:Per què podem afirmar que al nostre país hi ha un abans i un després de Joan Fuster? Breu recorregut en dotze aforismes per la vida\, l’obra i la influència cívica de l’intel·lectual català més decisiu del segle XX. \nXerrada a càrrec de Núria Cadenes.
URL:https://nuriacadenes.cat/esdeveniment/cogito-ergo-sumus-que-hi-farem-olesa-de-montserrat/
LOCATION:Biblioteca Santa Oliva\, C/ de Salvador Casas\, 28\, Olesa de Montserrat\, 08640
CATEGORIES:conferència
END:VEVENT
BEGIN:VEVENT
DTSTART;TZID=UTC:20221103T200000
DTEND;TZID=UTC:20221103T210000
DTSTAMP:20260423T104601
CREATED:20221024T155542Z
LAST-MODIFIED:20221031T194524Z
UID:9169-1667505600-1667509200@nuriacadenes.cat
SUMMARY:'Cogito\, ergo sumus'. Què hi farem! - Torregrossa
DESCRIPTION:Per què podem afirmar que al nostre país hi ha un abans i un després de Joan Fuster? Breu recorregut en dotze aforismes per la vida\, l’obra i la influència cívica de l’intel·lectual català més decisiu del segle XX. \nXerrada a càrrec de Núria Cadenes.
URL:https://nuriacadenes.cat/esdeveniment/cogito-ergo-sumus-que-hi-farem-torregrossa/
LOCATION:Biblioteca Maria Mercè Marçal\, C/ de Jacint Verdaguer\, s/n\, Torregrossa\, 25141
CATEGORIES:conferència
END:VEVENT
BEGIN:VEVENT
DTSTART;TZID=UTC:20221030T190000
DTEND;TZID=UTC:20221030T210000
DTSTAMP:20260423T104601
CREATED:20221024T154500Z
LAST-MODIFIED:20221024T154500Z
UID:9164-1667156400-1667163600@nuriacadenes.cat
SUMMARY:Centenari Joan Fuster\, a Sueca
DESCRIPTION:Una commemoració interdisciplinària. Amb música i amb paraula\, pensament i cultura popular. \nHi participen\, entre més\, l’historiador Antoni Furió i l’escriptora Núria Cadenes.
URL:https://nuriacadenes.cat/esdeveniment/centenari-joan-fuster-a-sueca/
LOCATION:Centre Municipal Bernat i Baldoví\, C/ de Sant Josep\, 32\, Sueca\, 46410
CATEGORIES:trobada
END:VEVENT
BEGIN:VEVENT
DTSTART;TZID=UTC:20221026T163000
DTEND;TZID=UTC:20221026T180000
DTSTAMP:20260423T104601
CREATED:20221025T122247Z
LAST-MODIFIED:20221025T122247Z
UID:9180-1666801800-1666807200@nuriacadenes.cat
SUMMARY:40 anys després de l'Estatut\, què?
DESCRIPTION:Dins de la jornada “40 anys fent país”\, de la Universitat de València\, vesprada per parlar de “Comunicació social\, símbols i creació artística”. \nTaula rodona: “Llenguatges connectats: literatura\, música i cinema”. Amb Núria Cadenes\, escriptora; Miquel Gil\, músic; Carme Gregori\, professora de Filologia Catalana (UV); i Isadora Guardiola\, professora de Comunicació Audiovisual (UV). Taula moderada per Rafael Roca.
URL:https://nuriacadenes.cat/esdeveniment/40-anys-despres-de-lestatut-que/
LOCATION:Sala de Graus Enric Valor – Facultat de Filologia\, Traducció i Comunicació – Universitat de València\, Av. de lasco Ibàñez\, 32\, València\, 46010
CATEGORIES:taula rodona
END:VEVENT
BEGIN:VEVENT
DTSTART;TZID=UTC:20221025T201500
DTEND;TZID=UTC:20221025T213000
DTSTAMP:20260423T104601
CREATED:20220920T150854Z
LAST-MODIFIED:20220920T153046Z
UID:9053-1666728900-1666733400@nuriacadenes.cat
SUMMARY:Nosaltres\, les fusterianes
DESCRIPTION:Dins del programa “Illes i literatura”\, col·loqui entre les escriptores Núria Cadenes i Gemma Pasqual: “Nosaltres\, les fusterianes”. \nPer celebrar l’Any Fuster i el Dia de les Escriptores i tant com vulguem celebrar.
URL:https://nuriacadenes.cat/esdeveniment/nosaltres-les-fusterianes/
LOCATION:Biblioteca Municipal d’Eivissa\, Av. d'Ignasi Wallis\, 26\, Eivissa\, 07800
CATEGORIES:taula rodona
END:VEVENT
BEGIN:VEVENT
DTSTART;TZID=UTC:20221021T193000
DTEND;TZID=UTC:20221021T210000
DTSTAMP:20260423T104601
CREATED:20221018T152906Z
LAST-MODIFIED:20221018T152906Z
UID:9147-1666380600-1666386000@nuriacadenes.cat
SUMMARY:'Guillem' a Xixón
DESCRIPTION:Presentació de la traducció de Guillem a l’asturià: amb el traductor\, Miguel Sánchez Canella\, amb el director de la col·lecció Calume de l’editorial Trabe\, Rafael Rodríguez Valdés\, i amb l’autora\, Núria Cadenes.
URL:https://nuriacadenes.cat/esdeveniment/guillem-a-xixon/
LOCATION:La Revoltosa\, C/ Juan Alonso\, 12\, Xixón\, 33201
CATEGORIES:presentació
END:VEVENT
BEGIN:VEVENT
DTSTART;TZID=UTC:20221020T193000
DTEND;TZID=UTC:20221020T210000
DTSTAMP:20260423T104601
CREATED:20221018T154051Z
LAST-MODIFIED:20221018T154051Z
UID:9151-1666294200-1666299600@nuriacadenes.cat
SUMMARY:'Guillem' a Uviéu
DESCRIPTION:Dins del cicle “Afinidades electivas”\, presentació de la traducció de Guillem a l’asturià: amb el traductor\, Miguel Sánchez Canella\, i amb l’autora\, Núria Cadenes.
URL:https://nuriacadenes.cat/esdeveniment/guillem-a-uvieu/
LOCATION:Llibrería Trabe\, C/ Fernando Alonso\, 17\, baxu derecha\, Uviéu\, 33009
CATEGORIES:presentació
END:VEVENT
BEGIN:VEVENT
DTSTART;TZID=UTC:20221019T190000
DTEND;TZID=UTC:20221019T203000
DTSTAMP:20260423T104601
CREATED:20221008T153319Z
LAST-MODIFIED:20221008T153319Z
UID:9116-1666206000-1666211400@nuriacadenes.cat
SUMMARY:'Indòmit'\, de Tomàs Llopis
DESCRIPTION:Indòmit (Lletra Impresa) és la darrera novel·la de Tomàs Llopis\, la història d’un home excèntric\, brutal\, capriciós i rebel\, víctima de les contradiccions del trànsit de l’Edat Mitjana al Renaixement. \nPresentació a càrrec de l’autor acopanyat de l’escriptora Núria Cadenes.
URL:https://nuriacadenes.cat/esdeveniment/indomit-de-tomas-llopis/
LOCATION:llibreria Fan Set\, C/ de Sant Ferran\, 12\, València\, 46001
CATEGORIES:presentació
END:VEVENT
BEGIN:VEVENT
DTSTART;TZID=UTC:20221015T123000
DTEND;TZID=UTC:20221015T140000
DTSTAMP:20260423T104601
CREATED:20221005T184201Z
LAST-MODIFIED:20221005T184201Z
UID:9094-1665837000-1665842400@nuriacadenes.cat
SUMMARY:Fuster\, Ferrater\, Bonet: cànon a tres veus
DESCRIPTION:Serà una sessió conjunta Barcelona-València-Palma per a dir JOan Fuster\, Gabriel Ferrater i Blai Bonet a tres veus. \nAmb Núria Cadenes\, Laia Alegret i Lucia Pietrielli.\nActivitat conduïda per Emili Manzano.
URL:https://nuriacadenes.cat/esdeveniment/fuster-ferrater-bonet-canon-a-tres-veus/
LOCATION:Can Balaguer\, C/ de la Unió\, 3\, Palma\, 07001
CATEGORIES:taula rodona
END:VEVENT
BEGIN:VEVENT
DTSTART;TZID=UTC:20221014T193000
DTEND;TZID=UTC:20221014T210000
DTSTAMP:20260423T104601
CREATED:20221007T171056Z
LAST-MODIFIED:20221007T171056Z
UID:9105-1665775800-1665781200@nuriacadenes.cat
SUMMARY:'Cogito\, ergo sumus'. Què hi farem! - Caldes de Malavella
DESCRIPTION:Per què podem afirmar que al nostre país hi ha un abans i un després de Joan Fuster? \nBreu recorregut en dotze aforismes per la vida\, l’obra i la influència cívica de l’intel·lectual català més decisiu del segle XX\, a càrrec de l’escriptora Núria Cadenes.
URL:https://nuriacadenes.cat/esdeveniment/cogito-ergo-sumus-que-hi-farem-caldes-de-malavella/
LOCATION:Biblioteca Francesc Ferrer i Guàrdia\, C/ de la Llibertat\, 6\, Caldes de Malavella\, 17455
CATEGORIES:conferència
END:VEVENT
BEGIN:VEVENT
DTSTART;TZID=UTC:20221013T193000
DTEND;TZID=UTC:20221013T210000
DTSTAMP:20260423T104601
CREATED:20221005T184926Z
LAST-MODIFIED:20221005T184926Z
UID:9101-1665689400-1665694800@nuriacadenes.cat
SUMMARY:Joan Fuster\, el clarivident insolent
DESCRIPTION:Joan Fuster\, pensador\, historiador de la cultura\, escriptor guspirejant i punyent\, és una de les grans figures del segle passat i un dels intel·lectuals que més influència han tingut entre nosaltres. \nAquesta conversa moderada pel periodista i escriptor Joan Safont versarà sobre tres aspectes interconnectats de l’obra de Joan Fuster: la política\, la figura de l’intel·lectual i la reflexió sobre art i cultura. Comptarà amb la participació de l’escriptora Núria Cadenes\, el professor de teoria de la literatura i escriptor Antoni Martí Monterde i el periodista i escriptor Pere Antoni Pons.
URL:https://nuriacadenes.cat/esdeveniment/joan-fuster-el-clarivident-insolent/
LOCATION:Can Felipa\, Pl. de Josep Maria Huertas Claveria\, 1\, Barcelona\, 08001
CATEGORIES:taula rodona
END:VEVENT
BEGIN:VEVENT
DTSTART;TZID=UTC:20221004T190000
DTEND;TZID=UTC:20221004T203000
DTSTAMP:20260423T104601
CREATED:20221003T073225Z
LAST-MODIFIED:20221003T073225Z
UID:9082-1664910000-1664915400@nuriacadenes.cat
SUMMARY:L'Any Fuster\, a Cardedeu
DESCRIPTION:Un acte complet per a commemorar l’Any Fuster: breu recorregut en dotze aforismes per la vida\, l’obra i la influència cívica de l’intel·lectual català més decisiu del segle XX. \nConferència a càrrec de l’historiador Jan Brugueras i de l’escriptora Núria Cadenes. \nActuació del músic i cantant Alfons Om Boronat.
URL:https://nuriacadenes.cat/esdeveniment/lany-fuster-a-cardedeu/
LOCATION:Aula de Cultura – Teatre Auditori Cardedeu\, Av. del Rei en Jaume\, 118\, Cardedeu\, 08440
CATEGORIES:conferència
END:VEVENT
BEGIN:VEVENT
DTSTART;TZID=UTC:20221001T120000
DTEND;TZID=UTC:20221001T133000
DTSTAMP:20260423T104601
CREATED:20220920T104843Z
LAST-MODIFIED:20220928T072834Z
UID:9041-1664625600-1664631000@nuriacadenes.cat
SUMMARY:Manuel de Pedrolo\, batalla oberta
DESCRIPTION:Quin és el teu Manuel de Pedrolo? O el Pedrolo primer\, el Pedrolo a partir del qual etcètera? Sis escriptors sis en una batalla oberta per defensar\, cadascun\, la seva proposta. \nAl ring\, Núria Cadenes\, Gerard Furest\, Júlia Ojeda\, Joaquim Carbó\, Teresa Colom\, Sebastià Bennasar; com a àrbitra i mestra de cerimònies\, Anna Maria Villalonga. \nI el públic\, que votarà i decidirà.
URL:https://nuriacadenes.cat/esdeveniment/manuel-de-pedrolo-batalla-oberta/
LOCATION:CCCB\, C/ de Montalegre\, 5\, Barcelona\, 08001
CATEGORIES:taula rodona
END:VEVENT
BEGIN:VEVENT
DTSTART;TZID=UTC:20220930T193000
DTEND;TZID=UTC:20220930T210000
DTSTAMP:20260423T104601
CREATED:20220923T073135Z
LAST-MODIFIED:20220923T073135Z
UID:9067-1664566200-1664571600@nuriacadenes.cat
SUMMARY:Correllengua a Esplugues de Llobregat
DESCRIPTION:Per celebrar el Correllengua de l’Any Fuster\, la CAL convida al col·loqui “Unitat lingüística? Unitat nacional?”. \nAmb l’escriptora Núria Cadenes\, l’historiador Joan Peytaví\, l’escriptor i polític Bernat Joan i el president de la CAL\, Jaume Marfany.
URL:https://nuriacadenes.cat/esdeveniment/correllengua-a-esplugues-de-llobregat/
LOCATION:Casal de Cultura Robert Brillas\, C/ d'Àngel Guimerà\, 38\, Esplugues de Llobregat\, 08950
CATEGORIES:taula rodona
END:VEVENT
BEGIN:VEVENT
DTSTART;TZID=UTC:20220922T190000
DTEND;TZID=UTC:20220922T203000
DTSTAMP:20260423T104601
CREATED:20220913T174616Z
LAST-MODIFIED:20220913T174616Z
UID:9005-1663873200-1663878600@nuriacadenes.cat
SUMMARY:La vigència del Fuster polièdric
DESCRIPTION:Diàleg entre les escriptores Núria Cadenes i Anna Moner i especial Terra en la boca\, de Criatura Teatre\, amb Ismael Sempere i Raquel Garabal. \nVeus de la literatura per abastar algunes parts de Joan Fuster. Polièdric. Vigent.
URL:https://nuriacadenes.cat/esdeveniment/la-vigencia-del-fuster-poliedric/
LOCATION:Facultat de Filologia\, Traducció i Comunicació (UV)\, Av. de Blasco Ibàñez\, 32\, València\, 46010
CATEGORIES:taula rodona
END:VEVENT
BEGIN:VEVENT
DTSTART;TZID=UTC:20220917T170000
DTEND;TZID=UTC:20220917T183000
DTSTAMP:20260423T104601
CREATED:20220831T172557Z
LAST-MODIFIED:20220831T172557Z
UID:8959-1663434000-1663439400@nuriacadenes.cat
SUMMARY:A les converses de pensament crític
DESCRIPTION:Serà una taula rodona per parlar-hi de la por. I de la llibertat. I de la interacció entre totes dues. La por de la llibertat. I la por que pretén posar límits a la llibertat. Evitar-la\, fins i tot. El filòsof Ramon Alcoberro i l’escriptora Núria Cadenes conversaran sobre “Por pensada\, por viscuda i por política”. Moderats per Lluís Montull. \nA les IV Jornades de Pensament Crític a les Terres de l’Ebre.
URL:https://nuriacadenes.cat/esdeveniment/a-les-converses-de-pensament-critic/
LOCATION:Casal Municipal\, C/ Major\, 88\, Móra la Nova\, 43770
CATEGORIES:taula rodona
END:VEVENT
BEGIN:VEVENT
DTSTART;TZID=UTC:20220916T183000
DTEND;TZID=UTC:20220916T200000
DTSTAMP:20260423T104601
CREATED:20220903T182944Z
LAST-MODIFIED:20220903T182944Z
UID:8972-1663353000-1663358400@nuriacadenes.cat
SUMMARY:Correllengua al Masnou
DESCRIPTION:Dins dels actes del Correllengua\, al Masnou\, conferència de Núria Cadenes sobre Joan Fuster\, lectura del Manifest i exposició Joan Fuster: la nostra pàtria és la nostra llengua”
URL:https://nuriacadenes.cat/esdeveniment/correllengua-al-masnou/
LOCATION:Biblioteca Joan Coromines – Sala de les Lletres\, C/ de Josep Pujadas Truch\, 1 A\, El Masnou\, 08320
CATEGORIES:conferència
END:VEVENT
BEGIN:VEVENT
DTSTART;TZID=UTC:20220914T193000
DTEND;TZID=UTC:20220914T203000
DTSTAMP:20260423T104601
CREATED:20220906T102454Z
LAST-MODIFIED:20220906T102814Z
UID:8984-1663183800-1663187400@nuriacadenes.cat
SUMMARY:Joan Francesc Mira\, Premi Trajectòria
DESCRIPTION:La Setmana del Llibre en Català ha atorgat el XXII Premi Trajectòria a l’escriptor i antropòleg Joan Francesc Mira. \nLa cerimònia de lliurament serà presentada per Marta Vives i comptarà amb la participació de Joan Carles Girbés\, director de la Setmana\, i dels escriptors Borja Bagunyà\,  Núria Cadenes i Adrià Pujol.
URL:https://nuriacadenes.cat/esdeveniment/joan-francesc-mira-premi-trajectoria/
LOCATION:Setmana del Llibre en Català – Espai Converses\, Passeig de Lluís Companys\, Barcelona\, 08018
CATEGORIES:taula rodona
END:VEVENT
BEGIN:VEVENT
DTSTART;TZID=UTC:20220911T130000
DTEND;TZID=UTC:20220911T143000
DTSTAMP:20260423T104601
CREATED:20220830T101058Z
LAST-MODIFIED:20220830T101336Z
UID:8953-1662901200-1662906600@nuriacadenes.cat
SUMMARY:Onze de Setembre\, al Born
DESCRIPTION:Acte polític amb intervencions de Lluís Llach\, Dolors Sabater\, Marcel Vivet\, Núria Cadenes\, Ramon Piqué\, Guillem Fuster\, David Rigola. \nActuació de Meritxell Gené i de la Colla de Dolçaines i Tabals Borumballa.
URL:https://nuriacadenes.cat/esdeveniment/onze-de-setembre-al-born-2/
LOCATION:Passeig del Born\, Passeig del Born\, Barcelona\, 08003
CATEGORIES:trobada
END:VEVENT
BEGIN:VEVENT
DTSTART;TZID=UTC:20220911T120000
DTEND;TZID=UTC:20220911T130000
DTSTAMP:20260423T104601
CREATED:20220902T164525Z
LAST-MODIFIED:20220902T164525Z
UID:8966-1662897600-1662901200@nuriacadenes.cat
SUMMARY:Signatura a la Setmana del Llibre en Català
DESCRIPTION:Serà la primera vegada que les dues novel·les i la seva autora es veuran les cares en públic. Signatura de La terra s’ho porta i de No han donat la llum\, encara\, de Núria Cadenes\, a la Setmana del Llibre en Català. \nAl mateix lloc\, i a la mateixa hora\, en Joaquim Carbó signarà exemplars del seu (seus) Ascens de Daniel Bastida i Caiguda de Daniel Bastida. \nDues (quatre) obres publicades a Comanegra. Segon (XI-XIII) i tercer (XIV-XV) volum del segon llibre de Temps Obert\, creat per Manuel de Pedrolo. És més senzill del que sembla escrit així.
URL:https://nuriacadenes.cat/esdeveniment/signatura-a-la-setmana-del-llibre-en-catala/
LOCATION:Comanegra – Mòdul 5-6\, Moll de la Fusta\, Barcelona\, 08039
CATEGORIES:signatura
END:VEVENT
BEGIN:VEVENT
DTSTART;TZID=UTC:20220716T190000
DTEND;TZID=UTC:20220716T200000
DTSTAMP:20260423T104601
CREATED:20220704T172855Z
LAST-MODIFIED:20220704T174003Z
UID:8879-1657998000-1658001600@nuriacadenes.cat
SUMMARY:Al Creixell.Crims!
DESCRIPTION:És Creixell.Crims\, el Festival de Novel·la Criminal en Català\, i engega amb força: amb la presentació del premi de novel·la Margarida Aritzeta i amb una programació que inclou intervencions d’Anna Maria Villalonga\, Sebastià Bennasar\, X. R. Trigo\, Salvador Balcells\, Montse Sanjuan… \nDissabte a la vesprada hi haurà la taula rodona “Ones mortals”\, amb Núria Cadenes i Iñaki Rubio\, moderats per la directora del festival\, Raquel Gámez-Serrano. \nTota la programació\, aquí: https://www.creixell.cat/municipi/creixell-crims-festival-de-novel-la-criminal-en-catala
URL:https://nuriacadenes.cat/esdeveniment/cadenes-al-creixell-crims/
LOCATION:Plaça del Mirador\, Avinguda del Mar\, 11\, Creixell\, 43839
CATEGORIES:taula rodona
END:VEVENT
BEGIN:VEVENT
DTSTART;TZID=UTC:20220627T183000
DTEND;TZID=UTC:20220627T200000
DTSTAMP:20260423T104601
CREATED:20220613T155307Z
LAST-MODIFIED:20220613T163248Z
UID:8846-1656354600-1656360000@nuriacadenes.cat
SUMMARY:Hores incertes a Terrassa
DESCRIPTION:És el segon volum del Dietari de Canonges: Les hores incertes (Símbol Editors) arriba a Terrassa i  Núria Cadenes acompanyarà el MH president Quim Torra en la presentació.
URL:https://nuriacadenes.cat/esdeveniment/hores-incertes-a-terrassa/
LOCATION:Biblioteca Central\, Passeig de les Lletres\, 1\, Terrassa\, 08221
CATEGORIES:presentació
END:VEVENT
BEGIN:VEVENT
DTSTART;TZID=UTC:20220625T193000
DTEND;TZID=UTC:20220625T203000
DTSTAMP:20260423T104601
CREATED:20220608T063558Z
LAST-MODIFIED:20220608T064140Z
UID:8811-1656185400-1656189000@nuriacadenes.cat
SUMMARY:El temps que pensa Gustau Muñoz
DESCRIPTION:Arriba la II Fira de l’Edició Independent i al plató Veles e Vents s’hi presenta el darrer llibre de Gustau Muñoz\, El temps que vius. Elements per a una crítica del present (Lletra Impresa). \nAmb l’autor i amb l’escriptora Núria Cadenes.
URL:https://nuriacadenes.cat/esdeveniment/el-temps-que-pensa-gustau-munoz/
LOCATION:Fira de l’Edició Independent\, Esplanada Veles e Vents\, València\, 46024
CATEGORIES:presentació
END:VEVENT
BEGIN:VEVENT
DTSTART;TZID=UTC:20220622T190000
DTEND;TZID=UTC:20220622T203000
DTSTAMP:20260423T104601
CREATED:20220613T152352Z
LAST-MODIFIED:20220613T153146Z
UID:8838-1655924400-1655929800@nuriacadenes.cat
SUMMARY:Consells\, proverbis i insolències: una conversa
DESCRIPTION:Que hi ha el número de Sàpiens dedicat a Joan Fuster. I que hi ha el volum de Consells\, proverbis i insolències que ha editat Ara Llibres a cura de Jordi Muñoz. I que de tot això\, i del que s’escaigui\, en parlaran en conversa Núria Cadenes\, Joan Carles Girbés i Clàudia Pujol. \nCal inscriure-s’hi i es pot fer aquí.
URL:https://nuriacadenes.cat/esdeveniment/consells-proverbis-i-insolencies-una-conversa/
LOCATION:Abacus València\, C/ del Poeta Quintana\, 5\, València\, 46003
CATEGORIES:taula rodona
END:VEVENT
BEGIN:VEVENT
DTSTART;TZID=UTC:20220621T183000
DTEND;TZID=UTC:20220621T200000
DTSTAMP:20260423T104601
CREATED:20220530T184746Z
LAST-MODIFIED:20220530T184746Z
UID:8785-1655836200-1655841600@nuriacadenes.cat
SUMMARY:La idea de país de Joan Fuster
DESCRIPTION:Coincidint amb la data del 30è aniversari de la mort de Joan Fuster\, el 21 de juny\, la Biblioteca de Catalunya i la Institució de les Lletres Catalanes organitzen una jornada d’homenatge i estudi centrada en la idea i la construcció de país de Fuster. \nL’acte consistirà en dues taules rodones\, a la sala de la Caritat\, i un espectacle musical\, a la sala de Llevant. \nA la Sala de la Caritat\, des de les 17 h.\, \n“La idea de país de Joan Fuster“\, amb David Fernàndez\, Joan Manuel Tresserras\, Damià Pons i Josefina Salord. Moderats per Vicent Sanchís. \n“País i països\, una reflexió cívica“\, amb Gustau Muñoz\, Toni Mollà i Núria Cadenes. Moderats per Mònica Terribas. \nA la Sala de Llevant\, des de les 20.30 h.\, \nBorja Penalba acompanyat al piano d’Enric Murillo\, canta Fuster i altres poetes.
URL:https://nuriacadenes.cat/esdeveniment/la-idea-de-pais-de-joan-fuster/
LOCATION:Biblioteca de Catalunya\, C/ de l'Hospital\, 56\, Barcelona\, 08001
CATEGORIES:taula rodona
END:VEVENT
BEGIN:VEVENT
DTSTART;TZID=UTC:20220620T190000
DTEND;TZID=UTC:20220620T203000
DTSTAMP:20260423T104601
CREATED:20220527T091814Z
LAST-MODIFIED:20220527T091814Z
UID:8780-1655751600-1655757000@nuriacadenes.cat
SUMMARY:Fantàstic Josep Piera
DESCRIPTION:Presentació del llibre de Josep Piera\, Els fantàstics 70. 1969-1974 (Institució Alfons el Magnànim). \nAmb l’autor i amb Xavier Serra\, Martí Domínguez i Núria Cadenes.
URL:https://nuriacadenes.cat/esdeveniment/fantastic-josep-piera/
LOCATION:llibreria Fan Set\, C/ de Sant Ferran\, 12\, València\, 46001
CATEGORIES:presentació
END:VEVENT
BEGIN:VEVENT
DTSTART;TZID=UTC:20220611T110000
DTEND;TZID=UTC:20220611T200000
DTSTAMP:20260423T104601
CREATED:20220609T191628Z
LAST-MODIFIED:20220609T194101Z
UID:8826-1654945200-1654977600@nuriacadenes.cat
SUMMARY:Fira del Llibre Únic!
DESCRIPTION:És el festival literari que posa el llibre de fons al centre de totes les mirades\nLa Fira del Llibre Únic omple la Fàbrica Lehmann de llibres amb una única convicció: la qualitat per davant de l’actualitat. És un esdeveniment amb 11 editorials de referència\, 11 llibres únics i 11 activitats originals per reivindicar el llibre de fons. \nÉs una Fira de llibres fora de la roda de la novetat\, i el que s’hi compta\, al cap del dia\, són les històries que els 11 títols hauran desencadenat entre el públic i els editors. Per això\, totes onze editorials presentaran una activitat diferent relacionada amb la trama i l’esperit del llibre únic que hagin triat. \nNo hi haurà rànquings\, només relats provocats per la literatura viscuda d’una altra manera. \n  \n  \n 
URL:https://nuriacadenes.cat/esdeveniment/fira-del-llibre-unic/
LOCATION:Fàbrica Lehmann\, C/ del Consell de Cent\, 159\, Barcelona\, 08015
CATEGORIES:trobada
END:VEVENT
BEGIN:VEVENT
DTSTART;TZID=UTC:20220610T200000
DTEND;TZID=UTC:20220610T213000
DTSTAMP:20260423T104601
CREATED:20220527T090915Z
LAST-MODIFIED:20220527T090915Z
UID:8776-1654891200-1654896600@nuriacadenes.cat
SUMMARY:Fuster i Pedrolo al Correllengua de Tàrrega
DESCRIPTION:El Correllengua 2022 arriba a Tàrrega\, i obre activitats amb una conferència doble: “Fuster i Pedrolo. Literatura i política“. A càrrec de l’escriptora Núria Cadenes i de l’historiador Xavier Ferrer. Ho modera\, Jordi Muñoz\, director de l’Escola d’Escriptura de l’Ateneu Barcelonès.
URL:https://nuriacadenes.cat/esdeveniment/fuster-i-pedrolo-al-correllengua-de-tarrega/
LOCATION:Sala de Plens de l’Ajuntament de Tàrrega\, Plaça Major\, 1\, Tàrrega\, 25300
CATEGORIES:taula rodona
END:VEVENT
END:VCALENDAR