BEGIN:VCALENDAR
VERSION:2.0
PRODID:-//Núria Cadenes - ECPv6.15.20//NONSGML v1.0//EN
CALSCALE:GREGORIAN
METHOD:PUBLISH
X-ORIGINAL-URL:https://nuriacadenes.cat
X-WR-CALDESC:Esdeveniments per Núria Cadenes
REFRESH-INTERVAL;VALUE=DURATION:PT1H
X-Robots-Tag:noindex
X-PUBLISHED-TTL:PT1H
BEGIN:VTIMEZONE
TZID:UTC
BEGIN:STANDARD
TZOFFSETFROM:+0000
TZOFFSETTO:+0000
TZNAME:UTC
DTSTART:20220101T000000
END:STANDARD
END:VTIMEZONE
BEGIN:VEVENT
DTSTART;TZID=UTC:20240124T190000
DTEND;TZID=UTC:20240124T203000
DTSTAMP:20260422T230713
CREATED:20240108T164513Z
LAST-MODIFIED:20240108T164513Z
UID:10032-1706122800-1706128200@nuriacadenes.cat
SUMMARY:Cicle Premis Nobel: Jon Fosse
DESCRIPTION:Amb el nou any\, arriba el cicle dels Premis Nobel que organitza l’Espai Ciència de l’OctubreCCC amb l’Institut d’Estudis Catalans. \nJon Fosse\, amb Bernat Puigtobella\, editor de Núvol\, i amb Carolina Moreno Tena\, traductore de Fosse al català. \nConduirà l’acte l’escriptora Núria Cadenes.
URL:https://nuriacadenes.cat/esdeveniment/cicle-premis-nobel-jon-fosse/
LOCATION:llibreria Fan Set\, C/ de Sant Ferran\, 12\, València\, 46001
CATEGORIES:taula rodona
END:VEVENT
BEGIN:VEVENT
DTSTART;TZID=UTC:20231216T120000
DTEND;TZID=UTC:20231216T133000
DTSTAMP:20260422T230713
CREATED:20231205T183526Z
LAST-MODIFIED:20231205T183526Z
UID:9974-1702728000-1702733400@nuriacadenes.cat
SUMMARY:Tiberi Cèsar a Reus
DESCRIPTION:Un vermut literari al bar Teïna amb Núria Cadenes per presentar-hi Tiberi Cèsar i conversar sobre Roma i la humanitat que érem (o que som).
URL:https://nuriacadenes.cat/esdeveniment/tiberi-cesar-a-reus/
LOCATION:Teïna\, Plaça de la Farinera\, 7\, Reus\, 43201
CATEGORIES:presentació
END:VEVENT
BEGIN:VEVENT
DTSTART;TZID=UTC:20231215T190000
DTEND;TZID=UTC:20231215T203000
DTSTAMP:20260422T230713
CREATED:20231205T180645Z
LAST-MODIFIED:20231205T180645Z
UID:9964-1702666800-1702672200@nuriacadenes.cat
SUMMARY:En defensa de la cultura\, amb el PEN
DESCRIPTION:“En defensa de la cultura”\, una conversa sobre cultura i llibertat d’expressió en temps difícils amb Lola Bañón\, periodista i professora\, Josep Lluís Barona\, historiador i professor\, i Núria Cadenes\, escriptora. \nHo presenta: Lourdes Toledo\, periodista\, escriptora i membre del PEN \nBenvinguda a càrrec de Laura Huerga i Gustau Muñoz\, presidenta del PEN i vice-president al País Valencià. \nAmb la intervenció musical de Pau Alabajos.
URL:https://nuriacadenes.cat/esdeveniment/en-defensa-de-la-cultura-amb-el-pen/
LOCATION:OctubreCCC\, C/ de Sant Ferran\, 12\, València\, 46001
CATEGORIES:taula rodona
END:VEVENT
BEGIN:VEVENT
DTSTART;TZID=UTC:20231214T190000
DTEND;TZID=UTC:20231214T203000
DTSTAMP:20260422T230713
CREATED:20231205T182144Z
LAST-MODIFIED:20231205T182254Z
UID:9968-1702580400-1702585800@nuriacadenes.cat
SUMMARY:Tiberi Cèsar a Vic
DESCRIPTION:Vive\, uale\, que les àligues de Tiberi Cèsar volen sobre Vic i aterraran al bell mig de la llibreria Foster & Wallace! \nAmb l’autora\, Núria Cadenes\, i tothom qui ens hi vulgui acompanyar.
URL:https://nuriacadenes.cat/esdeveniment/tiberi-cesar-a-vic/
LOCATION:llibreria Foster & Wallace\, C/ de la Riera\, 20\, Vic\, 08500
CATEGORIES:presentació
END:VEVENT
BEGIN:VEVENT
DTSTART;TZID=UTC:20231128T190000
DTEND;TZID=UTC:20231128T203000
DTSTAMP:20260422T230713
CREATED:20231102T174308Z
LAST-MODIFIED:20231102T174427Z
UID:9887-1701198000-1701203400@nuriacadenes.cat
SUMMARY:Vespre de contes a la Finestres amb Paper de Vidre
DESCRIPTION:La llibreria Finestres convida els editors de la revista digital Paper de Vidre –Guillem Miralles i Tina Vallès– a celebrar una versió més hivernal de les “Nits de Contes” estivals que fa anys que celebren a la llibreria Synusia de Terrassa. Perquè fa anys que publiquen un conte cada dimarts\, i perquè la literatura també és paraula dita en veu alta i escolta. Vindran a llegir Llucia Ramis\, Núria Cadenes\, Sebastià Perelló i Pau Vidal\, amb una selecció de contes inèdits o recuperats\, tots publicats en algun moment a www.paperdevidre.com. \n\nLlucia Ramis llegirà La distància adequada\nNúria Cadenes llegirà Tereseta-que-baixava-les-escales de Salvador Espriu\nSebastià Perelló llegirà La veu calcada\nPau Vidal llegirà Peixos grossos\, peixos petits d’Italo Calvino\n\n(Cal reservar seient. L’assignació es farà per ordre d’arribada. Si en arribar no queden seients lliures\, la seva reserva passa a ser dempeus.)
URL:https://nuriacadenes.cat/esdeveniment/vespre-de-contes-a-la-finestres-amb-paper-de-vidre/
LOCATION:Llibreria Finestres\, C/ de la Diputació\, 249\, Barcelona\, 08007
CATEGORIES:trobada
END:VEVENT
BEGIN:VEVENT
DTSTART;TZID=UTC:20231128T131500
DTEND;TZID=UTC:20231128T141500
DTSTAMP:20260422T230713
CREATED:20230723T155707Z
LAST-MODIFIED:20230723T155707Z
UID:9673-1701177300-1701180900@nuriacadenes.cat
SUMMARY:I Congrés Internacional Literatura Catalana de la Postmodernitat
DESCRIPTION:Dins dels actes del I Congrés Internacional Literatura Catalana de la Postmodernitat\, taula rodona: \nLa narrativa del meu temps \namb Núria Cadenes\, Víctor García Tur\, Empar Moliner i Jordi Puntí \nPrograma sencer
URL:https://nuriacadenes.cat/esdeveniment/i-congres-internacional-literatura-catalana-de-la-postmodernitat/
LOCATION:Aula Magna – Universitat de Barcelona\, Gran Via de les Corts Catalanes\, 585\, Barcelona\, 08007
END:VEVENT
BEGIN:VEVENT
DTSTART;TZID=UTC:20231124T193000
DTEND;TZID=UTC:20231124T203000
DTSTAMP:20260422T230713
CREATED:20231121T114701Z
LAST-MODIFIED:20231121T164701Z
UID:9930-1700854200-1700857800@nuriacadenes.cat
SUMMARY:'Tiberi Cèsar'\, a la Plaça del Llibre de Castelló
DESCRIPTION:Les àligues de Roma s’acosten al cel de Castelló de la Plana\, perquè del 24 al 26 de novembre s’hi celebra la Plaça del Llibre\, i perquè el 24\, divendres\, hi presentarem Tiberi Cèsar en conversa amb Vicent Usó.
URL:https://nuriacadenes.cat/esdeveniment/tiberi-cesar-a-la-placa-del-llibre-de-castello/
LOCATION:Llotja del Cànem\, C/ dels Cavallers\, 1\, Castelló de la Plana\, 12001
CATEGORIES:presentació
END:VEVENT
BEGIN:VEVENT
DTSTART;TZID=UTC:20231123T190000
DTEND;TZID=UTC:20231123T203000
DTSTAMP:20260422T230713
CREATED:20231115T200049Z
LAST-MODIFIED:20231121T111122Z
UID:9918-1700766000-1700771400@nuriacadenes.cat
SUMMARY:Deu anys de la Fan Set
DESCRIPTION:La llibreria Fan Set ja té deu anys d’existència i ho celebra amb una festa amb i per a la gent que fa Fan Set: hi haurà música i copa i coques i un poema infinit i escriptors i lectors i editors i llibreters i tanta gent de cultura com hi càpiga! \nÀfrica Ramírez\, Eliseu Climent\, Joan Navarro\, Rosa Raga\, Vicent Flor\, Anna Gascón\, Marc Senabre\, Núria Cadenes\, Paco Cerdà\, Magda Simó\, Gustau Muñoz\, Puri Mascarell\, Manolo Molins\, Revista Caldesa\, Víctor Labrado\, Juli Peretó\, Gemma Pasqual\, Pere Císcar\, Imma López Pavía\, Marc Granell\, Isabel Robles\, Josep Mir\, Aina Garcia Carbó\, Jaume Pérez Montaner\, Susanna Lliberós\, Josep Micó\, Veronika Paulics\, Jordi Vintró\, Rosa Sabater\, Miquel Català\, Maria Josep Escrivà\, Teresa Pascual\, Jaume C. Pons Alorda\, Rubén Luzón i molts més!
URL:https://nuriacadenes.cat/esdeveniment/deu-anys-de-la-fan-set/
LOCATION:llibreria Fan Set\, C/ de Sant Ferran\, 12\, València\, 46001
CATEGORIES:trobada
END:VEVENT
BEGIN:VEVENT
DTSTART;TZID=UTC:20231117T200000
DTEND;TZID=UTC:20231117T213000
DTSTAMP:20260422T230713
CREATED:20231113T104557Z
LAST-MODIFIED:20231113T104557Z
UID:9913-1700251200-1700256600@nuriacadenes.cat
SUMMARY:A Ciutadella\, literatura contra el feixisme
DESCRIPTION:Dins del cicle vaDcultura\, que organitza la llibreria vaDllibres\, i a propòsit de la novel·la Guillem (Amsterdam)\, parlarem de la força que pot tenir\, que té\, la literatura a l’hora de plantar cara al feixisme. No només la literatura però també la literatura.
URL:https://nuriacadenes.cat/esdeveniment/a-ciutadella-literatura-contra-el-feixisme/
LOCATION:vaDllibres\, C/ de sa Carnisseria\, 24\, Ciutadella\, 07760
CATEGORIES:conferència
END:VEVENT
BEGIN:VEVENT
DTSTART;TZID=UTC:20231114T190000
DTEND;TZID=UTC:20231114T203000
DTSTAMP:20260422T230713
CREATED:20231022T131656Z
LAST-MODIFIED:20231022T131759Z
UID:9831-1699988400-1699993800@nuriacadenes.cat
SUMMARY:A València\, 'Tiberi Cèsar' té presentació i sopar
DESCRIPTION:La presentació de Tiberi Cèsar a València també serà especial. \nPerquè hi haurà una conversa de l’escriptora Raquel Ricart i de l’editor de Proa\, Jordi Rourera\, amb l’autora\, Núria Cadenes. \nPerquè l’actriu Pilar Almeria hi llegirà alguns textos de la novel·la. \nI perquè\, en acabat\, qui ho vulgui i prèvia inscripció (aquí)\, podrà degustar un sopar romà dissenyat per la investigadora del patrimoni culinari Núria Bàguena i elaborat pels responsables de la cafeteria OctubreCCC.
URL:https://nuriacadenes.cat/esdeveniment/a-valencia-tiberi-cesar-te-presentacio-i-sopar/
LOCATION:llibreria Fan Set\, C/ de Sant Ferran\, 12\, València\, 46001
CATEGORIES:presentació
END:VEVENT
BEGIN:VEVENT
DTSTART;TZID=UTC:20231111T120000
DTEND;TZID=UTC:20231111T133000
DTSTAMP:20260422T230713
CREATED:20231104T184614Z
LAST-MODIFIED:20231104T184614Z
UID:9899-1699704000-1699709400@nuriacadenes.cat
SUMMARY:Tiberi passejarà per Empúries
DESCRIPTION:La memòria de Tiberi Cèsar\, ho farà\, això de passejar. L’evocació convertida en literatura. \nNúria Cadenes\, en conversa amb la llibretera Gemma Garcia\, presentarà la novel·la a les ruïnes de la històrica ciutat.
URL:https://nuriacadenes.cat/esdeveniment/tiberi-passejara-per-empuries/
LOCATION:Biblioteca del MAC Empúries\, C/ de Puig i Cadafalch\, s/n\, L'Escala\, 17130
CATEGORIES:presentació
END:VEVENT
BEGIN:VEVENT
DTSTART;TZID=UTC:20231110T190000
DTEND;TZID=UTC:20231110T203000
DTSTAMP:20260422T230713
CREATED:20231007T185423Z
LAST-MODIFIED:20231109T192414Z
UID:9789-1699642800-1699648200@nuriacadenes.cat
SUMMARY:'Tiberi Cèsar'\, a Mataró
DESCRIPTION:Presentació de Tiberi Cèsar (Proa) a Dòria Llibres. \nAmb l’autora\, Núria Cadenes\, i amb l’historiador Víctor Ligos.
URL:https://nuriacadenes.cat/esdeveniment/tiberi-cesar-a-mataro/
LOCATION:Dòria Llibres\, C/ de la Riera\, 100\, Mataró\, 08302
CATEGORIES:presentació
END:VEVENT
BEGIN:VEVENT
DTSTART;TZID=UTC:20231026T190000
DTEND;TZID=UTC:20231026T203000
DTSTAMP:20260422T230713
CREATED:20231002T114542Z
LAST-MODIFIED:20231002T114542Z
UID:9762-1698346800-1698352200@nuriacadenes.cat
SUMMARY:'Tiberi Cèsar': la primera\, a Barcelona
DESCRIPTION:Per entrar al món de Tiberi Cèsar (Proa)\, per fer-ne un tast i presentar-lo. \nAmb Beatriu Porqueres i Raül Garrigasait per posar-hi context històric i pels clàssics que ens nodreixen. I amb Joel Joan i Anna Sahun\, que ens en faran una breu lectura de textos. \nI amb l’autora\, Núria Cadenes. \nVive\, vale!
URL:https://nuriacadenes.cat/esdeveniment/tiberi-cesar-la-primera-a-barcelona/
LOCATION:llibreria Ona\, C/ de Pau Claris\, 94\, Barcelona\, 08010
END:VEVENT
BEGIN:VEVENT
DTSTART;TZID=UTC:20231018T190000
DTEND;TZID=UTC:20231018T200000
DTSTAMP:20260422T230713
CREATED:20231002T111342Z
LAST-MODIFIED:20231002T111342Z
UID:9759-1697655600-1697659200@nuriacadenes.cat
SUMMARY:Amb Iolanda Batallé\, a València
DESCRIPTION:Una dona en crisi s’instal·la en una casa a les muntanyes amb l’esperança de poder-se refer escrivint en solitud. No preveu\, però\, que les persones ferides es reconeixen i s’ajuden\, i és així com serà acollida per una família després d’una vivència colpidora. \nÉs Massa deutes amb les flors (Columna)\, la nova novel·la de Iolanda Batallé. I la presenta a València acompanyada de Núria Cadenes i Purificació Mascarell.
URL:https://nuriacadenes.cat/esdeveniment/amb-iolanda-batalle-a-valencia/
LOCATION:llibreria Fan Set\, C/ de Sant Ferran\, 12\, València\, 46001
END:VEVENT
BEGIN:VEVENT
DTSTART;TZID=UTC:20231004T190000
DTEND;TZID=UTC:20231004T203000
DTSTAMP:20260422T230713
CREATED:20230907T100118Z
LAST-MODIFIED:20230907T100118Z
UID:9715-1696446000-1696451400@nuriacadenes.cat
SUMMARY:Navarro i Paulics\, 'Líquens'
DESCRIPTION:És una correspondència poètica\, una creació conjunta\, simbiòtica\, o\, tal com diu Ricard Martínez Pinyol a l’epíleg\, “un intercanvi de llamps”. \nÉs Líquens (Edicions del Buc)\, aquest llibre que ens ofereixen Joan Navarro i Veronika Paulics i que presentaran i compartiran en conversa amb Núria Cadenes. \n  \n  \n  \n  \nm
URL:https://nuriacadenes.cat/esdeveniment/navarro-i-paulics-liquens/
LOCATION:llibreria Fan Set\, C/ de Sant Ferran\, 12\, València\, 46001
CATEGORIES:presentació
END:VEVENT
BEGIN:VEVENT
DTSTART;TZID=UTC:20231003T190000
DTEND;TZID=UTC:20231003T203000
DTSTAMP:20260422T230713
CREATED:20230907T093028Z
LAST-MODIFIED:20230907T093028Z
UID:9712-1696359600-1696365000@nuriacadenes.cat
SUMMARY:Ulls\, tenebres i Irene Solà\, a València
DESCRIPTION:Amagat entre muntanyes acinglerades i desavinents\, en algun lloc remot de les Guilleries transitat per caçadors de llops\, bandolers\, emboscats\, carlins\, sortilleres\, maquis\, pilots de ral·lis\, fantasmes\, bèsties i dimonis\, el mas Clavell s’agafa a terra com una paparra. És una casa\, sobretot\, habitada per dones\, on un sol dia conté segles de records. \nPresentació de la darrera novell·la d’Irene Solà\, Et vaig donar ulls i vas mirar les tenebres (Anagrama). Una conversa de l’autora amb Núria Cadenes.
URL:https://nuriacadenes.cat/esdeveniment/ulls-tenebres-i-irene-sola-a-valencia/
LOCATION:llibreria Fan Set\, C/ de Sant Ferran\, 12\, València\, 46001
CATEGORIES:presentació
END:VEVENT
BEGIN:VEVENT
DTSTART;TZID=UTC:20230928T190000
DTEND;TZID=UTC:20230928T203000
DTSTAMP:20260422T230713
CREATED:20230812T170426Z
LAST-MODIFIED:20230928T092230Z
UID:9691-1695927600-1695933000@nuriacadenes.cat
SUMMARY:'Canvi de rumb'\, de Josep Piera
DESCRIPTION:Presentació del nou volum de memòries de Josep Piera. \nAmb l’autor i amb l’escriptora Núria Cadenes\, el director de la Institució Alfons el Magnànim\, Vicent Flor\, el poeta Marc Granell i la traductora Donatella Siviero. \nÉs Canvi de rumb. Els fantàstics setanta (1975-1979)\, publicat per Alfons el Magnànim: \nAmb la mort del dictador s’obrí un temps d’esperança. Els esforços culturals d’uns grups de joves inquiets semblava que finalment il·luminarien una societat lligada a una tradició de derrotes i renúncies. Hi havia col·lectius de mestres que s’aplicaven amb entusiasme a la renovació escolar. I poetes que se sentien cridats a crear un nou imaginari col·lectiu\, a partir de paisatges oblidats i històries marginades. Per aturar aquests canvis\, les capes socials que havien donat suport a la dictadura van fer ús de la propaganda demagògica i dels mecanismes de poder de l’Estat. Quatre dècades més tard\, mentre el món viu els darrers mesos de la pandèmia\, Josep Piera escriu unes memòries que són\, alhora\, una evocació íntima i una lúcida crònica social d’aquells anys
URL:https://nuriacadenes.cat/esdeveniment/canvi-de-rumb-de-josep-piera/
LOCATION:llibreria Fan Set\, C/ de Sant Ferran\, 12\, València\, 46001
CATEGORIES:presentació
END:VEVENT
BEGIN:VEVENT
DTSTART;TZID=UTC:20230718T163000
DTEND;TZID=UTC:20230718T173000
DTSTAMP:20260422T230713
CREATED:20230711T092301Z
LAST-MODIFIED:20230718T110816Z
UID:9647-1689697800-1689701400@nuriacadenes.cat
SUMMARY:Jornades internacionals per a professorat de català - Sessió inaugural
DESCRIPTION:Diàleg inaugural de les 37es Jornades internacionals per a professorat de català que organitza l’Institut Ramon Llull\, amb Núria Cadenes i Maria Josep Escrivà \n“mireu la nostra mà si no l’heu vista!” (l’escriptura que ens visibilitza) \nQuè sabríem d’Isabel de Villena\, de Caterina Albert (la Víctor Català)\, de les tribulacions de Mercè Rodoreda o de les proclames feministes de Maria-Mercè Marçal\, de la discretíssima Maria Ibars\, si no fos perquè van canalitzar la vida i en van fer escriptura? I com ens hauríem sobreposat a la llosa de la prevalença masculina si no hagués estat per la nostra convicció en la paraula i la nostra força col·lectiva? Coneixem i reivindiquem la nostra herència\, escrivim i també som elles. I ara\, quina part de responsabilitat ens correspon en la normalització de la visibilitat en tots els àmbits? Quina visió tenim i quina valoració podem fer\, en perspectiva i des de la nostra experiència personal\, de la situació literària actual pel que fa a gènere? \n16.00h – 16.30h Sessió inaugural\nCarles Padilla Carmona\, vicerector d’Internacionalització i Multilingüisme de la Universitat de València\nPere Almeda i Samaranch\, director de l’Institut Ramon Llull \n16.30h – 17.30h Diàleg inaugural “mireu la nostra mà si no l’heu vista!” (l’escriptura que ens visibilitza)\n>Maria Josep Escrivà i Vidal\nNúria Cadenes i Alabèrnia \n17.30h – 18.00h Lectura comentada de poemes “Mosaic poètic”\nJosep Piera i Rubió\, Premi d’Honor de les Lletres Catalanes 2023 \n18.00h – 18.15h En record de Ferran Miquel Benaiges
URL:https://nuriacadenes.cat/esdeveniment/jornades-internacionals-per-a-professorat-de-catala-sessio-inaugural/
LOCATION:Centre Cultural La Nau – Universitat de València\, C/ de la Nau\, 2\, València\, 46003
CATEGORIES:taula rodona
END:VEVENT
BEGIN:VEVENT
DTSTART;TZID=UTC:20230609T190000
DTEND;TZID=UTC:20230609T203000
DTSTAMP:20260422T230713
CREATED:20230601T111320Z
LAST-MODIFIED:20230601T111348Z
UID:9599-1686337200-1686342600@nuriacadenes.cat
SUMMARY:Autocar 46\, destí Wembley
DESCRIPTION:“Aquesta és la història real de deu barcelonistes\, deu nois valencians que van emprendre l’aventura de les seves vides\, d’autocar en autocar\, per fer arribar a la victòria final el club de la seva vida” \nPresentació del llibre Autocar 46\, destí Wembley (Editorial Base)\, de Salva Torres i Domènech. \nActe conduït i presentat per Núria Cadenes.
URL:https://nuriacadenes.cat/esdeveniment/autocar-46-desti-wembley/
LOCATION:llibreria Fan Set\, C/ de Sant Ferran\, 12\, València\, 46001
CATEGORIES:presentació
END:VEVENT
BEGIN:VEVENT
DTSTART;TZID=UTC:20230530T190000
DTEND;TZID=UTC:20230530T203000
DTSTAMP:20260422T230713
CREATED:20230510T181355Z
LAST-MODIFIED:20230510T181355Z
UID:9576-1685473200-1685478600@nuriacadenes.cat
SUMMARY:Amb Antoni Vidal Ferrando\, a València
DESCRIPTION:L’escriptor Antoni Vidal Ferrando ha rebut enguany el Premi Jaume Fuster que atorga l’Associació d’Escriptors en Llengua Catalana (AELC) i\, per celebrar-ho\, es fan actes a Barcelona (11 de maig)\, a Palma (23 de maig)\, i aquest de València (30 de maig). \nNúria Cadenes entrevista Antoni Vidal Ferrando. Recital amb Josep Ballester\, Esperança Camps i Pau Sanchis.
URL:https://nuriacadenes.cat/esdeveniment/amb-antoni-vidal-ferrando-a-valencia/
LOCATION:OctubreCCC\, C/ de Sant Ferran\, 12\, València\, 46001
CATEGORIES:conferència
END:VEVENT
BEGIN:VEVENT
DTSTART;TZID=UTC:20230423T113000
DTEND;TZID=UTC:20230423T140000
DTSTAMP:20260422T230713
CREATED:20230421T095211Z
LAST-MODIFIED:20230421T095211Z
UID:9546-1682249400-1682258400@nuriacadenes.cat
SUMMARY:Signatures de Sant Jordi a Barcelona
DESCRIPTION:Per si voleu un llibre signat\, per Sant Jordi\, al matí\, ens podrem trobar aquí: \n11.30 h.\, junt amb Anna Maria Villalonga\, signatura del llibre col·lectiu de relats Un gintònic amb na Lònia Guiu (parada d’Edicions Xandri – Gran de Gràcia\, entre Jesús i Maria) \n12 h.\, signatura del volum del Temps Obert La terra s’ho porta / No han donat la llum\, encara (parada de Comanegra – Passeig de Gràcia\, 91) \n13 h.\, signatura de la traducció a l’asturià de Guillem\, amb Ediciones Trabe\, a la parada del Centre Asturià de Barcelona – xamfrà Rosselló\, 216
URL:https://nuriacadenes.cat/esdeveniment/signatures-de-sant-jordi-a-barcelona/
LOCATION:parades de Sant Jordi\, passeig de Gràcia\, Barcelona\, 08008
CATEGORIES:signatura
END:VEVENT
BEGIN:VEVENT
DTSTART;TZID=UTC:20230421T180000
DTEND;TZID=UTC:20230421T190000
DTSTAMP:20260422T230713
CREATED:20230421T094057Z
LAST-MODIFIED:20230421T094057Z
UID:9543-1682100000-1682103600@nuriacadenes.cat
SUMMARY:Signatura a la Fan Set
DESCRIPTION:A la llibreria Fan Set de València\, Sant Jordi s’avança. Signatures de divendres a la vesprada: \nNúria Cadenes signa el seu Temps Obert: La terra s’ho porta / No han donat la llum\, encara (Comanegra) \nGustau Muñoz signa Profeta de la raó (Afers) \nJuli Peretó signa Un planeta creatiu (Alfons el Magnànim)
URL:https://nuriacadenes.cat/esdeveniment/signatura-a-la-fan-set/
LOCATION:llibreria Fan Set\, C/ de Sant Ferran\, 12\, València\, 46001
CATEGORIES:signatura
END:VEVENT
BEGIN:VEVENT
DTSTART;TZID=UTC:20230414T190000
DTEND;TZID=UTC:20230414T203000
DTSTAMP:20260422T230713
CREATED:20230406T114242Z
LAST-MODIFIED:20230406T114242Z
UID:9517-1681498800-1681504200@nuriacadenes.cat
SUMMARY:Amb Joan Fuster\, a l'Ateneu Santfeliuenc
DESCRIPTION:Dins dels actes de la XX Setmana per la Llengua\, inauguració de l’exposició “Joan Fuster\, una vida il·lustrada” i conferència “Cogito\, ergo sumus. Què hi farem!”: un viatge sintètic a la vida i l’obra de Joan Fuster en un grapat d’aforismes\, a càrrec de Núria Cadenes. \n 
URL:https://nuriacadenes.cat/esdeveniment/amb-joan-fuster-a-lateneu-santfeliuenc/
LOCATION:Ateneu Santfeliuenc – Aula de Cultura\, C/ de Vidal i Ribas\, 25\, Sant Feliu de Llobregat\, 08980
CATEGORIES:conferència
END:VEVENT
BEGIN:VEVENT
DTSTART;TZID=UTC:20230401T110000
DTEND;TZID=UTC:20230401T114500
DTSTAMP:20260422T230713
CREATED:20230218T110906Z
LAST-MODIFIED:20230218T111302Z
UID:9411-1680346800-1680349500@nuriacadenes.cat
SUMMARY:A Alacant\, "Isabel-Clara Simó: cultura\, feminisme i nació"
DESCRIPTION:Dins dels actes de la Jornada homenatge a Isabel-Clara Simó\, conferència “Isabel-Clara Simó: cultura\, feminisme i nació”\, a càrrec de Núria Cadenes. Ho presenta Maribel Guardiola. \nEl programa sencer\, aquí.
URL:https://nuriacadenes.cat/esdeveniment/a-alacant-isabel-clara-simo-feminisme-dona-nacio/
LOCATION:Sala d’Actes de l’Edifici Germà Bernàcer\, Universitat d'Alacant\, Sant Vicent del Raspeig\, 03690
CATEGORIES:conferència
END:VEVENT
BEGIN:VEVENT
DTSTART;TZID=UTC:20230331T190000
DTEND;TZID=UTC:20230331T203000
DTSTAMP:20260422T230713
CREATED:20230317T102713Z
LAST-MODIFIED:20230331T093755Z
UID:9476-1680289200-1680294600@nuriacadenes.cat
SUMMARY:Temps Obert a la Muixerola d'Algemesí
DESCRIPTION:Dins dels actes de la Muixerola 2023 de la Nova Muixeranga d’Algemesí\, presentació de la continuació del cicle novel·lístic Temps Obert\, de Manuel de Pedrolo\, amb les les novel·les La terra s’ho porta i No han donat la llum\, encara\, de Núria Cadenes. Amb Xavier Aliaga.
URL:https://nuriacadenes.cat/esdeveniment/temps-obert-a-la-muixerola-dalgemesi/
LOCATION:Biblioteca Municipal d’Algemesí\, C/ de Lluís Vives\, 7-9\, Algemesí\, 46680
CATEGORIES:presentació
END:VEVENT
BEGIN:VEVENT
DTSTART;TZID=UTC:20230328T190000
DTEND;TZID=UTC:20230328T203000
DTSTAMP:20260422T230713
CREATED:20230322T195247Z
LAST-MODIFIED:20230322T195247Z
UID:9481-1680030000-1680035400@nuriacadenes.cat
SUMMARY:A València\, trenta anys amb Guillem Agulló
DESCRIPTION:L’11 d’abril farà trenta anys que un grupuscle neonazi va assassinar Guillem Agulló a Montanejos. Durant tot aquest temps\, la figura de Guillem Agulló ha crescut i ha il·luminat noves fornades de joves que han fet de la lluita antifeixista la seua manera de ser en el món. \nVilaWeb vol retre un homenatge a Guillem Agulló amb un acte molt especial a València. Hi participaran Guillem Agulló i Carmina Salvador\, els pares de Guillem; Vicent Partal\, director de VilaWeb; i l’escriptora Núria Cadenes. Comptarem també amb l’actuació de Pep Gimeno\, Botifarra. \nL’acte és obert al públic. Per assistir-hi\, només cal inscriure’s en aquest correu electrònic: inscripcions@vilaweb.cat
URL:https://nuriacadenes.cat/esdeveniment/a-valencia-trenta-anys-amb-guillem-agullo/
LOCATION:OctubreCCC\, C/ de Sant Ferran\, 12\, València\, 46001
CATEGORIES:taula rodona
END:VEVENT
BEGIN:VEVENT
DTSTART;TZID=UTC:20230324T190000
DTEND;TZID=UTC:20230324T203000
DTSTAMP:20260422T230713
CREATED:20230220T202259Z
LAST-MODIFIED:20230220T202259Z
UID:9418-1679684400-1679689800@nuriacadenes.cat
SUMMARY:'Dotze'\, de Vicent Usó
DESCRIPTION:“Fa dos mesos que plore\, i n’estic farta”. \nPresentació de Dotze (Bromera)\, la darrera novel·la de Vicent Usó. Col·loqui amb l’autor i amb l’escriptora Núria Cadenes.
URL:https://nuriacadenes.cat/esdeveniment/dotze-de-vicent-uso/
LOCATION:llibreria Fan Set\, C/ de Sant Ferran\, 12\, València\, 46001
CATEGORIES:presentació
END:VEVENT
BEGIN:VEVENT
DTSTART;TZID=UTC:20230323T193000
DTEND;TZID=UTC:20230323T210000
DTSTAMP:20260422T230713
CREATED:20230317T101323Z
LAST-MODIFIED:20230317T101323Z
UID:9471-1679599800-1679605200@nuriacadenes.cat
SUMMARY:30 anys de l'assassinat de Guillem Agulló\, a Benimaclet
DESCRIPTION:“30 anys sense tu\, 30 anys amb tu”: enguany es compleixen trenta anys de l’assassinat del jove independentista i antifeixista Guillem Agulló. \nHo recordarem\, en parlarem a Benimaclet. \nXerrada amb l’escriptora Núria Cadenes. \nDesprés\, sopar-kafeta.
URL:https://nuriacadenes.cat/esdeveniment/30-anys-de-lassassinat-de-guillem-agullo-a-benimaclet/
LOCATION:CSOA l’Horta\, Carrer de Diògenes López Mechó amb plaça de les Tretze Roses\, València\, 46020
CATEGORIES:conferència
END:VEVENT
BEGIN:VEVENT
DTSTART;TZID=UTC:20230318T120000
DTEND;TZID=UTC:20230318T133000
DTSTAMP:20260422T230713
CREATED:20230223T114522Z
LAST-MODIFIED:20230223T114625Z
UID:9431-1679140800-1679146200@nuriacadenes.cat
SUMMARY:Ver-MOT a Girona: la realitat supera la ficció?
DESCRIPTION:A l’hora del vermut\, verMOT. Els escriptors són esponges que s’alimenten de la realitat\, de successos reals. Però és més poderosa que la ficció? Com l’emprem per escriure cadascuna de les novel·les? En aquesta taula comptarem amb Núria Cadenes\, Fàtima Llambrich i Marc Pastor\, tres escriptors que\, sota la moderació de Mayka Navarro\, ens explicaran com tot partint de fets reals han decidit ficcionar-los des d’òptiques ben diferents.
URL:https://nuriacadenes.cat/esdeveniment/ver-mot-la-realitat-supera-la-ficcio/
LOCATION:Parc de Vista Alegre\, Parc de Vista Alegre\, Girona\, 17004
CATEGORIES:taula rodona
END:VEVENT
BEGIN:VEVENT
DTSTART;TZID=UTC:20230307T183000
DTEND;TZID=UTC:20230307T200000
DTSTAMP:20260422T230713
CREATED:20230307T093945Z
LAST-MODIFIED:20230307T094008Z
UID:9457-1678213800-1678219200@nuriacadenes.cat
SUMMARY:A Tavernes de la Valldigna\, "Nosaltres\, les fusterianes"
DESCRIPTION:Dins de la programació al voltant del 8 de Març\, dues escriptores conten el seu Joan Fuster: “Nosaltres\, les fusterianes”\, una conferència de Núria Cadenes i Gemma Pasqual.
URL:https://nuriacadenes.cat/esdeveniment/a-tavernes-de-la-valldigna-nosaltres-les-fusterianes/
LOCATION:Pati del Braç Treballador\, C/ del Calvari\, 85\, Tavernes de la Valldigna\, 46760
CATEGORIES:conferència
END:VEVENT
END:VCALENDAR