BEGIN:VCALENDAR
VERSION:2.0
PRODID:-//Núria Cadenes - ECPv6.15.20//NONSGML v1.0//EN
CALSCALE:GREGORIAN
METHOD:PUBLISH
X-ORIGINAL-URL:https://nuriacadenes.cat
X-WR-CALDESC:Esdeveniments per Núria Cadenes
REFRESH-INTERVAL;VALUE=DURATION:PT1H
X-Robots-Tag:noindex
X-PUBLISHED-TTL:PT1H
BEGIN:VTIMEZONE
TZID:UTC
BEGIN:STANDARD
TZOFFSETFROM:+0000
TZOFFSETTO:+0000
TZNAME:UTC
DTSTART:20220101T000000
END:STANDARD
END:VTIMEZONE
BEGIN:VEVENT
DTSTART;TZID=UTC:20240522T183000
DTEND;TZID=UTC:20240522T200000
DTSTAMP:20260422T181115
CREATED:20240508T080837Z
LAST-MODIFIED:20240508T080837Z
UID:10304-1716402600-1716408000@nuriacadenes.cat
SUMMARY:València celebra Antonina Canyelles
DESCRIPTION:La poeta Antonina Canyelles ha rebut el XXIV Premi Jaume Fuster que atorga l’Associació d’Escriptors en Llengua Catalana. \nHo celebrarem a València amb una conversa de la guardonada i Núria Cadenes\, i amb un recital amb la participació d’Andreu Blai\, Noèlia Díaz Vicedo\, Isabel Garcia Canet\, Encarna Sant-Celoni i Pau Sif.
URL:https://nuriacadenes.cat/esdeveniment/valencia-celebra-antonina-canyelles/
LOCATION:Ca Revolta\, C/ de Santa Teresa\, 10\, València\, 46001
CATEGORIES:trobada
END:VEVENT
BEGIN:VEVENT
DTSTART;TZID=UTC:20240516T190000
DTEND;TZID=UTC:20240516T203000
DTSTAMP:20260422T181115
CREATED:20240502T101305Z
LAST-MODIFIED:20240502T101305Z
UID:10293-1715886000-1715891400@nuriacadenes.cat
SUMMARY:A l'Eixample\, Temps Obert
DESCRIPTION:Dos fils de la teranyina que Manuel de Pedrolo va idear per al cicle literari del Temps Obert: club de lectura organitzat per Òmnium Cultural Eixample sobre les novel·les La terra s’ho porta / No han donat la llum\, encara\, de Núria Cadenes. La postguerra\, l’estraperlo\, el franquisme que se’ns va ficar pertot.
URL:https://nuriacadenes.cat/esdeveniment/a-leixample-temps-obert/
LOCATION:llibreria Alibri\, C/ de Balmes\, 26\, Barcelona\, 08007
CATEGORIES:club de lectura
END:VEVENT
BEGIN:VEVENT
DTSTART;TZID=UTC:20240428T120000
DTEND;TZID=UTC:20240428T130000
DTSTAMP:20260422T181115
CREATED:20240416T145045Z
LAST-MODIFIED:20240416T145045Z
UID:10261-1714305600-1714309200@nuriacadenes.cat
SUMMARY:Signatura a la Fira del Llibre\, amb la Fan Set
DESCRIPTION:Que la Fira del Llibre de València és un gran comboi\, prou que ho sabem. Que a la caseta de la Fan Set sempre hi passen coses\, també. \nAquesta\, per exemple: signatura de Tiberi Cèsar. A la caseta número 70. Podeu venir-hi vestits a la romana. Que no és obligatori\, però que podeu.
URL:https://nuriacadenes.cat/esdeveniment/signatura-a-la-fira-del-llibre-amb-la-fan-set/
LOCATION:Fan Set – Casetes 33-34 Fira del Llibre\, Jardins de Vivers\, València\, 46010
CATEGORIES:signatura
END:VEVENT
BEGIN:VEVENT
DTSTART;TZID=UTC:20240425T190000
DTEND;TZID=UTC:20240425T203000
DTSTAMP:20260422T181115
CREATED:20240416T143832Z
LAST-MODIFIED:20240416T144423Z
UID:10253-1714071600-1714077000@nuriacadenes.cat
SUMMARY:'Tiberi Cèsar'\, a Gandia
DESCRIPTION:Amb l’historiador\, i escriptor\, Ferran Garcia Oliver\, les àligues de Tiberi Cèsar aterren a Gandia. \nAl Casal Jaume I. \nAmb el comboi de la llibreria Ambra. \nI amb l’autora\, també.
URL:https://nuriacadenes.cat/esdeveniment/tiberi-cesar-a-gandia/
LOCATION:Fundació Casal Jaume I Safor-Valldigna\, C/ de Dona Teresa\, 2\, Gandia\, 46701
CATEGORIES:presentació
END:VEVENT
BEGIN:VEVENT
DTSTART;VALUE=DATE:20240423
DTEND;VALUE=DATE:20240424
DTSTAMP:20260422T181115
CREATED:20240416T150702Z
LAST-MODIFIED:20240416T171041Z
UID:10265-1713830400-1713916799@nuriacadenes.cat
SUMMARY:Sant Jordi a Barcelona - signatures
DESCRIPTION:Prou que ho sabem\, que és un dels dies més bonics de l’any. Si\, a més a més\, voleu venir a compartir-ne una estona amb les àligues de Tiberi Cèsar\, aquest serà el recorregut que tenen previst de fer: \n– 10 h.\, amb la llibreria cooperativa Rocaguinarda: passeig de Gràcia\, parada núm. 24 (cantonada València) \n– 11 h.\, a la llibreria Laie de la Pedrera (passeig de Gràcia amb Provença) \n– 12 h.\, a la llibreria Ona del Passeig de Gràcia (passeig de Gràcia amb Gran Via de les Corts Catalanes\, parades 2\, 4\, 6 i 8) \n– 16 h.\, a la llibreria Finestres (Diputació\, 249) \n– 17 h.\, a la llibreria Nocturama (Rambles amb Nou de la Rambla) \n– 18 h.\, a la llibreria Central (Mallorca amb Rambla de Catalunya) \n– 19 h.\, a la FNAC del Triangle (plaça de Catalunya\, 4) \n– 20 h.\, a la llibreria la Impossible (passeig de Gràcia amb Provença)
URL:https://nuriacadenes.cat/esdeveniment/sant-jordi-a-barcelona-signatures/
LOCATION:Barcelona
CATEGORIES:signatura
END:VEVENT
BEGIN:VEVENT
DTSTART;TZID=UTC:20240420T123000
DTEND;TZID=UTC:20240420T140000
DTSTAMP:20260422T181115
CREATED:20240409T084324Z
LAST-MODIFIED:20240409T084324Z
UID:10240-1713616200-1713621600@nuriacadenes.cat
SUMMARY:Celrà homenatja Guillem Agulló
DESCRIPTION:El Ple de l’Ajuntament de Celrà (Gironès)\, va aprovar\, per unanimitat\, de posar el nom de Guillem Agulló a una plaça. L’acte d’inauguració s’havia de fer el 20 d’abril\, però s’ha ajornat fins passades les eleccions autonòmiques. \nSí que es mantenen les altres activitats previstes per a l’homenatge: a les 12.30 h.\, club de lectura de Guillem\, amb Núria Cadenes\, a Connexió Papyrus; a les 20 h.\, a l’Ateneu\, projecció del film La mort de Guillem\, de Carlos Marqués Marcet.
URL:https://nuriacadenes.cat/esdeveniment/celra-homenatja-guillem-agullo/
LOCATION:Connexió Papyrus\, C/ de la Fàbrica\, 13\, Celrà\, 17460
CATEGORIES:club de lectura
END:VEVENT
BEGIN:VEVENT
DTSTART;TZID=UTC:20240419T190000
DTEND;TZID=UTC:20240419T203000
DTSTAMP:20260422T181115
CREATED:20240312T164510Z
LAST-MODIFIED:20240314T170828Z
UID:10193-1713553200-1713558600@nuriacadenes.cat
SUMMARY:'Guillem'\, a Ca Bassot
DESCRIPTION:Per recordar-lo (sempre; i quan és abril\, més)\, per continuar-ne la lluita\, dins dels actes que organitza Ca Bassot sobre Guillem Agulló\, club de lectura de la novel·la Guillem (Amsterdam) amb la participació de l’autora.
URL:https://nuriacadenes.cat/esdeveniment/guillem-a-ca-bassot/
LOCATION:Ca Bassot\, C/ de Pablo Iglesias\, 49\, Burjassot\, 46100
CATEGORIES:club de lectura
END:VEVENT
BEGIN:VEVENT
DTSTART;TZID=UTC:20240413T120000
DTEND;TZID=UTC:20240413T163000
DTSTAMP:20260422T181115
CREATED:20240327T081248Z
LAST-MODIFIED:20240327T081353Z
UID:10214-1713009600-1713025800@nuriacadenes.cat
SUMMARY:'Tiberi Cèsar'\, a Girona
DESCRIPTION:Per parlar de Tiberi Cèsar\, llegir-ne algun fragment en veu alta\, comentar-ne secrets o trames\, club de lectura obert a tothom a l’Ateneu 24 de juny. \nI\, després\, a les 14 h.\, perquè no ens estem de res\, un dinar d’inspiració romana! (Cal inscripció prèvia: infoateneu24dejuny@gmail.com)
URL:https://nuriacadenes.cat/esdeveniment/tiberi-a-girona/
LOCATION:Ateneu 24 de Juny\, C/ de les Ferreries Velles\, 11\, Girona\, 17004
CATEGORIES:club de lectura
END:VEVENT
BEGIN:VEVENT
DTSTART;TZID=UTC:20240412T193000
DTEND;TZID=UTC:20240412T210000
DTSTAMP:20260422T181115
CREATED:20240327T082316Z
LAST-MODIFIED:20240409T075941Z
UID:10220-1712950200-1712955600@nuriacadenes.cat
SUMMARY:'Tiberi Cèsar'\, a Caldes de Malavella
DESCRIPTION:De segur que el fill de Lívia s’hi sentirà com a casa: amb la Biblioteca Francesc Ferrer i Guàrdia\, club de lectura de Tiberi Cèsar… a les termes romanes de Caldes de Malavella!
URL:https://nuriacadenes.cat/esdeveniment/tiberi-cesar-a-caldes-de-malavella/
LOCATION:Termes romanes\, C/ de les Termes Romanes\, 25\, Caldes de Malavella\, 17455
CATEGORIES:club de lectura
END:VEVENT
BEGIN:VEVENT
DTSTART;TZID=UTC:20240323T120000
DTEND;TZID=UTC:20240323T133000
DTSTAMP:20260422T181115
CREATED:20240308T084056Z
LAST-MODIFIED:20240308T084056Z
UID:10183-1711195200-1711200600@nuriacadenes.cat
SUMMARY:Vermut negre amb Aliaga i Vilaplana!
DESCRIPTION:Són dos escriptors de cap a peus i han escrit dues novel·lasses de les que cal tenir en compte\, molt negres i molt ben trabades. \n Xavier Aliaga i Silvestre Vilaplana ens presenten Això no és un western i Àngels de la mort (Crims.cat)\, a l’àtic de l’OctubreCCC\, amb un bon vermut negre i moderats per Núria Cadenes.
URL:https://nuriacadenes.cat/esdeveniment/vermut-negre-amb-aliaga-i-vilaplana/
LOCATION:OctubreCCC\, C/ de Sant Ferran\, 12\, València\, 46001
CATEGORIES:presentació
END:VEVENT
BEGIN:VEVENT
DTSTART;TZID=UTC:20240309T120000
DTEND;TZID=UTC:20240309T133000
DTSTAMP:20260422T181115
CREATED:20240219T175007Z
LAST-MODIFIED:20240219T175007Z
UID:10134-1709985600-1709991000@nuriacadenes.cat
SUMMARY:Les àligues de 'Tiberi Cèsar'\, a Figueres
DESCRIPTION:Presentació de la novel·la Tiberi Cèsar (Proa)\, de Núria Cadenes. Amb l’autora i amb Eduard Cebrià\, president d’Òmnium Alt Empordà.
URL:https://nuriacadenes.cat/esdeveniment/les-aligues-de-tiberi-cesar-a-figueres/
LOCATION:L’Ateneu\, C/ de Santa Margarida\, 9\, Figueres\, 17600
CATEGORIES:presentació
END:VEVENT
BEGIN:VEVENT
DTSTART;TZID=UTC:20240304T190000
DTEND;TZID=UTC:20240304T203000
DTSTAMP:20260422T181115
CREATED:20240302T191638Z
LAST-MODIFIED:20240302T194308Z
UID:10168-1709578800-1709584200@nuriacadenes.cat
SUMMARY:Salvador50anys: el compromís de les lletres
DESCRIPTION:Del 2 al 7 de març del 2024\, amb motiu dels 50 anys d’aquell crim\, la Model obre les portes per recordar\, reivindicar i reflexionar sobre la figura de Salvador Puig Antich\, les seves idees i el seu valor com a icona de la rebel·lió i símbol de la repressió de la dictadura. És l’homenatge col·lectiu “Puig Antich. El compromís vigent. 1974-2024”. \nEl 4 de març\, la sessió duu per títol “El compromís de les lletres”: \nEl record de Salvador Puig Antich\, del seu procés i la seva execució ha perdurat fins avui gràcies\, entre altres veus\, a les dels periodistes Francesc Escribano\, autor de Compte enrere\, i Jordi Panyella\, autor de Salvador Puig Antich\, cas obert. Amb ells\, dues escriptores i activistes que són un referent: la colombiana Laura Restrepo\, periodista\, novel·lista i testimoni privilegiat del procés de pau de la guerrilla colombiana de l’M-19; l’editora i presidenta del PEN Català\, Laura Huerga; i Núria Cadenes\, periodista i guanyadora del premi Lletra d’Or 2021 per la seva novel·la Guillem\, sobre l’assassinat del jove antifeixista Guillem Agulló l’any 1993. \nCom es tria quina memòria cal preservar? Com es construeix el relat? \nPer tancar l’acte\, el poeta David Castillo i l’historiador Ferran Aisa ens obsequiaran amb una performance politicopoètica.
URL:https://nuriacadenes.cat/esdeveniment/puig-antich-el-compromis-vigent-1974-2024/
LOCATION:La Model\, C/ d'Entença\, 155\, Barcelona\, 08028
CATEGORIES:taula rodona
END:VEVENT
BEGIN:VEVENT
DTSTART;TZID=UTC:20240229T183000
DTEND;TZID=UTC:20240229T200000
DTSTAMP:20260422T181115
CREATED:20240129T115829Z
LAST-MODIFIED:20240219T182527Z
UID:10085-1709231400-1709236800@nuriacadenes.cat
SUMMARY:'Secundaris'\, a Torrent
DESCRIPTION:El Club de Lectura en Valencià a Torrent continua la seva marxa\, i ara ofereix una sessió amb Secundaris (Comanegra)\, aquest viatge a la tardor de 1992\, a l’altra cara de la Barcelona Olímpica. Amb la participació de l’autora.
URL:https://nuriacadenes.cat/esdeveniment/secundaris-a-torrent/
LOCATION:Nova Llibres\, C/ del Pare Méndez\, 83\, Torrent\, 46900
CATEGORIES:club de lectura
END:VEVENT
BEGIN:VEVENT
DTSTART;TZID=UTC:20240226T190000
DTEND;TZID=UTC:20240226T210000
DTSTAMP:20260422T181115
CREATED:20240219T173526Z
LAST-MODIFIED:20240223T120526Z
UID:10132-1708974000-1708981200@nuriacadenes.cat
SUMMARY:El Micalet parla de llibres: 'Tiberi Cèsar'
DESCRIPTION:Al club de lectura de la Societat Coral El Micalet\, una vesprada per viatjar a l’antiga Roma amb Tiberi Cèsar.
URL:https://nuriacadenes.cat/esdeveniment/el-micalet-parla-de-llibres-tiberi-cesar/
LOCATION:Societat Coral el Micalet\, C/ Guillem de Castro\, 73\, Valencia\, 46008
CATEGORIES:club de lectura
END:VEVENT
BEGIN:VEVENT
DTSTART;TZID=UTC:20240223T190000
DTEND;TZID=UTC:20240223T203000
DTSTAMP:20260422T181115
CREATED:20240208T101451Z
LAST-MODIFIED:20240219T172913Z
UID:10115-1708714800-1708720200@nuriacadenes.cat
SUMMARY:'Tiberi Cèsar' i 'El silenci que heu de témer'\, a Berga
DESCRIPTION:Novel·lar la història\, personatges i moments i espais de la història\, de tantes maneres com sigui possible. \nTiberi Cèsar (Proa)\, de Núria Cadenes\, i El silenci que heu de témer (Serraclara)\, de Francesc Ribera\, ‘Titot’\, en diàleg en una doble presentació.
URL:https://nuriacadenes.cat/esdeveniment/tiberi-i-el-silenci-a-berga/
LOCATION:Llibreria Sense Paraules\, Plaça de Viladomat\, 22\, Berga\, 08600
CATEGORIES:presentació
END:VEVENT
BEGIN:VEVENT
DTSTART;TZID=UTC:20240211T120000
DTEND;TZID=UTC:20240211T133000
DTSTAMP:20260422T181115
CREATED:20240208T094157Z
LAST-MODIFIED:20240208T094937Z
UID:10108-1707652800-1707658200@nuriacadenes.cat
SUMMARY:Acte institucional d'homenatge a les víctimes del bombardeig de l'estació de Xàtiva
DESCRIPTION:Acte institucional de memòria i homenatge a les víctimesen del bombardeig feixista de l’estació de Xàtiva\, el 12 de febrer de 1939. \nAmb la Muixeranga de Xàtiva\, el grup de percussió Rytmus i el quartet de corda format per Anna Mollà\, Anna Benavent\, Maria Camañez i Neus Pelejero. I amb parlaments del batlle de Xàtiva\, Roger Cerdà\, la vice-presidenta primera de la Diputació de València\, Natàlia Enguix\, i la presidenta del Consell de la Joventut de Xàtiva\, Alexandra Boluda. Lectura de poemes a càrrec de Maria Navarro\, presidenta de “Fossa 126”. Manifest a càrrec de l’escriptora Núria Cadenes. \n  \n 
URL:https://nuriacadenes.cat/esdeveniment/acte-institucional-dhomenatge-a-les-victimes-del-bombardeig-de-lestacio-de-xativa/
LOCATION:Plaça de l’Estació\, Plaça de l'Estació\, Xàtiva\, 46800
END:VEVENT
BEGIN:VEVENT
DTSTART;TZID=UTC:20240209T190000
DTEND;TZID=UTC:20240209T203000
DTSTAMP:20260422T181115
CREATED:20240131T193308Z
LAST-MODIFIED:20240208T093238Z
UID:10091-1707505200-1707510600@nuriacadenes.cat
SUMMARY:'Tiberi Cèsar' i 'El peó'\, junts\, a Alcoi
DESCRIPTION:Conversa entre Paco Cerdà i Núria Cadenes i presentació dels seus llibres\, El peó (Ara Llibres) i Tiberi Cèsar (Proa). \nFicció i realitat\, història contemporània i Roma antiga: literatura.
URL:https://nuriacadenes.cat/esdeveniment/tiberi-cesar-i-el-peo-junts-a-alcoi/
LOCATION:Detroit Llibres\, C/ Oliver\, 5\, Alcoi\, 03802
CATEGORIES:presentació
END:VEVENT
BEGIN:VEVENT
DTSTART;TZID=UTC:20240201T190000
DTEND;TZID=UTC:20240201T203000
DTSTAMP:20260422T181115
CREATED:20240111T080403Z
LAST-MODIFIED:20240111T080403Z
UID:10042-1706814000-1706819400@nuriacadenes.cat
SUMMARY:La carta de Tomàs Llopis
DESCRIPTION:Cremareu aquesta carta (Bromera) és una novel·la bella sobre les Germanies i més. Amb ella\, Tomàs Llopis va guanyar el XXXIV Premi de Novel·la Ciutat d’Alzira\, i ara la presenta a València. \nL’acompanyaran l’escriptora Núria Cadenes i l’historiador Antoni Furió.
URL:https://nuriacadenes.cat/esdeveniment/la-carta-de-tomas-llopis/
LOCATION:llibreria Fan Set\, C/ de Sant Ferran\, 12\, València\, 46001
CATEGORIES:presentació
END:VEVENT
BEGIN:VEVENT
DTSTART;TZID=UTC:20240124T190000
DTEND;TZID=UTC:20240124T203000
DTSTAMP:20260422T181115
CREATED:20240108T164513Z
LAST-MODIFIED:20240108T164513Z
UID:10032-1706122800-1706128200@nuriacadenes.cat
SUMMARY:Cicle Premis Nobel: Jon Fosse
DESCRIPTION:Amb el nou any\, arriba el cicle dels Premis Nobel que organitza l’Espai Ciència de l’OctubreCCC amb l’Institut d’Estudis Catalans. \nJon Fosse\, amb Bernat Puigtobella\, editor de Núvol\, i amb Carolina Moreno Tena\, traductore de Fosse al català. \nConduirà l’acte l’escriptora Núria Cadenes.
URL:https://nuriacadenes.cat/esdeveniment/cicle-premis-nobel-jon-fosse/
LOCATION:llibreria Fan Set\, C/ de Sant Ferran\, 12\, València\, 46001
CATEGORIES:taula rodona
END:VEVENT
BEGIN:VEVENT
DTSTART;TZID=UTC:20231216T120000
DTEND;TZID=UTC:20231216T133000
DTSTAMP:20260422T181115
CREATED:20231205T183526Z
LAST-MODIFIED:20231205T183526Z
UID:9974-1702728000-1702733400@nuriacadenes.cat
SUMMARY:Tiberi Cèsar a Reus
DESCRIPTION:Un vermut literari al bar Teïna amb Núria Cadenes per presentar-hi Tiberi Cèsar i conversar sobre Roma i la humanitat que érem (o que som).
URL:https://nuriacadenes.cat/esdeveniment/tiberi-cesar-a-reus/
LOCATION:Teïna\, Plaça de la Farinera\, 7\, Reus\, 43201
CATEGORIES:presentació
END:VEVENT
BEGIN:VEVENT
DTSTART;TZID=UTC:20231215T190000
DTEND;TZID=UTC:20231215T203000
DTSTAMP:20260422T181115
CREATED:20231205T180645Z
LAST-MODIFIED:20231205T180645Z
UID:9964-1702666800-1702672200@nuriacadenes.cat
SUMMARY:En defensa de la cultura\, amb el PEN
DESCRIPTION:“En defensa de la cultura”\, una conversa sobre cultura i llibertat d’expressió en temps difícils amb Lola Bañón\, periodista i professora\, Josep Lluís Barona\, historiador i professor\, i Núria Cadenes\, escriptora. \nHo presenta: Lourdes Toledo\, periodista\, escriptora i membre del PEN \nBenvinguda a càrrec de Laura Huerga i Gustau Muñoz\, presidenta del PEN i vice-president al País Valencià. \nAmb la intervenció musical de Pau Alabajos.
URL:https://nuriacadenes.cat/esdeveniment/en-defensa-de-la-cultura-amb-el-pen/
LOCATION:OctubreCCC\, C/ de Sant Ferran\, 12\, València\, 46001
CATEGORIES:taula rodona
END:VEVENT
BEGIN:VEVENT
DTSTART;TZID=UTC:20231214T190000
DTEND;TZID=UTC:20231214T203000
DTSTAMP:20260422T181115
CREATED:20231205T182144Z
LAST-MODIFIED:20231205T182254Z
UID:9968-1702580400-1702585800@nuriacadenes.cat
SUMMARY:Tiberi Cèsar a Vic
DESCRIPTION:Vive\, uale\, que les àligues de Tiberi Cèsar volen sobre Vic i aterraran al bell mig de la llibreria Foster & Wallace! \nAmb l’autora\, Núria Cadenes\, i tothom qui ens hi vulgui acompanyar.
URL:https://nuriacadenes.cat/esdeveniment/tiberi-cesar-a-vic/
LOCATION:llibreria Foster & Wallace\, C/ de la Riera\, 20\, Vic\, 08500
CATEGORIES:presentació
END:VEVENT
BEGIN:VEVENT
DTSTART;TZID=UTC:20231128T190000
DTEND;TZID=UTC:20231128T203000
DTSTAMP:20260422T181115
CREATED:20231102T174308Z
LAST-MODIFIED:20231102T174427Z
UID:9887-1701198000-1701203400@nuriacadenes.cat
SUMMARY:Vespre de contes a la Finestres amb Paper de Vidre
DESCRIPTION:La llibreria Finestres convida els editors de la revista digital Paper de Vidre –Guillem Miralles i Tina Vallès– a celebrar una versió més hivernal de les “Nits de Contes” estivals que fa anys que celebren a la llibreria Synusia de Terrassa. Perquè fa anys que publiquen un conte cada dimarts\, i perquè la literatura també és paraula dita en veu alta i escolta. Vindran a llegir Llucia Ramis\, Núria Cadenes\, Sebastià Perelló i Pau Vidal\, amb una selecció de contes inèdits o recuperats\, tots publicats en algun moment a www.paperdevidre.com. \n\nLlucia Ramis llegirà La distància adequada\nNúria Cadenes llegirà Tereseta-que-baixava-les-escales de Salvador Espriu\nSebastià Perelló llegirà La veu calcada\nPau Vidal llegirà Peixos grossos\, peixos petits d’Italo Calvino\n\n(Cal reservar seient. L’assignació es farà per ordre d’arribada. Si en arribar no queden seients lliures\, la seva reserva passa a ser dempeus.)
URL:https://nuriacadenes.cat/esdeveniment/vespre-de-contes-a-la-finestres-amb-paper-de-vidre/
LOCATION:Llibreria Finestres\, C/ de la Diputació\, 249\, Barcelona\, 08007
CATEGORIES:trobada
END:VEVENT
BEGIN:VEVENT
DTSTART;TZID=UTC:20231128T131500
DTEND;TZID=UTC:20231128T141500
DTSTAMP:20260422T181115
CREATED:20230723T155707Z
LAST-MODIFIED:20230723T155707Z
UID:9673-1701177300-1701180900@nuriacadenes.cat
SUMMARY:I Congrés Internacional Literatura Catalana de la Postmodernitat
DESCRIPTION:Dins dels actes del I Congrés Internacional Literatura Catalana de la Postmodernitat\, taula rodona: \nLa narrativa del meu temps \namb Núria Cadenes\, Víctor García Tur\, Empar Moliner i Jordi Puntí \nPrograma sencer
URL:https://nuriacadenes.cat/esdeveniment/i-congres-internacional-literatura-catalana-de-la-postmodernitat/
LOCATION:Aula Magna – Universitat de Barcelona\, Gran Via de les Corts Catalanes\, 585\, Barcelona\, 08007
END:VEVENT
BEGIN:VEVENT
DTSTART;TZID=UTC:20231124T193000
DTEND;TZID=UTC:20231124T203000
DTSTAMP:20260422T181115
CREATED:20231121T114701Z
LAST-MODIFIED:20231121T164701Z
UID:9930-1700854200-1700857800@nuriacadenes.cat
SUMMARY:'Tiberi Cèsar'\, a la Plaça del Llibre de Castelló
DESCRIPTION:Les àligues de Roma s’acosten al cel de Castelló de la Plana\, perquè del 24 al 26 de novembre s’hi celebra la Plaça del Llibre\, i perquè el 24\, divendres\, hi presentarem Tiberi Cèsar en conversa amb Vicent Usó.
URL:https://nuriacadenes.cat/esdeveniment/tiberi-cesar-a-la-placa-del-llibre-de-castello/
LOCATION:Llotja del Cànem\, C/ dels Cavallers\, 1\, Castelló de la Plana\, 12001
CATEGORIES:presentació
END:VEVENT
BEGIN:VEVENT
DTSTART;TZID=UTC:20231123T190000
DTEND;TZID=UTC:20231123T203000
DTSTAMP:20260422T181115
CREATED:20231115T200049Z
LAST-MODIFIED:20231121T111122Z
UID:9918-1700766000-1700771400@nuriacadenes.cat
SUMMARY:Deu anys de la Fan Set
DESCRIPTION:La llibreria Fan Set ja té deu anys d’existència i ho celebra amb una festa amb i per a la gent que fa Fan Set: hi haurà música i copa i coques i un poema infinit i escriptors i lectors i editors i llibreters i tanta gent de cultura com hi càpiga! \nÀfrica Ramírez\, Eliseu Climent\, Joan Navarro\, Rosa Raga\, Vicent Flor\, Anna Gascón\, Marc Senabre\, Núria Cadenes\, Paco Cerdà\, Magda Simó\, Gustau Muñoz\, Puri Mascarell\, Manolo Molins\, Revista Caldesa\, Víctor Labrado\, Juli Peretó\, Gemma Pasqual\, Pere Císcar\, Imma López Pavía\, Marc Granell\, Isabel Robles\, Josep Mir\, Aina Garcia Carbó\, Jaume Pérez Montaner\, Susanna Lliberós\, Josep Micó\, Veronika Paulics\, Jordi Vintró\, Rosa Sabater\, Miquel Català\, Maria Josep Escrivà\, Teresa Pascual\, Jaume C. Pons Alorda\, Rubén Luzón i molts més!
URL:https://nuriacadenes.cat/esdeveniment/deu-anys-de-la-fan-set/
LOCATION:llibreria Fan Set\, C/ de Sant Ferran\, 12\, València\, 46001
CATEGORIES:trobada
END:VEVENT
BEGIN:VEVENT
DTSTART;TZID=UTC:20231117T200000
DTEND;TZID=UTC:20231117T213000
DTSTAMP:20260422T181115
CREATED:20231113T104557Z
LAST-MODIFIED:20231113T104557Z
UID:9913-1700251200-1700256600@nuriacadenes.cat
SUMMARY:A Ciutadella\, literatura contra el feixisme
DESCRIPTION:Dins del cicle vaDcultura\, que organitza la llibreria vaDllibres\, i a propòsit de la novel·la Guillem (Amsterdam)\, parlarem de la força que pot tenir\, que té\, la literatura a l’hora de plantar cara al feixisme. No només la literatura però també la literatura.
URL:https://nuriacadenes.cat/esdeveniment/a-ciutadella-literatura-contra-el-feixisme/
LOCATION:vaDllibres\, C/ de sa Carnisseria\, 24\, Ciutadella\, 07760
CATEGORIES:conferència
END:VEVENT
BEGIN:VEVENT
DTSTART;TZID=UTC:20231114T190000
DTEND;TZID=UTC:20231114T203000
DTSTAMP:20260422T181115
CREATED:20231022T131656Z
LAST-MODIFIED:20231022T131759Z
UID:9831-1699988400-1699993800@nuriacadenes.cat
SUMMARY:A València\, 'Tiberi Cèsar' té presentació i sopar
DESCRIPTION:La presentació de Tiberi Cèsar a València també serà especial. \nPerquè hi haurà una conversa de l’escriptora Raquel Ricart i de l’editor de Proa\, Jordi Rourera\, amb l’autora\, Núria Cadenes. \nPerquè l’actriu Pilar Almeria hi llegirà alguns textos de la novel·la. \nI perquè\, en acabat\, qui ho vulgui i prèvia inscripció (aquí)\, podrà degustar un sopar romà dissenyat per la investigadora del patrimoni culinari Núria Bàguena i elaborat pels responsables de la cafeteria OctubreCCC.
URL:https://nuriacadenes.cat/esdeveniment/a-valencia-tiberi-cesar-te-presentacio-i-sopar/
LOCATION:llibreria Fan Set\, C/ de Sant Ferran\, 12\, València\, 46001
CATEGORIES:presentació
END:VEVENT
BEGIN:VEVENT
DTSTART;TZID=UTC:20231111T120000
DTEND;TZID=UTC:20231111T133000
DTSTAMP:20260422T181115
CREATED:20231104T184614Z
LAST-MODIFIED:20231104T184614Z
UID:9899-1699704000-1699709400@nuriacadenes.cat
SUMMARY:Tiberi passejarà per Empúries
DESCRIPTION:La memòria de Tiberi Cèsar\, ho farà\, això de passejar. L’evocació convertida en literatura. \nNúria Cadenes\, en conversa amb la llibretera Gemma Garcia\, presentarà la novel·la a les ruïnes de la històrica ciutat.
URL:https://nuriacadenes.cat/esdeveniment/tiberi-passejara-per-empuries/
LOCATION:Biblioteca del MAC Empúries\, C/ de Puig i Cadafalch\, s/n\, L'Escala\, 17130
CATEGORIES:presentació
END:VEVENT
BEGIN:VEVENT
DTSTART;TZID=UTC:20231110T190000
DTEND;TZID=UTC:20231110T203000
DTSTAMP:20260422T181115
CREATED:20231007T185423Z
LAST-MODIFIED:20231109T192414Z
UID:9789-1699642800-1699648200@nuriacadenes.cat
SUMMARY:'Tiberi Cèsar'\, a Mataró
DESCRIPTION:Presentació de Tiberi Cèsar (Proa) a Dòria Llibres. \nAmb l’autora\, Núria Cadenes\, i amb l’historiador Víctor Ligos.
URL:https://nuriacadenes.cat/esdeveniment/tiberi-cesar-a-mataro/
LOCATION:Dòria Llibres\, C/ de la Riera\, 100\, Mataró\, 08302
CATEGORIES:presentació
END:VEVENT
END:VCALENDAR