BEGIN:VCALENDAR
VERSION:2.0
PRODID:-//Núria Cadenes - ECPv6.15.20//NONSGML v1.0//EN
CALSCALE:GREGORIAN
METHOD:PUBLISH
X-WR-CALNAME:Núria Cadenes
X-ORIGINAL-URL:https://nuriacadenes.cat
X-WR-CALDESC:Esdeveniments per Núria Cadenes
REFRESH-INTERVAL;VALUE=DURATION:PT1H
X-Robots-Tag:noindex
X-PUBLISHED-TTL:PT1H
BEGIN:VTIMEZONE
TZID:UTC
BEGIN:STANDARD
TZOFFSETFROM:+0000
TZOFFSETTO:+0000
TZNAME:UTC
DTSTART:20240101T000000
END:STANDARD
END:VTIMEZONE
BEGIN:VEVENT
DTSTART;TZID=UTC:20260420T190000
DTEND;TZID=UTC:20260420T203000
DTSTAMP:20260421T195635
CREATED:20260122T193745Z
LAST-MODIFIED:20260122T193745Z
UID:12347-1776711600-1776717000@nuriacadenes.cat
SUMMARY:A Terrassa\, "Una panoràmica de la nova narrativa catalana del segle XXI"
DESCRIPTION:L’Escola de Literatura de Terrassa ha organitzat tres sessions literàries amb el títol “Una panoràmica de la nova narrativa catalana del segle XXI”. Diàleg entre els assistents i els escriptors Joan Todó (13 d’abril)\, Núria Cadenes (20 d’abril) i Roser Cabré-Verdiell (27 d’abril). Guillem Miralles\, coeditor de Paper de Vidre\, en serà l’entrevistador.
URL:https://nuriacadenes.cat/esdeveniment/a-terrassa-una-panoramica-de-la-nova-narrativa-catalana-del-segle-xxi/
LOCATION:Amics de les Arts i Joventurs Musicals\, C/ del Teatre\, 2\, Terrassa\, 08221
CATEGORIES:trobada
END:VEVENT
BEGIN:VEVENT
DTSTART;TZID=UTC:20260419T120000
DTEND;TZID=UTC:20260419T133000
DTSTAMP:20260421T195635
CREATED:20260414T173322Z
LAST-MODIFIED:20260414T173322Z
UID:12548-1776600000-1776605400@nuriacadenes.cat
SUMMARY:'Qui salva una vida'\, a Ger!
DESCRIPTION:A Ger\, el poble on va néixer Joan Domènech\, que és fil principal i causa de la novel·la\, a la Sala de Plens de l’Ajuntament\, hi presentarem Qui salva una vida. Escriure-ho ja és emocionant.
URL:https://nuriacadenes.cat/esdeveniment/qui-salva-una-vida-a-ger/
LOCATION:Ajuntament de Ger\, C/ dels Quatre Cantons\, Ger\, 17539
CATEGORIES:presentació
END:VEVENT
BEGIN:VEVENT
DTSTART;TZID=UTC:20260418T190000
DTEND;TZID=UTC:20260418T203000
DTSTAMP:20260421T195635
CREATED:20260330T100737Z
LAST-MODIFIED:20260330T100737Z
UID:12537-1776538800-1776544200@nuriacadenes.cat
SUMMARY:'Qui salva una vida'\, a Puigcerdà!
DESCRIPTION:Una emoció gran: Qui salva una vida arriba a la terra de mossèn Joan\, a la vila que va viure i veure els fets que s’hi conten. \nPresentació amb l’autora\, Núria Cadenes\, i amb la directora de l’Arxiu Comarcal de la Cerdanya\, Erola Simon. \nA més a més\, degustació d’una copa d’escumós i cerdans.
URL:https://nuriacadenes.cat/esdeveniment/qui-salva-una-vida-a-puigcerda/
LOCATION:Sala Pilar Prim (Biblioteca Comtat de Cerdanya)\, C/ del Claustre\, 12\, Puigcerdà\, 17520
CATEGORIES:presentació
END:VEVENT
BEGIN:VEVENT
DTSTART;TZID=UTC:20260331T190000
DTEND;TZID=UTC:20260331T203000
DTSTAMP:20260421T195635
CREATED:20260327T094140Z
LAST-MODIFIED:20260330T095112Z
UID:12529-1774983600-1774989000@nuriacadenes.cat
SUMMARY:'Qui salva una vida'\, a Sant Pere de Ribes
DESCRIPTION:Una trobada amb la gent que viu dins de la novel·la Qui salva una vida\, la vida dura i les decisions i l’esperança\, del braç de la seva autora\, Núria Cadenes.
URL:https://nuriacadenes.cat/esdeveniment/qui-salva-una-vida-a-sant-perer-de-ribes/
LOCATION:Llibreria cooperativa Gabaldà\, Plaça de la Vila\, 8\, Sant Pere de Ribes\, 08810
CATEGORIES:presentació
END:VEVENT
BEGIN:VEVENT
DTSTART;TZID=UTC:20260330T190000
DTEND;TZID=UTC:20260330T203000
DTSTAMP:20260421T195635
CREATED:20260327T092943Z
LAST-MODIFIED:20260330T095322Z
UID:12523-1774897200-1774902600@nuriacadenes.cat
SUMMARY:'Qui salva una vida'\, al Castell de Vila-seca
DESCRIPTION:El Castell de Vila-seca acull un cicle literari per acomboiar Sant Jordi\, amb Vicenç Villatoro\, Pere Rovira\, Àlex Susanna\, Esmeralda Oliver o Agnès Marquès. \nEl 30 de març hi serà Núria Cadenes per a presentar-hi la novel·la Qui salva una vida. A més a més\, hi haurà actuació musical a càrrec d’alumnes del Conservatori!
URL:https://nuriacadenes.cat/esdeveniment/qui-salva-una-vida-al-castell-de-vila-seca/
LOCATION:Castell de Vila-seca\, C/ del Castell\, 38\, Vila-seca\, 43480
CATEGORIES:presentació
END:VEVENT
BEGIN:VEVENT
DTSTART;TZID=UTC:20260327T190000
DTEND;TZID=UTC:20260327T203000
DTSTAMP:20260421T195635
CREATED:20260325T194158Z
LAST-MODIFIED:20260325T194158Z
UID:12517-1774638000-1774643400@nuriacadenes.cat
SUMMARY:'Qui salva una vida'\, a Algemesí
DESCRIPTION:Presentació de la novel·la Qui salva una vida\, de Núria Cadenes. Acompanyarà l’autora Josep Bermúdez\, de Més Algemesí.
URL:https://nuriacadenes.cat/esdeveniment/qui-salva-una-vida-a-algemesi/
LOCATION:Seu de Més Algemesí\, C/ de Sant Josep de Calassanç\, 18\, baix\, Algemesí\, 46680
CATEGORIES:presentació
END:VEVENT
BEGIN:VEVENT
DTSTART;TZID=UTC:20260321T120000
DTEND;TZID=UTC:20260321T133000
DTSTAMP:20260421T195635
CREATED:20260113T181342Z
LAST-MODIFIED:20260113T181409Z
UID:12309-1774094400-1774099800@nuriacadenes.cat
SUMMARY:Vermut literari a Cardedeu amb 'Qui salva una vida'
DESCRIPTION:Torna el Vermut Literati: les trobades a l’Espai Cultural i Gastronòmic Tarambana de Cardedeu han arribat a l’edició que fa deu i encaren nou trimestre: amb Ada Parellada i Andreu Vilà\, celebració de vint anys de Tarambana (25 de gener\, diumenge); amb Núria Busquet\, Fam (14 de febrer\, dissabte); i amb Núria Cadenes\, Qui salva una vida (21 de març\, dissabte)
URL:https://nuriacadenes.cat/esdeveniment/vermut-literari-a-cardedeu-amb-qui-salva-una-vida/
LOCATION:Tarambana Espai Cultural i Gastronòmic\, C/ Bellsolar\, s/n\, Cardedeu\, 08440
CATEGORIES:presentació
END:VEVENT
BEGIN:VEVENT
DTSTART;TZID=UTC:20260320T193000
DTEND;TZID=UTC:20260320T210000
DTSTAMP:20260421T195635
CREATED:20260312T191332Z
LAST-MODIFIED:20260312T191332Z
UID:12505-1774035000-1774040400@nuriacadenes.cat
SUMMARY:Tertúlia a La Històrica de Calonge
DESCRIPTION:Un acte per resseguir els camins de solidaritat durant la Segona Guerra Mundial: la Tertúlia Històrica “Camins de silenci” parlarà de les xarxes d’evasió als Pirineus\, amb l’escriptora Núria Cadenes\, autora de Qui salva una vida\, i l’historiador Jordi Vilar. \nActivitat gratuïta amb reserva necessària: historica.llibreria@gmail.com
URL:https://nuriacadenes.cat/esdeveniment/tertulia-a-la-historica-de-calonge/
LOCATION:Sala Fontova\, C/ d'Anselm Clavé\, 1\, Calonge\, 17251
CATEGORIES:taula rodona
END:VEVENT
BEGIN:VEVENT
DTSTART;TZID=UTC:20260318T190000
DTEND;TZID=UTC:20260318T203000
DTSTAMP:20260421T195635
CREATED:20260218T114536Z
LAST-MODIFIED:20260218T114617Z
UID:12431-1773860400-1773865800@nuriacadenes.cat
SUMMARY:Amb les 'Terres bàrbares' de Vicent Flor\, a Barcelona
DESCRIPTION:La nova novel·la de Vicent Flor ens endinsa a les Terres bàrbares i arriba a Barcelona amb força i voluntat de resistència\, de victòria. \nL’escriptora Núria Cadenes¡ i el periodista Vicent Sanchis\, acompanyaran l’autor en aquesta presentació.
URL:https://nuriacadenes.cat/esdeveniment/amb-les-terres-barbares-de-vicent-flor-a-barcelona/
LOCATION:llibreria Ona\, C/ de Pau Claris\, 94\, Barcelona\, 08010
CATEGORIES:presentació
END:VEVENT
BEGIN:VEVENT
DTSTART;TZID=UTC:20260311T183000
DTEND;TZID=UTC:20260311T200000
DTSTAMP:20260421T195635
CREATED:20260215T113443Z
LAST-MODIFIED:20260215T113443Z
UID:12426-1773253800-1773259200@nuriacadenes.cat
SUMMARY:Club de lectura a Torrent: 'Qui salva una vida'
DESCRIPTION:El Club de Lectura en Valencià a Torrent s’endinsa en els camins de Qui salva una vida. Posada en comú i col·loqui amb Núria Cadenes\, a Nova Llibres.
URL:https://nuriacadenes.cat/esdeveniment/club-de-lectura-a-torrent-qui-salva-una-vida/
LOCATION:Nova Llibres\, C/ del Pare Méndez\, 83\, Torrent\, 46900
CATEGORIES:club de lectura
END:VEVENT
BEGIN:VEVENT
DTSTART;TZID=UTC:20260302T193000
DTEND;TZID=UTC:20260302T210000
DTSTAMP:20260421T195635
CREATED:20260227T202001Z
LAST-MODIFIED:20260227T202001Z
UID:12458-1772479800-1772485200@nuriacadenes.cat
SUMMARY:'Objetos perdidos'\, de Carlos Zanón\, a València
DESCRIPTION:Diu Carlos Zanón que tots som a dues passes de desaparèixer i ser l’objecte perdut d’algú. Ho diu en forma de llibre\, magistralment\, en aquest Objetos perdidos (Salamandra) que  presentarà a València acompanyat de Núria Cadenes.
URL:https://nuriacadenes.cat/esdeveniment/objetos-perdidos-de-carlos-zanon-a-valencia/
LOCATION:llibreria Bartleby\, C/ de Cadis\, 50\, València\, 46004
CATEGORIES:presentació
END:VEVENT
BEGIN:VEVENT
DTSTART;TZID=UTC:20260219T190000
DTEND;TZID=UTC:20260219T203000
DTSTAMP:20260421T195635
CREATED:20260218T115555Z
LAST-MODIFIED:20260218T115555Z
UID:12435-1771527600-1771533000@nuriacadenes.cat
SUMMARY:Club de lectura a Carcaixent: 'Qui salva una vida'
DESCRIPTION:Al club de lectura de la Llibreria de Carcaixent\, Qui salva una vida\, de Núria Cadenes\, amb la participació de l’autora.
URL:https://nuriacadenes.cat/esdeveniment/club-de-lectura-a-carcaixent-qui-salva-una-vida/
LOCATION:Llibreria Carcaixent\, C/ de Ramón y Cajal\, 53\, Carcaixent\, 46740
CATEGORIES:club de lectura
END:VEVENT
BEGIN:VEVENT
DTSTART;TZID=UTC:20260217T190000
DTEND;TZID=UTC:20260217T203000
DTSTAMP:20260421T195635
CREATED:20260212T111020Z
LAST-MODIFIED:20260212T111020Z
UID:12399-1771354800-1771360200@nuriacadenes.cat
SUMMARY:Pasolini a València\, amb Eloi Creus
DESCRIPTION:Eloi Creus ha traduït les poesies furlanes de Pier Paolo Pasolini al volum La nova joventut (Godall Edicions)\, i ho celebrarem a la Fan Set amb l’escriptora Núria Cadenes i el poeta Pau Sif.
URL:https://nuriacadenes.cat/esdeveniment/pasolini-a-valencia-amb-eloi-creus/
LOCATION:llibreria Fan Set\, C/ de Sant Ferran\, 12\, València\, 46001
CATEGORIES:presentació
END:VEVENT
BEGIN:VEVENT
DTSTART;TZID=UTC:20260212T193000
DTEND;TZID=UTC:20260212T210000
DTSTAMP:20260421T195635
CREATED:20260130T185458Z
LAST-MODIFIED:20260130T194646Z
UID:12382-1770924600-1770930000@nuriacadenes.cat
SUMMARY:'Qui salva una vida'\, a Ontinyent
DESCRIPTION:Qui salva una vida arriba a Ontinyent del braç d’Acció Cultural del País Valencià: presentació de la novel·la amb l’autora\, Núria Cadenes\, i amb Joan Enric Valiente\, president del Cine Club Utiye.
URL:https://nuriacadenes.cat/esdeveniment/qui-salva-una-vida-a-ontinyent/
LOCATION:Sala Previsora de la Fundació Caixa Ontinyent\, C/ Gomis\, 3\, Ontinyent\, 46870
CATEGORIES:presentació
END:VEVENT
BEGIN:VEVENT
DTSTART;TZID=UTC:20260205T190000
DTEND;TZID=UTC:20260205T200000
DTSTAMP:20260421T195635
CREATED:20260122T195526Z
LAST-MODIFIED:20260122T195526Z
UID:12352-1770318000-1770321600@nuriacadenes.cat
SUMMARY:Al club de lectura del Quadern\, 'Qui salva una vida'
DESCRIPTION:Si per parlar amb Mercè Ibarz a la sessió de gener del club de lectura vam haver de retrocedir en el temps —50anys\, per situar-nos al final del franquisme i l’inici de la transició—\, amb Núria Cadenes ho farem encara més. Dijous 5 de febrer\, com sempre\, a l’estudi Toresky (Casp\, 6) vindrà a conversar amb els lectors sobre la novel·la Qui salva una vida\, premi Proa de Novel·la 2025\, que relata una història vinculada a les xarxes d’evasió que\, durant la Segona Guerra Mundial\, van organitzar-se a la Cerdanya per salvar tota mena de fugitius del feixisme. S’hi poden inscriure en aquest enllaç o bé enviant un correu amb el subjecte “Club Cadenes” a quadern@elpais.es.
URL:https://nuriacadenes.cat/esdeveniment/al-club-de-lectura-del-quadern-qui-salva-una-vida/
LOCATION:Estudi Toresky\, C/ de Casp\, 6\, Barcelona\, 08010
CATEGORIES:club de lectura
END:VEVENT
BEGIN:VEVENT
DTSTART;TZID=UTC:20260204T190000
DTEND;TZID=UTC:20260204T200000
DTSTAMP:20260421T195635
CREATED:20260122T201548Z
LAST-MODIFIED:20260203T174834Z
UID:12360-1770231600-1770235200@nuriacadenes.cat
SUMMARY:A la BCNegra\, la versemblança i la veritat
DESCRIPTION:Al Festival BCNegra\, que enguany duu per lema “Malavida”\, hi haurà una taula rodona per parlar de la fina línia que separa i que uneix versemblança i veritat. Amb Núria Cadenes\, Gianrico Carofiglio i Beatriz García Guirado. Conduirà l’acte Pere Sureda. \nhttps://elpais.com/espana/catalunya/2026-01-19/el-bcnegra-reivindica-la-malavida-en-su-21a-edicion.html \nhttps://www.vilaweb.cat/noticies/bcnegra-o-que-la-mort-ens-atrapi-llegint/ \n  \n 
URL:https://nuriacadenes.cat/esdeveniment/a-la-bcnegra-la-versemblanca-i-la-veritat/
LOCATION:La Paloma\, C/ del Tigre\, 27\, Barcelona\, 08001
CATEGORIES:taula rodona
END:VEVENT
BEGIN:VEVENT
DTSTART;TZID=UTC:20260115T193000
DTEND;TZID=UTC:20260115T210000
DTSTAMP:20260421T195635
CREATED:20260107T202125Z
LAST-MODIFIED:20260107T202125Z
UID:12259-1768505400-1768510800@nuriacadenes.cat
SUMMARY:Converses a Biblioteca: a Xàtiva\, 'Qui salva una vida'
DESCRIPTION:Les Converses a la Biblioteca de Xàtiva acullen la presentació de Qui salva una vida\, de Núria Cadenes.
URL:https://nuriacadenes.cat/esdeveniment/converses-a-biblioteca-a-xativa-qui-salva-una-vida/
LOCATION:Biblioteca Municipal Miguel Bordonau\, Albereda de Jaume I\, 56\, Xàtiva\, 46800
CATEGORIES:presentació
END:VEVENT
BEGIN:VEVENT
DTSTART;TZID=UTC:20260114T190000
DTEND;TZID=UTC:20260114T203000
DTSTAMP:20260421T195635
CREATED:20260105T123039Z
LAST-MODIFIED:20260105T123039Z
UID:12230-1768417200-1768422600@nuriacadenes.cat
SUMMARY:Els Nobel a l'Espai Ciència: parlem de László Krasznahorkai
DESCRIPTION:Amb el començament d’any arriba el cicle dels premis Nobel que organitza l’Espai Ciència de l’OctubreCCC. László Krasznahorkai  ha merescut el Nobel de Literatura “per la seua obra convincent i visionària que\, enmig del terror apocalíptic\, reafirma el poder de l’art”. \nEn parlarà Carles Dachs\, traductor al català de l’obra de László Krasznahorkai\, en un acte presentat i moderat per l’escriptora Núria Cadenes.
URL:https://nuriacadenes.cat/esdeveniment/els-nobel-a-lespai-ciencia-parlem-de-laszlo-krasznahorkai/
LOCATION:OctubreCCC\, C/ de Sant Ferran\, 12\, València\, 46001
CATEGORIES:conferència
END:VEVENT
BEGIN:VEVENT
DTSTART;TZID=UTC:20251218T190000
DTEND;TZID=UTC:20251218T203000
DTSTAMP:20260421T195635
CREATED:20251216T163257Z
LAST-MODIFIED:20251216T163328Z
UID:12190-1766084400-1766089800@nuriacadenes.cat
SUMMARY:'Qui salva una vida'\, a Andorra la Vella
DESCRIPTION:I al costat de l’escriptor Albert Villaró: coses belles que passen al desembre. Presentació de Qui salva una vida a la llibreria La Trenca\, d’Andorra la Vella.
URL:https://nuriacadenes.cat/esdeveniment/qui-salva-una-vida-a-andorra-la-vella/
LOCATION:llibreria La Trenca\, plaça Rebés\, 4\, Andorra la Vella\, Andorra\, AD500
CATEGORIES:presentació
END:VEVENT
BEGIN:VEVENT
DTSTART;TZID=UTC:20251217T190000
DTEND;TZID=UTC:20251217T203000
DTSTAMP:20260421T195635
CREATED:20251216T165505Z
LAST-MODIFIED:20251216T165505Z
UID:12196-1765998000-1766003400@nuriacadenes.cat
SUMMARY:La càpsula del temps del PEN
DESCRIPTION:La càpsula del temps del PEN\, un acte d’esperança en els anys que ens esperen. \nBenvinguda d’Eugènia Serra\, directora de la Biblioteca de Catalunya\, i de Dani Vilaró\, vicepresident del PEN Català. \nAmb Biel Mesquida\, ambaixador del PEN del 2025\, Núria Cadenes\, ambaixadora del PEN 2026 i Toni Clapés.
URL:https://nuriacadenes.cat/esdeveniment/la-capsula-del-temps-del-pen/
LOCATION:Biblioteca de Catalunya\, C/ de l'Hospital\, 56\, Barcelona\, 08001
CATEGORIES:trobada
END:VEVENT
BEGIN:VEVENT
DTSTART;TZID=UTC:20251211T190000
DTEND;TZID=UTC:20251211T200000
DTSTAMP:20260421T195635
CREATED:20251121T095743Z
LAST-MODIFIED:20251121T095743Z
UID:12164-1765479600-1765483200@nuriacadenes.cat
SUMMARY:'Qui salva una vida'\, presentació a Barcelona
DESCRIPTION:Qui salva una vida arriba a Barcelona! \nEl darrer Premi Proa de Novel·la es presenta a la llibreria Ona: serà una conversa entre Núria Cadenes\, Xavier Antich\, president l’Òmnium Cultural\, i la periodista i escriptora Marta Vives  Tot això\, conduït per l’escriptora Iolanda Batallé.
URL:https://nuriacadenes.cat/esdeveniment/qui-salva-una-vida-presentacio-a-barcelona/
LOCATION:llibreria Ona\, C/ de Pau Claris\, 94\, Barcelona\, 08010
CATEGORIES:presentació
END:VEVENT
BEGIN:VEVENT
DTSTART;TZID=UTC:20251209T193000
DTEND;TZID=UTC:20251209T203000
DTSTAMP:20260421T195635
CREATED:20251121T094814Z
LAST-MODIFIED:20251121T094814Z
UID:12161-1765308600-1765312200@nuriacadenes.cat
SUMMARY:'Qui salva una vida' es presenta a València
DESCRIPTION:Serà la primera presentació de totes i es farà a València: Núria Cadenes presenta Qui salva una vida\, Premi Proa de Novel·la\, en conversa amb el magistrat Joaquim Bosch i amb l’escriptor Paco Cerdà.
URL:https://nuriacadenes.cat/esdeveniment/qui-salva-una-vida-es-presenta-a-valencia/
LOCATION:llibreria Fan Set\, C/ de Sant Ferran\, 12\, València\, 46001
CATEGORIES:presentació
END:VEVENT
BEGIN:VEVENT
DTSTART;TZID=UTC:20251208T133000
DTEND;TZID=UTC:20251208T140000
DTSTAMP:20260421T195635
CREATED:20251208T093425Z
LAST-MODIFIED:20251208T093425Z
UID:12180-1765200600-1765202400@nuriacadenes.cat
SUMMARY:'Guillem'\, en euskera\, a Durango
DESCRIPTION:Guillem ja existeix en euskera! Gràcies a la traducció que n’ha fet Amaia Apalauza i que edita Txalaparta\, la novel·la ja compta amb un nou idioma per a explicar-se al món. La primera presentació serà a la Durangoko Azoka\, la Fira del Llibre i del Disc Basc de Durango.
URL:https://nuriacadenes.cat/esdeveniment/guillem-en-euskera-a-durango/
LOCATION:Durangoko Azoka\, Landako Etorbidea\, 6\, Durango\, 48200
CATEGORIES:presentació
END:VEVENT
BEGIN:VEVENT
DTSTART;TZID=UTC:20251121T193000
DTEND;TZID=UTC:20251121T210000
DTSTAMP:20260421T195635
CREATED:20251031T183452Z
LAST-MODIFIED:20251031T183452Z
UID:11646-1763753400-1763758800@nuriacadenes.cat
SUMMARY:A Pego\, 'En carn i ossos'
DESCRIPTION:Els relats que conformen En carn i ossos (Ara Llibres) arriben a Pego (Marina Alta) en una presentació-conversa entre els escriptors Núria Cadenes\, que n’és l’autora\, i Tomàs Llopis.
URL:https://nuriacadenes.cat/esdeveniment/a-pego-en-carn-i-ossos/
LOCATION:Biblioteca Carmen Alemany Bay\, C/ de Cervantes\, 8\, Pego\, 03780
CATEGORIES:presentació
END:VEVENT
BEGIN:VEVENT
DTSTART;TZID=UTC:20251120T190000
DTEND;TZID=UTC:20251120T203000
DTSTAMP:20260421T195635
CREATED:20251120T165027Z
LAST-MODIFIED:20251120T165027Z
UID:12156-1763665200-1763670600@nuriacadenes.cat
SUMMARY:A Torrent Històrica\, amb 'Tiberi Cèsar' i les contradiccions del poder
DESCRIPTION:La conquesta del poder és tan vella com el món\, una lluita que no s’acaba mai. Què passa quan algñu aconsegueix el poder més gran al qual pot aspirar? Com el pot mantenir? Quins mecanismes se succeeixen en aquesta eterna lluita? L’amor i els sentiments hi tenen espai\, en aquest joc? Núria Cadenes\, amb la seva novel·la Tiberi Cèsar\, i Rosario Raro\, amb La novia de la paz\, conversaran sobre aquestes qüestions en el marc del Torrent Històrica\, el Festival de Novel·la Històrica de Torrent.
URL:https://nuriacadenes.cat/esdeveniment/a-torrent-historica-amb-tiberi-cesar-i-les-contradiccions-del-poder/
LOCATION:Sala d’actes – Ajuntament de Torrent\, C/ de Ramón y Cajal\, 1\, Torrent\, 46900
CATEGORIES:taula rodona
END:VEVENT
BEGIN:VEVENT
DTSTART;TZID=UTC:20251114T190000
DTEND;TZID=UTC:20251114T203000
DTSTAMP:20260421T195635
CREATED:20251113T192924Z
LAST-MODIFIED:20251114T124118Z
UID:12134-1763146800-1763152200@nuriacadenes.cat
SUMMARY:'Prosa de combat': Pedrolo a València
DESCRIPTION:Júlia Ojeda\, crítica literària i investigadora a la UIB\, ha seleccionat alguns dels escrits polítics de Manuel de Pedrolo i els ha ordenat en aquest volum editat per Comanegra\, Prosa de combat\, que ha esdevingut un imprescindible ara i aquí. Núria Cadenes l’acompanyarà en la presentació.
URL:https://nuriacadenes.cat/esdeveniment/prosa-de-combat-pedrolo-a-valencia/
LOCATION:llibreria Fan Set\, C/ de Sant Ferran\, 12\, València\, 46001
CATEGORIES:presentació
END:VEVENT
BEGIN:VEVENT
DTSTART;TZID=UTC:20251112T120000
DTEND;TZID=UTC:20251112T140000
DTSTAMP:20260421T195635
CREATED:20251111T112455Z
LAST-MODIFIED:20251111T112455Z
UID:12128-1762948800-1762956000@nuriacadenes.cat
SUMMARY:A la Universitat d'Alacant\, 'En carn i ossos'
DESCRIPTION:Per conversar sobre les històries i els personatges i la manera de trenar-los en literatura\, sobre influències i aspiracions i tant com se’ns acudeixi\, una trobada amb l’alumnat del Departament de Filologia Catalana. A propòsit del llibre de contes En carn i ossos.
URL:https://nuriacadenes.cat/esdeveniment/a-la-universitat-dalacant-en-carn-i-ossos/
LOCATION:Biblioteca Institut Interuniversitari de Filologia Valenciana – Universitat d’Alacant\, C/ de Sant Vicent del Raspeig\, s/n\, Sant Vicent del Raspeig\, 03690
CATEGORIES:trobada
END:VEVENT
BEGIN:VEVENT
DTSTART;TZID=UTC:20251107T190000
DTEND;TZID=UTC:20251107T203000
DTSTAMP:20260421T195635
CREATED:20251031T182353Z
LAST-MODIFIED:20251031T183636Z
UID:11641-1762542000-1762547400@nuriacadenes.cat
SUMMARY:'Ingrata pàtria'\, de Martí Domínguez\, a Paiporta
DESCRIPTION:Joan Baptista Peset\, rector de la Universitat de València\, va ser afusellat a Paterna el 24 de maig de l’any 1941. Martí Domínguez n’ha novel·lat les darreres hores en una obra a moltes veus. És Ingrata pàtria (Proa) i es presentarà a Paiporta (Horta Sud) en conversa de l’autor amb Núria Cadenes.
URL:https://nuriacadenes.cat/esdeveniment/ingrata-patria-de-marti-dominguez-a-paiporta/
LOCATION:llibreria La Moixeranga\, Plaça de l'Església de Sant Jordi\, 3\, Paiporta\, 46200
CATEGORIES:presentació
END:VEVENT
BEGIN:VEVENT
DTSTART;TZID=UTC:20251016T183000
DTEND;TZID=UTC:20251016T200000
DTSTAMP:20260421T195635
CREATED:20250908T102248Z
LAST-MODIFIED:20250908T102855Z
UID:11559-1760639400-1760644800@nuriacadenes.cat
SUMMARY:'El carn i ossos' a la Punt i apart: club de lectura
DESCRIPTION:El club de lectura de la llibreria Punt i apart dedica l’octubre als 12 + 1 relats que hi ha a En carn i ossos\, de Núria Cadenes. \nUna trobada amb l’autora i oberta a tothom amb inscripció prèvia (aforament limitat): 9341900007 – 630205503 – punt@puintiapart.net \nMés informació: https://puntiapart.club/2025/06/19/club-de-lectura-en-carn-i-ossos/ \n 
URL:https://nuriacadenes.cat/esdeveniment/el-carn-i-ossos-a-la-punt-i-apart-club-de-lectura/
LOCATION:llibreria Punt i apart\, C/ del Comte Borrell\, 225\, Barcelona\, 08029
CATEGORIES:club de lectura
END:VEVENT
BEGIN:VEVENT
DTSTART;TZID=UTC:20251009T190000
DTEND;TZID=UTC:20251009T203000
DTSTAMP:20260421T195635
CREATED:20251003T100616Z
LAST-MODIFIED:20251003T101533Z
UID:11581-1760036400-1760041800@nuriacadenes.cat
SUMMARY:A Lleida\, l'estat de les lletres catalanes
DESCRIPTION:Dins dels actes de Sant Miquel de les Lletres\, que ofereixen debats\, conferències\, concerts\, demostracions de cuina lligades als llibres\, contacontes\, el mercadet del llibre a la plaça de la Catedral o el vermut literari\, taula rodona sobre “L’estat de les lletres catalanes” moderada per Annabel Ramos: amb Núria Cadenes (escriptora)\, Pep Coll (escriptor)\, Carlota Gurt (escriptora) i Jordi Souto (llibreter i editor).
URL:https://nuriacadenes.cat/esdeveniment/lestat-de-les-lletres-catalanes/
LOCATION:Institut d’Estudis Ilerdencs – Aula Magna\, Plaça de la Catedral\, s/n\, Lleida\, 25002
CATEGORIES:taula rodona
END:VEVENT
END:VCALENDAR